BEGIN:VCALENDAR
VERSION:2.0
PRODID:-//QuickScores.com//BQ Dynamic iCal Creator//EN
METHOD:PUBLISH
X-WR-CALNAME:Work Athletics - 2/3rd Grade Boys - Spring Basketball League
X-WR-CALDESC:QuickScores game calendar
X-PUBLISHED-TTL:PT24H
REFRESH-INTERVAL;VALUE=DURATION:PT24H
CALSCALE:GREGORIAN
BEGIN:VTIMEZONE
TZID:America/Phoenix
X-LIC-LOCATION:America/Phoenix
BEGIN:STANDARD
TZNAME:MST
TZOFFSETFROM:-0700
TZOFFSETTO:-0700
DTSTART:19700101T000000
END:STANDARD
END:VTIMEZONE
BEGIN:VEVENT
UID:legacyyouthsports-73184027-20260328T085500@quickscores.com
DTSTAMP:20260419T111900Z
DTSTART;TZID=America/Phoenix:20260328T085500
DURATION:PT0H55M0S
SUMMARY:FYG vs. Work Athletics
DESCRIPTION:2/3rd Grade Boys - Legacy Youth Sports
LOCATION:Edurpize
CATEGORIES:QuickScores, Basketball Game
TRANSP:OPAQUE
BEGIN:VALARM
TRIGGER:-PT2H
ACTION:DISPLAY
DESCRIPTION:FYG vs. Work Athletics
END:VALARM
END:VEVENT
BEGIN:VEVENT
UID:legacyyouthsports-74324549-20260411T085500@quickscores.com
DTSTAMP:20260419T111900Z
DTSTART;TZID=America/Phoenix:20260411T085500
DURATION:PT0H55M0S
SUMMARY:Work Athletics vs. Super Sayians
DESCRIPTION:Number 3 with 18 points from Super Sayians --- 2/3rd Grade Boys - Legacy Youth Sports
LOCATION:Edurpize
CATEGORIES:QuickScores, Basketball Game
TRANSP:OPAQUE
BEGIN:VALARM
TRIGGER:-PT2H
ACTION:DISPLAY
DESCRIPTION:Work Athletics vs. Super Sayians
END:VALARM
END:VEVENT
END:VCALENDAR
