BEGIN:VCALENDAR
VERSION:2.0
PRODID:-//QuickScores.com//BQ Dynamic iCal Creator//EN
METHOD:PUBLISH
X-WR-CALNAME:Phoenix Force Black - 7th Grade Boys - Spring Basketball League
X-WR-CALDESC:QuickScores game calendar
X-PUBLISHED-TTL:PT24H
REFRESH-INTERVAL;VALUE=DURATION:PT24H
CALSCALE:GREGORIAN
BEGIN:VTIMEZONE
TZID:America/Phoenix
X-LIC-LOCATION:America/Phoenix
BEGIN:STANDARD
TZNAME:MST
TZOFFSETFROM:-0700
TZOFFSETTO:-0700
DTSTART:19700101T000000
END:STANDARD
END:VTIMEZONE
BEGIN:VEVENT
UID:legacyyouthsports-73185356-20260314T152000@quickscores.com
DTSTAMP:20260422T153000Z
DTSTART;TZID=America/Phoenix:20260314T152000
DURATION:PT0H55M0S
SUMMARY:Phoenix Force Black vs. Hunters Elite -  Oscar
DESCRIPTION:7th Grade Boys - Legacy Youth Sports
LOCATION:Kroc Center - Court 1
CATEGORIES:QuickScores, Basketball Game
TRANSP:OPAQUE
BEGIN:VALARM
TRIGGER:-PT2H
ACTION:DISPLAY
DESCRIPTION:Phoenix Force Black vs. Hunters Elite -  Oscar
END:VALARM
END:VEVENT
BEGIN:VEVENT
UID:legacyyouthsports-73655344-20260314T171000@quickscores.com
DTSTAMP:20260422T153000Z
DTSTART;TZID=America/Phoenix:20260314T171000
DURATION:PT0H55M0S
SUMMARY:Gremlins vs. Phoenix Force Black
DESCRIPTION:7th Grade Boys - Legacy Youth Sports
LOCATION:Kroc Center - Court 2
CATEGORIES:QuickScores, Basketball Game
TRANSP:OPAQUE
BEGIN:VALARM
TRIGGER:-PT2H
ACTION:DISPLAY
DESCRIPTION:Gremlins vs. Phoenix Force Black
END:VALARM
END:VEVENT
END:VCALENDAR
