BEGIN:VCALENDAR
VERSION:2.0
PRODID:-//QuickScores.com//BQ Dynamic iCal Creator//EN
METHOD:PUBLISH
X-WR-CALNAME:D22 Academy Blue - 7/8th Girls - Spring Basketball League
X-WR-CALDESC:QuickScores game calendar
X-PUBLISHED-TTL:PT24H
REFRESH-INTERVAL;VALUE=DURATION:PT24H
CALSCALE:GREGORIAN
BEGIN:VTIMEZONE
TZID:America/Phoenix
X-LIC-LOCATION:America/Phoenix
BEGIN:STANDARD
TZNAME:MST
TZOFFSETFROM:-0700
TZOFFSETTO:-0700
DTSTART:19700101T000000
END:STANDARD
END:VTIMEZONE
BEGIN:VEVENT
UID:legacyyouthsports-73648893-20260314T114000@quickscores.com
DTSTAMP:20260422T041100Z
DTSTART;TZID=America/Phoenix:20260314T114000
DURATION:PT0H55M0S
SUMMARY:D22 Academy Blue vs. PHX Fire
DESCRIPTION:7/8th Girls - Legacy Youth Sports
LOCATION:Kroc Center - Court 3
CATEGORIES:QuickScores, Basketball Game
TRANSP:OPAQUE
BEGIN:VALARM
TRIGGER:-PT2H
ACTION:DISPLAY
DESCRIPTION:D22 Academy Blue vs. PHX Fire
END:VALARM
END:VEVENT
BEGIN:VEVENT
UID:legacyyouthsports-73835356-20260321T142500@quickscores.com
DTSTAMP:20260422T041100Z
DTSTART;TZID=America/Phoenix:20260321T142500
DURATION:PT0H55M0S
SUMMARY:Hoop Code 7/8th vs. D22 Academy Blue
DESCRIPTION:Hoop Code #15 scores 17 points --- 7/8th Girls - Legacy Youth Sports
LOCATION:Atkinson Court 4
CATEGORIES:QuickScores, Basketball Game
TRANSP:OPAQUE
BEGIN:VALARM
TRIGGER:-PT2H
ACTION:DISPLAY
DESCRIPTION:Hoop Code 7/8th vs. D22 Academy Blue
END:VALARM
END:VEVENT
BEGIN:VEVENT
UID:legacyyouthsports-73185712-20260328T133000@quickscores.com
DTSTAMP:20260422T041100Z
DTSTART;TZID=America/Phoenix:20260328T133000
DURATION:PT0H55M0S
SUMMARY:D22 Academy Blue vs. Sports Academy
DESCRIPTION:7/8th Girls - Legacy Youth Sports
LOCATION:Glendale High School Main
CATEGORIES:QuickScores, Basketball Game
TRANSP:OPAQUE
BEGIN:VALARM
TRIGGER:-PT2H
ACTION:DISPLAY
DESCRIPTION:D22 Academy Blue vs. Sports Academy
END:VALARM
END:VEVENT
BEGIN:VEVENT
UID:legacyyouthsports-74330698-20260411T152000@quickscores.com
DTSTAMP:20260422T041100Z
DTSTART;TZID=America/Phoenix:20260411T152000
DURATION:PT0H55M0S
SUMMARY:D22 Academy Blue vs. 3D Athletics
DESCRIPTION:7/8th Girls - Legacy Youth Sports
LOCATION:Atkinson Court 4
CATEGORIES:QuickScores, Basketball Game
TRANSP:OPAQUE
BEGIN:VALARM
TRIGGER:-PT2H
ACTION:DISPLAY
DESCRIPTION:D22 Academy Blue vs. 3D Athletics
END:VALARM
END:VEVENT
END:VCALENDAR
