BEGIN:VCALENDAR
VERSION:2.0
PRODID:-//QuickScores.com//BQ Dynamic iCal Creator//EN
METHOD:PUBLISH
X-WR-CALNAME:10xbtr 17U - High School Girls - Spring Basketball League
X-WR-CALDESC:QuickScores game calendar
X-PUBLISHED-TTL:PT24H
REFRESH-INTERVAL;VALUE=DURATION:PT24H
CALSCALE:GREGORIAN
BEGIN:VTIMEZONE
TZID:America/Phoenix
X-LIC-LOCATION:America/Phoenix
BEGIN:STANDARD
TZNAME:MST
TZOFFSETFROM:-0700
TZOFFSETTO:-0700
DTSTART:19700101T000000
END:STANDARD
END:VTIMEZONE
BEGIN:VEVENT
UID:legacyyouthsports-73839533-20260321T114000@quickscores.com
DTSTAMP:20260422T184700Z
DTSTART;TZID=America/Phoenix:20260321T114000
DURATION:PT0H55M0S
SUMMARY:10xbtr 17U vs. 3D Hoops 15U
DESCRIPTION:3D Hoops #7 scores 16 points --- High School Girls - Legacy Youth Sports
LOCATION:Atkinson Court 3
CATEGORIES:QuickScores, Basketball Game
TRANSP:OPAQUE
BEGIN:VALARM
TRIGGER:-PT2H
ACTION:DISPLAY
DESCRIPTION:10xbtr 17U vs. 3D Hoops 15U
END:VALARM
END:VEVENT
BEGIN:VEVENT
UID:legacyyouthsports-74038515-20260328T142500@quickscores.com
DTSTAMP:20260422T184700Z
DTSTART;TZID=America/Phoenix:20260328T142500
DURATION:PT0H55M0S
SUMMARY:10xbtr 17U vs. GSA
DESCRIPTION:High School Girls - Legacy Youth Sports
LOCATION:Glendale High School AUX
CATEGORIES:QuickScores, Basketball Game
TRANSP:OPAQUE
BEGIN:VALARM
TRIGGER:-PT2H
ACTION:DISPLAY
DESCRIPTION:10xbtr 17U vs. GSA
END:VALARM
END:VEVENT
BEGIN:VEVENT
UID:legacyyouthsports-74330841-20260411T161500@quickscores.com
DTSTAMP:20260422T184700Z
DTSTART;TZID=America/Phoenix:20260411T161500
DURATION:PT0H55M0S
SUMMARY:D22 Academy 17U vs. 10xbtr 17U
DESCRIPTION:High School Girls - Legacy Youth Sports
LOCATION:Atkinson Court 3
CATEGORIES:QuickScores, Basketball Game
TRANSP:OPAQUE
BEGIN:VALARM
TRIGGER:-PT2H
ACTION:DISPLAY
DESCRIPTION:D22 Academy 17U vs. 10xbtr 17U
END:VALARM
END:VEVENT
BEGIN:VEVENT
UID:legacyyouthsports-74556549-20260418T095000@quickscores.com
DTSTAMP:20260422T184700Z
DTSTART;TZID=America/Phoenix:20260418T095000
DURATION:PT0H55M0S
SUMMARY:D22 Academy 16U vs. 10xbtr 17U
DESCRIPTION:High School Girls - Legacy Youth Sports
LOCATION:Atkinson Court 4
CATEGORIES:QuickScores, Basketball Game
TRANSP:OPAQUE
BEGIN:VALARM
TRIGGER:-PT2H
ACTION:DISPLAY
DESCRIPTION:D22 Academy 16U vs. 10xbtr 17U
END:VALARM
END:VEVENT
BEGIN:VEVENT
UID:legacyyouthsports-74556547-20260418T123500@quickscores.com
DTSTAMP:20260422T184700Z
DTSTART;TZID=America/Phoenix:20260418T123500
DURATION:PT0H55M0S
SUMMARY:10xbtr 17U vs. 3D Hoops 17U
DESCRIPTION:High School Girls - Legacy Youth Sports
LOCATION:Atkinson Court 4
CATEGORIES:QuickScores, Basketball Game
TRANSP:OPAQUE
BEGIN:VALARM
TRIGGER:-PT2H
ACTION:DISPLAY
DESCRIPTION:10xbtr 17U vs. 3D Hoops 17U
END:VALARM
END:VEVENT
END:VCALENDAR
