BEGIN:VCALENDAR
VERSION:2.0
PRODID:-//QuickScores.com//BQ Dynamic iCal Creator//EN
METHOD:PUBLISH
X-WR-CALNAME:Roadrunners - 7/8th Girls - Spring Basketball League
X-WR-CALDESC:QuickScores game calendar
X-PUBLISHED-TTL:PT24H
REFRESH-INTERVAL;VALUE=DURATION:PT24H
CALSCALE:GREGORIAN
BEGIN:VTIMEZONE
TZID:America/Phoenix
X-LIC-LOCATION:America/Phoenix
BEGIN:STANDARD
TZNAME:MST
TZOFFSETFROM:-0700
TZOFFSETTO:-0700
DTSTART:19700101T000000
END:STANDARD
END:VTIMEZONE
BEGIN:VEVENT
UID:legacyyouthsports-73185695-20260221T171000@quickscores.com
DTSTAMP:20260422T185300Z
DTSTART;TZID=America/Phoenix:20260221T171000
DURATION:PT0H55M0S
SUMMARY:Roadrunners vs. GSA
DESCRIPTION:7/8th Girls - Legacy Youth Sports
LOCATION:Moon Valley HS AUX
CATEGORIES:QuickScores, Basketball Game
TRANSP:OPAQUE
BEGIN:VALARM
TRIGGER:-PT2H
ACTION:DISPLAY
DESCRIPTION:Roadrunners vs. GSA
END:VALARM
END:VEVENT
BEGIN:VEVENT
UID:legacyyouthsports-73319303-20260228T142500@quickscores.com
DTSTAMP:20260422T185300Z
DTSTART;TZID=America/Phoenix:20260228T142500
DURATION:PT0H55M0S
SUMMARY:Roadrunners vs. D22 Academy Red
DESCRIPTION:7/8th Girls - Legacy Youth Sports
LOCATION:Atkinson Court 3
CATEGORIES:QuickScores, Basketball Game
TRANSP:OPAQUE
BEGIN:VALARM
TRIGGER:-PT2H
ACTION:DISPLAY
DESCRIPTION:Roadrunners vs. D22 Academy Red
END:VALARM
END:VEVENT
BEGIN:VEVENT
UID:legacyyouthsports-73470617-20260307T080000@quickscores.com
DTSTAMP:20260422T185300Z
DTSTART;TZID=America/Phoenix:20260307T080000
DURATION:PT0H55M0S
SUMMARY:Roadrunners vs. Valley Storm
DESCRIPTION:Valley Storm #30 scores 8 points --- 7/8th Girls - Legacy Youth Sports
LOCATION:Kroc Center - Court 2
CATEGORIES:QuickScores, Basketball Game
TRANSP:OPAQUE
BEGIN:VALARM
TRIGGER:-PT2H
ACTION:DISPLAY
DESCRIPTION:Roadrunners vs. Valley Storm
END:VALARM
END:VEVENT
BEGIN:VEVENT
UID:legacyyouthsports-73648308-20260314T142500@quickscores.com
DTSTAMP:20260422T185300Z
DTSTART;TZID=America/Phoenix:20260314T142500
DURATION:PT0H55M0S
SUMMARY:Work Athletics 13U vs. Roadrunners
DESCRIPTION:7/8th Girls - Legacy Youth Sports
LOCATION:Kroc Center - Court 3
CATEGORIES:QuickScores, Basketball Game
TRANSP:OPAQUE
BEGIN:VALARM
TRIGGER:-PT2H
ACTION:DISPLAY
DESCRIPTION:Work Athletics 13U vs. Roadrunners
END:VALARM
END:VEVENT
BEGIN:VEVENT
UID:legacyyouthsports-73835158-20260321T123500@quickscores.com
DTSTAMP:20260422T185300Z
DTSTART;TZID=America/Phoenix:20260321T123500
DURATION:PT0H55M0S
SUMMARY:Hoop Code 7/8th vs. Roadrunners
DESCRIPTION:Hoop Code #32 scores 27 points --- 7/8th Girls - Legacy Youth Sports
LOCATION:Atkinson Court 4
CATEGORIES:QuickScores, Basketball Game
TRANSP:OPAQUE
BEGIN:VALARM
TRIGGER:-PT2H
ACTION:DISPLAY
DESCRIPTION:Hoop Code 7/8th vs. Roadrunners
END:VALARM
END:VEVENT
BEGIN:VEVENT
UID:legacyyouthsports-74038546-20260328T152000@quickscores.com
DTSTAMP:20260422T185300Z
DTSTART;TZID=America/Phoenix:20260328T152000
DURATION:PT0H55M0S
SUMMARY:D22 Academy vs. Roadrunners
DESCRIPTION:7/8th Girls - Legacy Youth Sports
LOCATION:Glendale High School Main
CATEGORIES:QuickScores, Basketball Game
TRANSP:OPAQUE
BEGIN:VALARM
TRIGGER:-PT2H
ACTION:DISPLAY
DESCRIPTION:D22 Academy vs. Roadrunners
END:VALARM
END:VEVENT
BEGIN:VEVENT
UID:legacyyouthsports-74330699-20260411T114000@quickscores.com
DTSTAMP:20260422T185300Z
DTSTART;TZID=America/Phoenix:20260411T114000
DURATION:PT0H55M0S
SUMMARY:Hoop Code 12U vs. Roadrunners
DESCRIPTION:7/8th Girls - Legacy Youth Sports
LOCATION:Atkinson Court 4
CATEGORIES:QuickScores, Basketball Game
TRANSP:OPAQUE
BEGIN:VALARM
TRIGGER:-PT2H
ACTION:DISPLAY
DESCRIPTION:Hoop Code 12U vs. Roadrunners
END:VALARM
END:VEVENT
BEGIN:VEVENT
UID:legacyyouthsports-74556543-20260418T104500@quickscores.com
DTSTAMP:20260422T185300Z
DTSTART;TZID=America/Phoenix:20260418T104500
DURATION:PT0H55M0S
SUMMARY:Roadrunners vs. 3D Athletics
DESCRIPTION:7/8th Girls - Legacy Youth Sports
LOCATION:Atkinson Court 3
CATEGORIES:QuickScores, Basketball Game
TRANSP:OPAQUE
BEGIN:VALARM
TRIGGER:-PT2H
ACTION:DISPLAY
DESCRIPTION:Roadrunners vs. 3D Athletics
END:VALARM
END:VEVENT
END:VCALENDAR
