BEGIN:VCALENDAR
VERSION:2.0
PRODID:-//QuickScores.com//BQ Dynamic iCal Creator//EN
METHOD:PUBLISH
X-WR-CALNAME:PHX Fire - High School Boys - Spring Basketball League
X-WR-CALDESC:QuickScores game calendar
X-PUBLISHED-TTL:PT24H
REFRESH-INTERVAL;VALUE=DURATION:PT24H
CALSCALE:GREGORIAN
BEGIN:VTIMEZONE
TZID:America/Phoenix
X-LIC-LOCATION:America/Phoenix
BEGIN:STANDARD
TZNAME:MST
TZOFFSETFROM:-0700
TZOFFSETTO:-0700
DTSTART:19700101T000000
END:STANDARD
END:VTIMEZONE
BEGIN:VEVENT
UID:legacyyouthsports-74683474-20260425T123500@quickscores.com
DTSTAMP:20260425T211100Z
DTSTART;TZID=America/Phoenix:20260425T123500
DURATION:PT0H55M0S
SUMMARY:[1] PHX Fire vs. [11] AZ Flight Air
DESCRIPTION:High School Boys - Legacy Youth Sports
LOCATION:Atkinson Court 2
CATEGORIES:QuickScores, Basketball Game
TRANSP:OPAQUE
BEGIN:VALARM
TRIGGER:-PT2H
ACTION:DISPLAY
DESCRIPTION:[1] PHX Fire vs. [11] AZ Flight Air
END:VALARM
END:VEVENT
BEGIN:VEVENT
UID:legacyyouthsports-74683478-20260425T142500@quickscores.com
DTSTAMP:20260425T211100Z
DTSTART;TZID=America/Phoenix:20260425T142500
DURATION:PT0H55M0S
SUMMARY:[1] PHX Fire vs. [6] Dime Academy
DESCRIPTION:High School Boys - Legacy Youth Sports
LOCATION:Atkinson Court 3
CATEGORIES:QuickScores, Basketball Game
TRANSP:OPAQUE
BEGIN:VALARM
TRIGGER:-PT2H
ACTION:DISPLAY
DESCRIPTION:[1] PHX Fire vs. [6] Dime Academy
END:VALARM
END:VEVENT
END:VCALENDAR
