BEGIN:VCALENDAR
VERSION:2.0
PRODID:-//QuickScores.com//BQ Dynamic iCal Creator//EN
METHOD:PUBLISH
X-WR-CALNAME:PHX Fire - 3/4th Grade Boys - Spring Basketball League
X-WR-CALDESC:QuickScores game calendar
X-PUBLISHED-TTL:PT24H
REFRESH-INTERVAL;VALUE=DURATION:PT24H
CALSCALE:GREGORIAN
BEGIN:VTIMEZONE
TZID:America/Phoenix
X-LIC-LOCATION:America/Phoenix
BEGIN:STANDARD
TZNAME:MST
TZOFFSETFROM:-0700
TZOFFSETTO:-0700
DTSTART:19700101T000000
END:STANDARD
END:VTIMEZONE
BEGIN:VEVENT
UID:legacyyouthsports-74038458-20260328T085500@quickscores.com
DTSTAMP:20260419T181900Z
DTSTART;TZID=America/Phoenix:20260328T085500
DURATION:PT0H55M0S
SUMMARY:PHX Fire vs. FOE Elite
DESCRIPTION:FOE #15 McFadden scores 15 points --- 3/4th Grade Boys - Legacy Youth Sports
LOCATION:Glendale High School AUX
CATEGORIES:QuickScores, Basketball Game
TRANSP:OPAQUE
BEGIN:VALARM
TRIGGER:-PT2H
ACTION:DISPLAY
DESCRIPTION:PHX Fire vs. FOE Elite
END:VALARM
END:VEVENT
BEGIN:VEVENT
UID:legacyyouthsports-74325678-20260411T142500@quickscores.com
DTSTAMP:20260419T181900Z
DTSTART;TZID=America/Phoenix:20260411T142500
DURATION:PT0H55M0S
SUMMARY:Desert Sol vs. PHX Fire
DESCRIPTION:3/4th Grade Boys - Legacy Youth Sports
LOCATION:Atkinson Court 1
CATEGORIES:QuickScores, Basketball Game
TRANSP:OPAQUE
BEGIN:VALARM
TRIGGER:-PT2H
ACTION:DISPLAY
DESCRIPTION:Desert Sol vs. PHX Fire
END:VALARM
END:VEVENT
BEGIN:VEVENT
UID:legacyyouthsports-74325614-20260418T085500@quickscores.com
DTSTAMP:20260419T181900Z
DTSTART;TZID=America/Phoenix:20260418T085500
DURATION:PT0H55M0S
SUMMARY:PHX Fire vs. SNC Sports
DESCRIPTION:3/4th Grade Boys - Legacy Youth Sports
LOCATION:Atkinson Court 2
CATEGORIES:QuickScores, Basketball Game
TRANSP:OPAQUE
BEGIN:VALARM
TRIGGER:-PT2H
ACTION:DISPLAY
DESCRIPTION:PHX Fire vs. SNC Sports
END:VALARM
END:VEVENT
END:VCALENDAR
