BEGIN:VCALENDAR
VERSION:2.0
PRODID:-//QuickScores.com//BQ Dynamic iCal Creator//EN
METHOD:PUBLISH
X-WR-CALNAME:Zone 6 - 3/4th Grade Boys - Spring Basketball League
X-WR-CALDESC:QuickScores game calendar
X-PUBLISHED-TTL:PT24H
REFRESH-INTERVAL;VALUE=DURATION:PT24H
CALSCALE:GREGORIAN
BEGIN:VTIMEZONE
TZID:America/Phoenix
X-LIC-LOCATION:America/Phoenix
BEGIN:STANDARD
TZNAME:MST
TZOFFSETFROM:-0700
TZOFFSETTO:-0700
DTSTART:19700101T000000
END:STANDARD
END:VTIMEZONE
BEGIN:VEVENT
UID:legacyyouthsports-73200992-20260221T133000@quickscores.com
DTSTAMP:20260419T131300Z
DTSTART;TZID=America/Phoenix:20260221T133000
DURATION:PT0H55M0S
SUMMARY:Zone 6 vs. Gremlins
DESCRIPTION:3/4th Grade Boys - Legacy Youth Sports
LOCATION:Moon Valley HS AUX
CATEGORIES:QuickScores, Basketball Game
TRANSP:OPAQUE
BEGIN:VALARM
TRIGGER:-PT2H
ACTION:DISPLAY
DESCRIPTION:Zone 6 vs. Gremlins
END:VALARM
END:VEVENT
BEGIN:VEVENT
UID:legacyyouthsports-73184981-20260228T095000@quickscores.com
DTSTAMP:20260419T131300Z
DTSTART;TZID=America/Phoenix:20260228T095000
DURATION:PT0H55M0S
SUMMARY:Humble Savage Black vs. Zone 6
DESCRIPTION:Humble Savage #4 Jorden Smith scores 10 points --- 3/4th Grade Boys - Legacy Youth Sports
LOCATION:Edurpize
CATEGORIES:QuickScores, Basketball Game
TRANSP:OPAQUE
BEGIN:VALARM
TRIGGER:-PT2H
ACTION:DISPLAY
DESCRIPTION:Humble Savage Black vs. Zone 6
END:VALARM
END:VEVENT
BEGIN:VEVENT
UID:legacyyouthsports-73830911-20260321T080000@quickscores.com
DTSTAMP:20260419T131300Z
DTSTART;TZID=America/Phoenix:20260321T080000
DURATION:PT0H55M0S
SUMMARY:Zone 6 vs. Gremlins
DESCRIPTION:# 31 of the Gremlins scored 15 points! --- 3/4th Grade Boys - Legacy Youth Sports
LOCATION:Edurpize
CATEGORIES:QuickScores, Basketball Game
TRANSP:OPAQUE
BEGIN:VALARM
TRIGGER:-PT2H
ACTION:DISPLAY
DESCRIPTION:Zone 6 vs. Gremlins
END:VALARM
END:VEVENT
BEGIN:VEVENT
UID:legacyyouthsports-73185004-20260328T133000@quickscores.com
DTSTAMP:20260419T131300Z
DTSTART;TZID=America/Phoenix:20260328T133000
DURATION:PT0H55M0S
SUMMARY:Humble Savage Gold vs. Zone 6
DESCRIPTION:3/4th Grade Boys - Legacy Youth Sports
LOCATION:Edurpize
CATEGORIES:QuickScores, Basketball Game
TRANSP:OPAQUE
BEGIN:VALARM
TRIGGER:-PT2H
ACTION:DISPLAY
DESCRIPTION:Humble Savage Gold vs. Zone 6
END:VALARM
END:VEVENT
BEGIN:VEVENT
UID:legacyyouthsports-73185010-20260411T095000@quickscores.com
DTSTAMP:20260419T131300Z
DTSTART;TZID=America/Phoenix:20260411T095000
DURATION:PT0H55M0S
SUMMARY:Zone 6 vs. Hoop Code Black
DESCRIPTION:3/4th Grade Boys - Legacy Youth Sports
LOCATION:Atkinson Court 2
CATEGORIES:QuickScores, Basketball Game
TRANSP:OPAQUE
BEGIN:VALARM
TRIGGER:-PT2H
ACTION:DISPLAY
DESCRIPTION:Zone 6 vs. Hoop Code Black
END:VALARM
END:VEVENT
BEGIN:VEVENT
UID:legacyyouthsports-74550932-20260418T133000@quickscores.com
DTSTAMP:20260419T131300Z
DTSTART;TZID=America/Phoenix:20260418T133000
DURATION:PT0H55M0S
SUMMARY:Desert Sol vs. Zone 6
DESCRIPTION:3/4th Grade Boys - Legacy Youth Sports
LOCATION:Atkinson Court 2
CATEGORIES:QuickScores, Basketball Game
TRANSP:OPAQUE
BEGIN:VALARM
TRIGGER:-PT2H
ACTION:DISPLAY
DESCRIPTION:Desert Sol vs. Zone 6
END:VALARM
END:VEVENT
END:VCALENDAR
