BEGIN:VCALENDAR
VERSION:2.0
PRODID:-//QuickScores.com//BQ Dynamic iCal Creator//EN
METHOD:PUBLISH
X-WR-CALNAME:Aurora - Miller - Girls 1-2 - Spring 2026
X-WR-CALDESC:QuickScores game calendar
X-PUBLISHED-TTL:PT24H
REFRESH-INTERVAL;VALUE=DURATION:PT24H
CALSCALE:GREGORIAN
BEGIN:VTIMEZONE
TZID:America/New_York
X-LIC-LOCATION:America/New_York
BEGIN:DAYLIGHT
TZNAME:EDT
TZOFFSETFROM:-0500
TZOFFSETTO:-0400
DTSTART:19700308T020000
RRULE:FREQ=YEARLY;BYMONTH=3;BYDAY=2SU
END:DAYLIGHT
BEGIN:STANDARD
TZNAME:EST
TZOFFSETFROM:-0400
TZOFFSETTO:-0500
DTSTART:19701101T020000
RRULE:FREQ=YEARLY;BYMONTH=11;BYDAY=1SU
END:STANDARD
END:VTIMEZONE
BEGIN:VEVENT
UID:kenstoncommunityed-74405806-20260425T090000@quickscores.com
DTSTAMP:20260424T130800Z
DTSTART;TZID=America/New_York:20260425T090000
DURATION:PT1H0M0S
SUMMARY:Aurora - Miller vs. Kenston - Warnock
DESCRIPTION:Girls 1-2 - Kenston Community Education
LOCATION:Soccer Field #5 - Aurora
CATEGORIES:QuickScores, Soccer - Youth Game
TRANSP:OPAQUE
BEGIN:VALARM
TRIGGER:-PT2H
ACTION:DISPLAY
DESCRIPTION:Aurora - Miller vs. Kenston - Warnock
END:VALARM
END:VEVENT
BEGIN:VEVENT
UID:kenstoncommunityed-74405809-20260502T090000@quickscores.com
DTSTAMP:20260424T130800Z
DTSTART;TZID=America/New_York:20260502T090000
DURATION:PT1H0M0S
SUMMARY:Aurora - Miller vs. Kenston - Lange
DESCRIPTION:Girls 1-2 - Kenston Community Education
LOCATION:Soccer Field #6 - Aurora
CATEGORIES:QuickScores, Soccer - Youth Game
TRANSP:OPAQUE
BEGIN:VALARM
TRIGGER:-PT2H
ACTION:DISPLAY
DESCRIPTION:Aurora - Miller vs. Kenston - Lange
END:VALARM
END:VEVENT
BEGIN:VEVENT
UID:kenstoncommunityed-74405814-20260509T100000@quickscores.com
DTSTAMP:20260424T130800Z
DTSTART;TZID=America/New_York:20260509T100000
DURATION:PT1H0M0S
SUMMARY:Kenston - Knittel vs. Aurora - Miller
DESCRIPTION:Girls 1-2 - Kenston Community Education
LOCATION:Kenston - River Road Park 1 (RR1)
CATEGORIES:QuickScores, Soccer - Youth Game
TRANSP:OPAQUE
BEGIN:VALARM
TRIGGER:-PT2H
ACTION:DISPLAY
DESCRIPTION:Kenston - Knittel vs. Aurora - Miller
END:VALARM
END:VEVENT
BEGIN:VEVENT
UID:kenstoncommunityed-74405816-20260516T090000@quickscores.com
DTSTAMP:20260424T130800Z
DTSTART;TZID=America/New_York:20260516T090000
DURATION:PT1H0M0S
SUMMARY:Aurora - Miller vs. Aurora - Nist
DESCRIPTION:Girls 1-2 - Kenston Community Education
LOCATION:Soccer Field #5 - Aurora
CATEGORIES:QuickScores, Soccer - Youth Game
TRANSP:OPAQUE
BEGIN:VALARM
TRIGGER:-PT2H
ACTION:DISPLAY
DESCRIPTION:Aurora - Miller vs. Aurora - Nist
END:VALARM
END:VEVENT
BEGIN:VEVENT
UID:kenstoncommunityed-74405821-20260530T100000@quickscores.com
DTSTAMP:20260424T130800Z
DTSTART;TZID=America/New_York:20260530T100000
DURATION:PT1H0M0S
SUMMARY:Aurora - Mismas-Lefebvre vs. Aurora - Miller
DESCRIPTION:Girls 1-2 - Kenston Community Education
LOCATION:Soccer Field #5 - Aurora
CATEGORIES:QuickScores, Soccer - Youth Game
TRANSP:OPAQUE
BEGIN:VALARM
TRIGGER:-PT2H
ACTION:DISPLAY
DESCRIPTION:Aurora - Mismas-Lefebvre vs. Aurora - Miller
END:VALARM
END:VEVENT
END:VCALENDAR
