BEGIN:VCALENDAR
VERSION:2.0
PRODID:-//QuickScores.com//BQ Dynamic iCal Creator//EN
METHOD:PUBLISH
X-WR-CALNAME:Kenston - Collins - Boys 1-2 - Spring 2026
X-WR-CALDESC:QuickScores game calendar
X-PUBLISHED-TTL:PT24H
REFRESH-INTERVAL;VALUE=DURATION:PT24H
CALSCALE:GREGORIAN
BEGIN:VTIMEZONE
TZID:America/New_York
X-LIC-LOCATION:America/New_York
BEGIN:DAYLIGHT
TZNAME:EDT
TZOFFSETFROM:-0500
TZOFFSETTO:-0400
DTSTART:19700308T020000
RRULE:FREQ=YEARLY;BYMONTH=3;BYDAY=2SU
END:DAYLIGHT
BEGIN:STANDARD
TZNAME:EST
TZOFFSETFROM:-0400
TZOFFSETTO:-0500
DTSTART:19701101T020000
RRULE:FREQ=YEARLY;BYMONTH=11;BYDAY=1SU
END:STANDARD
END:VTIMEZONE
BEGIN:VEVENT
UID:kenstoncommunityed-74405362-20260425T100000@quickscores.com
DTSTAMP:20260424T185100Z
DTSTART;TZID=America/New_York:20260425T100000
DURATION:PT1H0M0S
SUMMARY:Kenston - McClellan vs. Kenston - Collins
DESCRIPTION:Boys 1-2 - Kenston Community Education
LOCATION:Kenston - River Road Park 1 (RR1)
CATEGORIES:QuickScores, Soccer - Youth Game
TRANSP:OPAQUE
BEGIN:VALARM
TRIGGER:-PT2H
ACTION:DISPLAY
DESCRIPTION:Kenston - McClellan vs. Kenston - Collins
END:VALARM
END:VEVENT
BEGIN:VEVENT
UID:kenstoncommunityed-74405371-20260502T110000@quickscores.com
DTSTAMP:20260424T185100Z
DTSTART;TZID=America/New_York:20260502T110000
DURATION:PT1H0M0S
SUMMARY:Kenston - Collins vs. Aurora - Shoffstall
DESCRIPTION:Boys 1-2 - Kenston Community Education
LOCATION:Soccer Field #6 - Aurora
CATEGORIES:QuickScores, Soccer - Youth Game
TRANSP:OPAQUE
BEGIN:VALARM
TRIGGER:-PT2H
ACTION:DISPLAY
DESCRIPTION:Kenston - Collins vs. Aurora - Shoffstall
END:VALARM
END:VEVENT
BEGIN:VEVENT
UID:kenstoncommunityed-74405365-20260509T110000@quickscores.com
DTSTAMP:20260424T185100Z
DTSTART;TZID=America/New_York:20260509T110000
DURATION:PT1H0M0S
SUMMARY:Aurora - Markewitz vs. Kenston - Collins
DESCRIPTION:Boys 1-2 - Kenston Community Education
LOCATION:Kenston - River Road Park 1 (RR1)
CATEGORIES:QuickScores, Soccer - Youth Game
TRANSP:OPAQUE
BEGIN:VALARM
TRIGGER:-PT2H
ACTION:DISPLAY
DESCRIPTION:Aurora - Markewitz vs. Kenston - Collins
END:VALARM
END:VEVENT
BEGIN:VEVENT
UID:kenstoncommunityed-74405376-20260516T100000@quickscores.com
DTSTAMP:20260424T185100Z
DTSTART;TZID=America/New_York:20260516T100000
DURATION:PT1H0M0S
SUMMARY:Kenston - Collins vs. Kenston - Gerhardt
DESCRIPTION:Boys 1-2 - Kenston Community Education
LOCATION:Kenston - River Road Park 1 (RR1)
CATEGORIES:QuickScores, Soccer - Youth Game
TRANSP:OPAQUE
BEGIN:VALARM
TRIGGER:-PT2H
ACTION:DISPLAY
DESCRIPTION:Kenston - Collins vs. Kenston - Gerhardt
END:VALARM
END:VEVENT
BEGIN:VEVENT
UID:kenstoncommunityed-74405379-20260530T110000@quickscores.com
DTSTAMP:20260424T185100Z
DTSTART;TZID=America/New_York:20260530T110000
DURATION:PT1H0M0S
SUMMARY:Kenston - Collins vs. Kenston - McKinney
DESCRIPTION:Boys 1-2 - Kenston Community Education
LOCATION:Kenston - River Road Park 1 (RR1)
CATEGORIES:QuickScores, Soccer - Youth Game
TRANSP:OPAQUE
BEGIN:VALARM
TRIGGER:-PT2H
ACTION:DISPLAY
DESCRIPTION:Kenston - Collins vs. Kenston - McKinney
END:VALARM
END:VEVENT
END:VCALENDAR
