BEGIN:VCALENDAR
VERSION:2.0
PRODID:-//QuickScores.com//BQ Dynamic iCal Creator//EN
METHOD:PUBLISH
X-WR-CALNAME:Warsaw Breakfast Optimist A - Boys 2019-2018 - Spring 2026
X-WR-CALDESC:QuickScores game calendar
X-PUBLISHED-TTL:PT24H
REFRESH-INTERVAL;VALUE=DURATION:PT24H
CALSCALE:GREGORIAN
BEGIN:VTIMEZONE
TZID:America/New_York
X-LIC-LOCATION:America/New_York
BEGIN:DAYLIGHT
TZNAME:EDT
TZOFFSETFROM:-0500
TZOFFSETTO:-0400
DTSTART:19700308T020000
RRULE:FREQ=YEARLY;BYMONTH=3;BYDAY=2SU
END:DAYLIGHT
BEGIN:STANDARD
TZNAME:EST
TZOFFSETFROM:-0400
TZOFFSETTO:-0500
DTSTART:19701101T020000
RRULE:FREQ=YEARLY;BYMONTH=11;BYDAY=1SU
END:STANDARD
END:VTIMEZONE
BEGIN:VEVENT
UID:kcsl-74202498-20260418T103000@quickscores.com
DTSTAMP:20260424T010700Z
DTSTART;TZID=America/New_York:20260418T103000
DURATION:PT1H30M0S
SUMMARY:JT Services Group vs. Warsaw Breakfast Optimist A
DESCRIPTION:Boys 2019-2018 - Kosciusko County Soccer League
LOCATION:CCAC Field 3
CATEGORIES:QuickScores, Soccer Game
TRANSP:OPAQUE
BEGIN:VALARM
TRIGGER:-PT2H
ACTION:DISPLAY
DESCRIPTION:JT Services Group vs. Warsaw Breakfast Optimist A
END:VALARM
END:VEVENT
BEGIN:VEVENT
UID:kcsl-74202503-20260420T190000@quickscores.com
DTSTAMP:20260424T010700Z
DTSTART;TZID=America/New_York:20260420T190000
DURATION:PT1H30M0S
SUMMARY:Stonehenge Golf Club vs. Warsaw Breakfast Optimist A
DESCRIPTION:Boys 2019-2018 - Kosciusko County Soccer League
LOCATION:CCAC Field 3
CATEGORIES:QuickScores, Soccer Game
TRANSP:OPAQUE
BEGIN:VALARM
TRIGGER:-PT2H
ACTION:DISPLAY
DESCRIPTION:Stonehenge Golf Club vs. Warsaw Breakfast Optimist A
END:VALARM
END:VEVENT
BEGIN:VEVENT
UID:kcsl-74202506-20260425T103000@quickscores.com
DTSTAMP:20260424T010700Z
DTSTART;TZID=America/New_York:20260425T103000
DURATION:PT1H30M0S
SUMMARY:Warsaw Breakfast Optimist A vs. Via Credit Union
DESCRIPTION:Boys 2019-2018 - Kosciusko County Soccer League
LOCATION:CCAC Field 3
CATEGORIES:QuickScores, Soccer Game
TRANSP:OPAQUE
BEGIN:VALARM
TRIGGER:-PT2H
ACTION:DISPLAY
DESCRIPTION:Warsaw Breakfast Optimist A vs. Via Credit Union
END:VALARM
END:VEVENT
BEGIN:VEVENT
UID:kcsl-74202507-20260427T190000@quickscores.com
DTSTAMP:20260424T010700Z
DTSTART;TZID=America/New_York:20260427T190000
DURATION:PT1H30M0S
SUMMARY:Grace College vs. Warsaw Breakfast Optimist A
DESCRIPTION:Boys 2019-2018 - Kosciusko County Soccer League
LOCATION:CCAC Field 3
CATEGORIES:QuickScores, Soccer Game
TRANSP:OPAQUE
BEGIN:VALARM
TRIGGER:-PT2H
ACTION:DISPLAY
DESCRIPTION:Grace College vs. Warsaw Breakfast Optimist A
END:VALARM
END:VEVENT
BEGIN:VEVENT
UID:kcsl-74202515-20260502T120000@quickscores.com
DTSTAMP:20260424T010700Z
DTSTART;TZID=America/New_York:20260502T120000
DURATION:PT1H30M0S
SUMMARY:Warsaw Breakfast Optimist A vs. Avodah HomeBuyers A
DESCRIPTION:Boys 2019-2018 - Kosciusko County Soccer League
LOCATION:CCAC Field 3
CATEGORIES:QuickScores, Soccer Game
TRANSP:OPAQUE
BEGIN:VALARM
TRIGGER:-PT2H
ACTION:DISPLAY
DESCRIPTION:Warsaw Breakfast Optimist A vs. Avodah HomeBuyers A
END:VALARM
END:VEVENT
BEGIN:VEVENT
UID:kcsl-74202510-20260504T190000@quickscores.com
DTSTAMP:20260424T010700Z
DTSTART;TZID=America/New_York:20260504T190000
DURATION:PT1H30M0S
SUMMARY:Warsaw Breakfast Optimist A vs. JT Services Group
DESCRIPTION:Boys 2019-2018 - Kosciusko County Soccer League
LOCATION:CCAC Field 3
CATEGORIES:QuickScores, Soccer Game
TRANSP:OPAQUE
BEGIN:VALARM
TRIGGER:-PT2H
ACTION:DISPLAY
DESCRIPTION:Warsaw Breakfast Optimist A vs. JT Services Group
END:VALARM
END:VEVENT
BEGIN:VEVENT
UID:kcsl-74202517-20260509T090000@quickscores.com
DTSTAMP:20260424T010700Z
DTSTART;TZID=America/New_York:20260509T090000
DURATION:PT1H30M0S
SUMMARY:Warsaw Breakfast Optimist A vs. Stonehenge Golf Club
DESCRIPTION:Boys 2019-2018 - Kosciusko County Soccer League
LOCATION:CCAC Field 3
CATEGORIES:QuickScores, Soccer Game
TRANSP:OPAQUE
BEGIN:VALARM
TRIGGER:-PT2H
ACTION:DISPLAY
DESCRIPTION:Warsaw Breakfast Optimist A vs. Stonehenge Golf Club
END:VALARM
END:VEVENT
BEGIN:VEVENT
UID:kcsl-74202521-20260511T190000@quickscores.com
DTSTAMP:20260424T010700Z
DTSTART;TZID=America/New_York:20260511T190000
DURATION:PT1H30M0S
SUMMARY:Via Credit Union vs. Warsaw Breakfast Optimist A
DESCRIPTION:Boys 2019-2018 - Kosciusko County Soccer League
LOCATION:CCAC Field 3
CATEGORIES:QuickScores, Soccer Game
TRANSP:OPAQUE
BEGIN:VALARM
TRIGGER:-PT2H
ACTION:DISPLAY
DESCRIPTION:Via Credit Union vs. Warsaw Breakfast Optimist A
END:VALARM
END:VEVENT
BEGIN:VEVENT
UID:kcsl-74202524-20260516T120000@quickscores.com
DTSTAMP:20260424T010700Z
DTSTART;TZID=America/New_York:20260516T120000
DURATION:PT1H30M0S
SUMMARY:Warsaw Breakfast Optimist A vs. Grace College
DESCRIPTION:Boys 2019-2018 - Kosciusko County Soccer League
LOCATION:CCAC Field 3
CATEGORIES:QuickScores, Soccer Game
TRANSP:OPAQUE
BEGIN:VALARM
TRIGGER:-PT2H
ACTION:DISPLAY
DESCRIPTION:Warsaw Breakfast Optimist A vs. Grace College
END:VALARM
END:VEVENT
BEGIN:VEVENT
UID:kcsl-74202527-20260518T190000@quickscores.com
DTSTAMP:20260424T010700Z
DTSTART;TZID=America/New_York:20260518T190000
DURATION:PT1H30M0S
SUMMARY:Avodah HomeBuyers A vs. Warsaw Breakfast Optimist A
DESCRIPTION:Boys 2019-2018 - Kosciusko County Soccer League
LOCATION:CCAC Field 3
CATEGORIES:QuickScores, Soccer Game
TRANSP:OPAQUE
BEGIN:VALARM
TRIGGER:-PT2H
ACTION:DISPLAY
DESCRIPTION:Avodah HomeBuyers A vs. Warsaw Breakfast Optimist A
END:VALARM
END:VEVENT
END:VCALENDAR
