BEGIN:VCALENDAR
VERSION:2.0
PRODID:-//QuickScores.com//BQ Dynamic iCal Creator//EN
METHOD:PUBLISH
X-WR-CALNAME:Steel City A&#039;s - Men 60 Major - 2026 ISSA Southeastern Spring National
X-WR-CALDESC:QuickScores game calendar
X-PUBLISHED-TTL:PT24H
REFRESH-INTERVAL;VALUE=DURATION:PT24H
CALSCALE:GREGORIAN
BEGIN:VTIMEZONE
TZID:America/New_York
X-LIC-LOCATION:America/New_York
BEGIN:DAYLIGHT
TZNAME:EDT
TZOFFSETFROM:-0500
TZOFFSETTO:-0400
DTSTART:19700308T020000
RRULE:FREQ=YEARLY;BYMONTH=3;BYDAY=2SU
END:DAYLIGHT
BEGIN:STANDARD
TZNAME:EST
TZOFFSETFROM:-0400
TZOFFSETTO:-0500
DTSTART:19701101T020000
RRULE:FREQ=YEARLY;BYMONTH=11;BYDAY=1SU
END:STANDARD
END:VTIMEZONE
BEGIN:VEVENT
UID:issa-73330455-20260327T120000@quickscores.com
DTSTAMP:20260422T093800Z
DTSTART;TZID=America/New_York:20260327T120000
DURATION:PT1H30M0S
SUMMARY:Monarchs 60 Reloaded vs. Steel City A's
DESCRIPTION:Men 60 Major - International Senior Softball Association<br>ISSA
LOCATION:KMSC 2
CATEGORIES:QuickScores, Softball Game
TRANSP:OPAQUE
BEGIN:VALARM
TRIGGER:-PT2H
ACTION:DISPLAY
DESCRIPTION:Monarchs 60 Reloaded vs. Steel City A's
END:VALARM
END:VEVENT
BEGIN:VEVENT
UID:issa-73330458-20260327T133000@quickscores.com
DTSTAMP:20260422T093800Z
DTSTART;TZID=America/New_York:20260327T133000
DURATION:PT1H30M0S
SUMMARY:Steel City A's vs. Holy City Hitmen
DESCRIPTION:Men 60 Major - International Senior Softball Association<br>ISSA
LOCATION:KMSC 1
CATEGORIES:QuickScores, Softball Game
TRANSP:OPAQUE
BEGIN:VALARM
TRIGGER:-PT2H
ACTION:DISPLAY
DESCRIPTION:Steel City A's vs. Holy City Hitmen
END:VALARM
END:VEVENT
BEGIN:VEVENT
UID:issa-73330477-20260328T100000@quickscores.com
DTSTAMP:20260422T093800Z
DTSTART;TZID=America/New_York:20260328T100000
DURATION:PT1H30M0S
SUMMARY:[1] Monarchs 60 Reloaded vs. [4] Steel City A's
DESCRIPTION:Men 60 Major - International Senior Softball Association<br>ISSA
LOCATION:NSP-SC 5
CATEGORIES:QuickScores, Softball Game
TRANSP:OPAQUE
BEGIN:VALARM
TRIGGER:-PT2H
ACTION:DISPLAY
DESCRIPTION:[1] Monarchs 60 Reloaded vs. [4] Steel City A's
END:VALARM
END:VEVENT
BEGIN:VEVENT
UID:issa-73330480-20260328T143000@quickscores.com
DTSTAMP:20260422T093800Z
DTSTART;TZID=America/New_York:20260328T143000
DURATION:PT1H30M0S
SUMMARY:[4] Steel City A's vs. [2] Peacemakers 60
DESCRIPTION:Men 60 Major - International Senior Softball Association<br>ISSA
LOCATION:NSP-SC 1
CATEGORIES:QuickScores, Softball Game
TRANSP:OPAQUE
BEGIN:VALARM
TRIGGER:-PT2H
ACTION:DISPLAY
DESCRIPTION:[4] Steel City A's vs. [2] Peacemakers 60
END:VALARM
END:VEVENT
BEGIN:VEVENT
UID:issa-73330481-20260329T090000@quickscores.com
DTSTAMP:20260422T093800Z
DTSTART;TZID=America/New_York:20260329T090000
DURATION:PT1H30M0S
SUMMARY:[1] Monarchs 60 Reloaded vs. [4] Steel City A's
DESCRIPTION:Men 60 Major - International Senior Softball Association<br>ISSA
LOCATION:KMSC 4
CATEGORIES:QuickScores, Softball Game
TRANSP:OPAQUE
BEGIN:VALARM
TRIGGER:-PT2H
ACTION:DISPLAY
DESCRIPTION:[1] Monarchs 60 Reloaded vs. [4] Steel City A's
END:VALARM
END:VEVENT
END:VCALENDAR
