BEGIN:VCALENDAR
VERSION:2.0
PRODID:-//QuickScores.com//BQ Dynamic iCal Creator//EN
METHOD:PUBLISH
X-WR-CALNAME:Lowe Lady Legends - Women 50 Aaa/major/55 Major - 2026 ISSA/WBSC World Tournament of Champions
X-WR-CALDESC:QuickScores game calendar
X-PUBLISHED-TTL:PT24H
REFRESH-INTERVAL;VALUE=DURATION:PT24H
CALSCALE:GREGORIAN
BEGIN:VTIMEZONE
TZID:America/New_York
X-LIC-LOCATION:America/New_York
BEGIN:DAYLIGHT
TZNAME:EDT
TZOFFSETFROM:-0500
TZOFFSETTO:-0400
DTSTART:19700308T020000
RRULE:FREQ=YEARLY;BYMONTH=3;BYDAY=2SU
END:DAYLIGHT
BEGIN:STANDARD
TZNAME:EST
TZOFFSETFROM:-0400
TZOFFSETTO:-0500
DTSTART:19701101T020000
RRULE:FREQ=YEARLY;BYMONTH=11;BYDAY=1SU
END:STANDARD
END:VTIMEZONE
BEGIN:VEVENT
UID:issa-72249035-20260130T133000@quickscores.com
DTSTAMP:20260423T170200Z
DTSTART;TZID=America/New_York:20260130T133000
DURATION:PT1H30M0S
SUMMARY:Cougar Nation vs. Lowe Lady Legends
DESCRIPTION:Women 50 Aaa/major/55 Major - International Senior Softball Association<br>ISSA
LOCATION:OPSC 4
CATEGORIES:QuickScores, Softball Game
TRANSP:OPAQUE
BEGIN:VALARM
TRIGGER:-PT2H
ACTION:DISPLAY
DESCRIPTION:Cougar Nation vs. Lowe Lady Legends
END:VALARM
END:VEVENT
BEGIN:VEVENT
UID:issa-72249039-20260130T150000@quickscores.com
DTSTAMP:20260423T170200Z
DTSTART;TZID=America/New_York:20260130T150000
DURATION:PT1H30M0S
SUMMARY:Lowe Lady Legends vs. TM Force
DESCRIPTION:Women 50 Aaa/major/55 Major - International Senior Softball Association<br>ISSA
LOCATION:OPSC 1
CATEGORIES:QuickScores, Softball Game
TRANSP:OPAQUE
BEGIN:VALARM
TRIGGER:-PT2H
ACTION:DISPLAY
DESCRIPTION:Lowe Lady Legends vs. TM Force
END:VALARM
END:VEVENT
END:VCALENDAR
