BEGIN:VCALENDAR
VERSION:2.0
PRODID:-//QuickScores.com//BQ Dynamic iCal Creator//EN
METHOD:PUBLISH
X-WR-CALNAME:Pill and Pill 70s - Men 70 Major/75 Major Gold - 2025 31st Annual ISSA World Championships
X-WR-CALDESC:QuickScores game calendar
X-PUBLISHED-TTL:PT24H
REFRESH-INTERVAL;VALUE=DURATION:PT24H
CALSCALE:GREGORIAN
BEGIN:VTIMEZONE
TZID:America/New_York
X-LIC-LOCATION:America/New_York
BEGIN:DAYLIGHT
TZNAME:EDT
TZOFFSETFROM:-0500
TZOFFSETTO:-0400
DTSTART:19700308T020000
RRULE:FREQ=YEARLY;BYMONTH=3;BYDAY=2SU
END:DAYLIGHT
BEGIN:STANDARD
TZNAME:EST
TZOFFSETFROM:-0400
TZOFFSETTO:-0500
DTSTART:19701101T020000
RRULE:FREQ=YEARLY;BYMONTH=11;BYDAY=1SU
END:STANDARD
END:VTIMEZONE
BEGIN:VEVENT
UID:issa-69757292-20250807T083000@quickscores.com
DTSTAMP:20260422T211300Z
DTSTART;TZID=America/New_York:20250807T083000
DURATION:PT1H30M0S
SUMMARY:Springford 70s vs. Pill and Pill 70s
DESCRIPTION:Men 70 Major/75 Major Gold - International Senior Softball Association<br>ISSA
LOCATION:IBP 7
CATEGORIES:QuickScores, Softball Game
TRANSP:OPAQUE
BEGIN:VALARM
TRIGGER:-PT2H
ACTION:DISPLAY
DESCRIPTION:Springford 70s vs. Pill and Pill 70s
END:VALARM
END:VEVENT
BEGIN:VEVENT
UID:issa-70135988-20250807T100000@quickscores.com
DTSTAMP:20260422T211300Z
DTSTART;TZID=America/New_York:20250807T100000
DURATION:PT1H30M0S
SUMMARY:[B1] Pittsburgh 70s vs. [A2] Pill and Pill 70s
DESCRIPTION:Men 70 Major/75 Major Gold - International Senior Softball Association<br>ISSA
LOCATION:IBP 10
CATEGORIES:QuickScores, Softball Game
TRANSP:OPAQUE
BEGIN:VALARM
TRIGGER:-PT2H
ACTION:DISPLAY
DESCRIPTION:[B1] Pittsburgh 70s vs. [A2] Pill and Pill 70s
END:VALARM
END:VEVENT
END:VCALENDAR
