BEGIN:VCALENDAR
VERSION:2.0
PRODID:-//QuickScores.com//BQ Dynamic iCal Creator//EN
METHOD:PUBLISH
X-WR-CALNAME:Ancient Mariners - Men 65 Aa - 2025 31st Annual ISSA World Championships
X-WR-CALDESC:QuickScores game calendar
X-PUBLISHED-TTL:PT24H
REFRESH-INTERVAL;VALUE=DURATION:PT24H
CALSCALE:GREGORIAN
BEGIN:VTIMEZONE
TZID:America/New_York
X-LIC-LOCATION:America/New_York
BEGIN:DAYLIGHT
TZNAME:EDT
TZOFFSETFROM:-0500
TZOFFSETTO:-0400
DTSTART:19700308T020000
RRULE:FREQ=YEARLY;BYMONTH=3;BYDAY=2SU
END:DAYLIGHT
BEGIN:STANDARD
TZNAME:EST
TZOFFSETFROM:-0400
TZOFFSETTO:-0500
DTSTART:19701101T020000
RRULE:FREQ=YEARLY;BYMONTH=11;BYDAY=1SU
END:STANDARD
END:VTIMEZONE
BEGIN:VEVENT
UID:issa-69757416-20250808T113000@quickscores.com
DTSTAMP:20260425T113400Z
DTSTART;TZID=America/New_York:20250808T113000
DURATION:PT1H30M0S
SUMMARY:Ohio Silverados vs. Ancient Mariners
DESCRIPTION:Men 65 Aa - International Senior Softball Association<br>ISSA
LOCATION:GAC 2
CATEGORIES:QuickScores, Softball Game
TRANSP:OPAQUE
BEGIN:VALARM
TRIGGER:-PT2H
ACTION:DISPLAY
DESCRIPTION:Ohio Silverados vs. Ancient Mariners
END:VALARM
END:VEVENT
BEGIN:VEVENT
UID:issa-69757417-20250808T130000@quickscores.com
DTSTAMP:20260425T113400Z
DTSTART;TZID=America/New_York:20250808T130000
DURATION:PT1H30M0S
SUMMARY:Ancient Mariners vs. DMV All Stars
DESCRIPTION:Men 65 Aa - International Senior Softball Association<br>ISSA
LOCATION:GAC 3
CATEGORIES:QuickScores, Softball Game
TRANSP:OPAQUE
BEGIN:VALARM
TRIGGER:-PT2H
ACTION:DISPLAY
DESCRIPTION:Ancient Mariners vs. DMV All Stars
END:VALARM
END:VEVENT
BEGIN:VEVENT
UID:issa-69757421-20250809T083000@quickscores.com
DTSTAMP:20260425T113400Z
DTSTART;TZID=America/New_York:20250809T083000
DURATION:PT1H30M0S
SUMMARY:[4] Distrubing Elements vs. [5] Ancient Mariners
DESCRIPTION:Men 65 Aa - International Senior Softball Association<br>ISSA
LOCATION:GAC 3
CATEGORIES:QuickScores, Softball Game
TRANSP:OPAQUE
BEGIN:VALARM
TRIGGER:-PT2H
ACTION:DISPLAY
DESCRIPTION:[4] Distrubing Elements vs. [5] Ancient Mariners
END:VALARM
END:VEVENT
BEGIN:VEVENT
UID:issa-69877592-20250809T113000@quickscores.com
DTSTAMP:20260425T113400Z
DTSTART;TZID=America/New_York:20250809T113000
DURATION:PT1H30M0S
SUMMARY:[2] Ohio Silverados vs. [5] Ancient Mariners
DESCRIPTION:Men 65 Aa - International Senior Softball Association<br>ISSA
LOCATION:GAC 3
CATEGORIES:QuickScores, Softball Game
TRANSP:OPAQUE
BEGIN:VALARM
TRIGGER:-PT2H
ACTION:DISPLAY
DESCRIPTION:[2] Ohio Silverados vs. [5] Ancient Mariners
END:VALARM
END:VEVENT
BEGIN:VEVENT
UID:issa-69877595-20250809T143000@quickscores.com
DTSTAMP:20260425T113400Z
DTSTART;TZID=America/New_York:20250809T143000
DURATION:PT1H30M0S
SUMMARY:[5] Ancient Mariners vs. [4] Distrubing Elements
DESCRIPTION:Men 65 Aa - International Senior Softball Association<br>ISSA
LOCATION:GAC 3
CATEGORIES:QuickScores, Softball Game
TRANSP:OPAQUE
BEGIN:VALARM
TRIGGER:-PT2H
ACTION:DISPLAY
DESCRIPTION:[5] Ancient Mariners vs. [4] Distrubing Elements
END:VALARM
END:VEVENT
END:VCALENDAR
