BEGIN:VCALENDAR
VERSION:2.0
PRODID:-//QuickScores.com//BQ Dynamic iCal Creator//EN
METHOD:PUBLISH
X-WR-CALNAME:Northern Virginia Force 75 - Men 75 Major/major Gold - 2025 WBSC Senior World Cup
X-WR-CALDESC:QuickScores game calendar
X-PUBLISHED-TTL:PT24H
REFRESH-INTERVAL;VALUE=DURATION:PT24H
CALSCALE:GREGORIAN
BEGIN:VTIMEZONE
TZID:America/New_York
X-LIC-LOCATION:America/New_York
BEGIN:DAYLIGHT
TZNAME:EDT
TZOFFSETFROM:-0500
TZOFFSETTO:-0400
DTSTART:19700308T020000
RRULE:FREQ=YEARLY;BYMONTH=3;BYDAY=2SU
END:DAYLIGHT
BEGIN:STANDARD
TZNAME:EST
TZOFFSETFROM:-0400
TZOFFSETTO:-0500
DTSTART:19701101T020000
RRULE:FREQ=YEARLY;BYMONTH=11;BYDAY=1SU
END:STANDARD
END:VTIMEZONE
BEGIN:VEVENT
UID:issa-69250209-20250617T103000@quickscores.com
DTSTAMP:20260423T194800Z
DTSTART;TZID=America/New_York:20250617T103000
DURATION:PT1H30M0S
SUMMARY:Superior vs. Northern Virginia Force 75
DESCRIPTION:Men 75 Major/major Gold - International Senior Softball Association<br>ISSA
LOCATION:MSC 1
CATEGORIES:QuickScores, Softball Game
TRANSP:OPAQUE
BEGIN:VALARM
TRIGGER:-PT2H
ACTION:DISPLAY
DESCRIPTION:Superior vs. Northern Virginia Force 75
END:VALARM
END:VEVENT
BEGIN:VEVENT
UID:issa-69250210-20250617T120000@quickscores.com
DTSTAMP:20260423T194800Z
DTSTART;TZID=America/New_York:20250617T120000
DURATION:PT1H30M0S
SUMMARY:Northern Virginia Force 75 vs. Code/LE Bleu
DESCRIPTION:Men 75 Major/major Gold - International Senior Softball Association<br>ISSA
LOCATION:MSC 1
CATEGORIES:QuickScores, Softball Game
TRANSP:OPAQUE
BEGIN:VALARM
TRIGGER:-PT2H
ACTION:DISPLAY
DESCRIPTION:Northern Virginia Force 75 vs. Code/LE Bleu
END:VALARM
END:VEVENT
BEGIN:VEVENT
UID:issa-69250212-20250618T090000@quickscores.com
DTSTAMP:20260423T194800Z
DTSTART;TZID=America/New_York:20250618T090000
DURATION:PT1H30M0S
SUMMARY:[2] Northern Virginia Force 75 vs. [3] Code/LE Bleu
DESCRIPTION:Men 75 Major/major Gold - International Senior Softball Association<br>ISSA
LOCATION:MSC 4
CATEGORIES:QuickScores, Softball Game
TRANSP:OPAQUE
BEGIN:VALARM
TRIGGER:-PT2H
ACTION:DISPLAY
DESCRIPTION:[2] Northern Virginia Force 75 vs. [3] Code/LE Bleu
END:VALARM
END:VEVENT
BEGIN:VEVENT
UID:issa-69250215-20250618T133000@quickscores.com
DTSTAMP:20260423T194800Z
DTSTART;TZID=America/New_York:20250618T133000
DURATION:PT1H30M0S
SUMMARY:[3] Code/LE Bleu vs. [2] Northern Virginia Force 75
DESCRIPTION:Men 75 Major/major Gold - International Senior Softball Association<br>ISSA
LOCATION:MSC 1
CATEGORIES:QuickScores, Softball Game
TRANSP:OPAQUE
BEGIN:VALARM
TRIGGER:-PT2H
ACTION:DISPLAY
DESCRIPTION:[3] Code/LE Bleu vs. [2] Northern Virginia Force 75
END:VALARM
END:VEVENT
BEGIN:VEVENT
UID:issa-69250216-20250619T090000@quickscores.com
DTSTAMP:20260423T194800Z
DTSTART;TZID=America/New_York:20250619T090000
DURATION:PT1H30M0S
SUMMARY:[1] Superior vs. [2] Northern Virginia Force 75
DESCRIPTION:Men 75 Major/major Gold - International Senior Softball Association<br>ISSA
LOCATION:BSC 4
CATEGORIES:QuickScores, Softball Game
TRANSP:OPAQUE
BEGIN:VALARM
TRIGGER:-PT2H
ACTION:DISPLAY
DESCRIPTION:[1] Superior vs. [2] Northern Virginia Force 75
END:VALARM
END:VEVENT
END:VCALENDAR
