BEGIN:VCALENDAR
VERSION:2.0
PRODID:-//QuickScores.com//BQ Dynamic iCal Creator//EN
METHOD:PUBLISH
X-WR-CALNAME:Tennessee Select/LP Sports/Wicked Mitt 50&#039;s - Men 50 Major - 2025 ISSA Great Smoky Mountain Senior Classic - Session 3
X-WR-CALDESC:QuickScores game calendar
X-PUBLISHED-TTL:PT24H
REFRESH-INTERVAL;VALUE=DURATION:PT24H
CALSCALE:GREGORIAN
BEGIN:VTIMEZONE
TZID:America/New_York
X-LIC-LOCATION:America/New_York
BEGIN:DAYLIGHT
TZNAME:EDT
TZOFFSETFROM:-0500
TZOFFSETTO:-0400
DTSTART:19700308T020000
RRULE:FREQ=YEARLY;BYMONTH=3;BYDAY=2SU
END:DAYLIGHT
BEGIN:STANDARD
TZNAME:EST
TZOFFSETFROM:-0400
TZOFFSETTO:-0500
DTSTART:19701101T020000
RRULE:FREQ=YEARLY;BYMONTH=11;BYDAY=1SU
END:STANDARD
END:VTIMEZONE
BEGIN:VEVENT
UID:issa-68916663-20250606T103000@quickscores.com
DTSTAMP:20260422T171700Z
DTSTART;TZID=America/New_York:20250606T103000
DURATION:PT1H30M0S
SUMMARY:Russell’s Tile vs. Tennessee Select/LP Sports/Wicked Mitt 50's
DESCRIPTION:Men 50 Major - International Senior Softball Association<br>ISSA
LOCATION:CP-K 2
CATEGORIES:QuickScores, Softball Game
TRANSP:OPAQUE
BEGIN:VALARM
TRIGGER:-PT2H
ACTION:DISPLAY
DESCRIPTION:Russell’s Tile vs. Tennessee Select/LP Sports/Wicked Mitt 50's
END:VALARM
END:VEVENT
BEGIN:VEVENT
UID:issa-68916670-20250606T120000@quickscores.com
DTSTAMP:20260422T171700Z
DTSTART;TZID=America/New_York:20250606T120000
DURATION:PT1H30M0S
SUMMARY:Tennessee Select/LP Sports/Wicked Mitt 50's vs. Showtime/TSC
DESCRIPTION:Men 50 Major - International Senior Softball Association<br>ISSA
LOCATION:CP-K 2
CATEGORIES:QuickScores, Softball Game
TRANSP:OPAQUE
BEGIN:VALARM
TRIGGER:-PT2H
ACTION:DISPLAY
DESCRIPTION:Tennessee Select/LP Sports/Wicked Mitt 50's vs. Showtime/TSC
END:VALARM
END:VEVENT
BEGIN:VEVENT
UID:issa-68916685-20250607T100000@quickscores.com
DTSTAMP:20260422T171700Z
DTSTART;TZID=America/New_York:20250607T100000
DURATION:PT1H0M0S
SUMMARY:[A2] Allied Tool/LSR/KB Contract/Calvin's Aut vs. [E3] Tennessee Select/LP Sports/Wicked Mitt 50&#03
DESCRIPTION:Men 50 Major - International Senior Softball Association<br>ISSA
LOCATION:CP-K 3
CATEGORIES:QuickScores, Softball Game
TRANSP:OPAQUE
BEGIN:VALARM
TRIGGER:-PT2H
ACTION:DISPLAY
DESCRIPTION:[A2] Allied Tool/LSR/KB Contract/Calvin's Aut vs. [E3] Tennessee Select/LP Sports/Wicked Mitt 50&#03
END:VALARM
END:VEVENT
BEGIN:VEVENT
UID:issa-68916693-20250607T123000@quickscores.com
DTSTAMP:20260422T171700Z
DTSTART;TZID=America/New_York:20250607T123000
DURATION:PT1H30M0S
SUMMARY:[C1] HRS/OSS Apparel vs. [E3] Tennessee Select/LP Sports/Wicked Mitt 50&#03
DESCRIPTION:Men 50 Major - International Senior Softball Association<br>ISSA
LOCATION:CP-K 4
CATEGORIES:QuickScores, Softball Game
TRANSP:OPAQUE
BEGIN:VALARM
TRIGGER:-PT2H
ACTION:DISPLAY
DESCRIPTION:[C1] HRS/OSS Apparel vs. [E3] Tennessee Select/LP Sports/Wicked Mitt 50&#03
END:VALARM
END:VEVENT
END:VCALENDAR
