BEGIN:VCALENDAR
VERSION:2.0
PRODID:-//QuickScores.com//BQ Dynamic iCal Creator//EN
METHOD:PUBLISH
X-WR-CALNAME:Lyndsey Roofing/Otc Elite - Men 50 Major - 2025 ISSA Great Smoky Mountain Senior Classic - Session 3
X-WR-CALDESC:QuickScores game calendar
X-PUBLISHED-TTL:PT24H
REFRESH-INTERVAL;VALUE=DURATION:PT24H
CALSCALE:GREGORIAN
BEGIN:VTIMEZONE
TZID:America/New_York
X-LIC-LOCATION:America/New_York
BEGIN:DAYLIGHT
TZNAME:EDT
TZOFFSETFROM:-0500
TZOFFSETTO:-0400
DTSTART:19700308T020000
RRULE:FREQ=YEARLY;BYMONTH=3;BYDAY=2SU
END:DAYLIGHT
BEGIN:STANDARD
TZNAME:EST
TZOFFSETFROM:-0400
TZOFFSETTO:-0500
DTSTART:19701101T020000
RRULE:FREQ=YEARLY;BYMONTH=11;BYDAY=1SU
END:STANDARD
END:VTIMEZONE
BEGIN:VEVENT
UID:issa-68916676-20250606T133000@quickscores.com
DTSTAMP:20260422T171700Z
DTSTART;TZID=America/New_York:20250606T133000
DURATION:PT1H30M0S
SUMMARY:Lyndsey Roofing/Otc Elite vs. Lost Boys
DESCRIPTION:Men 50 Major - International Senior Softball Association<br>ISSA
LOCATION:CP-K 1
CATEGORIES:QuickScores, Softball Game
TRANSP:OPAQUE
BEGIN:VALARM
TRIGGER:-PT2H
ACTION:DISPLAY
DESCRIPTION:Lyndsey Roofing/Otc Elite vs. Lost Boys
END:VALARM
END:VEVENT
BEGIN:VEVENT
UID:issa-68916669-20250606T150000@quickscores.com
DTSTAMP:20260422T171700Z
DTSTART;TZID=America/New_York:20250606T150000
DURATION:PT1H30M0S
SUMMARY:Palmetto Mutiny vs. Lyndsey Roofing/Otc Elite
DESCRIPTION:Men 50 Major - International Senior Softball Association<br>ISSA
LOCATION:CP-K 1
CATEGORIES:QuickScores, Softball Game
TRANSP:OPAQUE
BEGIN:VALARM
TRIGGER:-PT2H
ACTION:DISPLAY
DESCRIPTION:Palmetto Mutiny vs. Lyndsey Roofing/Otc Elite
END:VALARM
END:VEVENT
BEGIN:VEVENT
UID:issa-68916684-20250607T110000@quickscores.com
DTSTAMP:20260422T171700Z
DTSTART;TZID=America/New_York:20250607T110000
DURATION:PT1H30M0S
SUMMARY:[C1] HRS/OSS Apparel vs. [D3] Lyndsey Roofing/Otc Elite
DESCRIPTION:Men 50 Major - International Senior Softball Association<br>ISSA
LOCATION:CP-K 3
CATEGORIES:QuickScores, Softball Game
TRANSP:OPAQUE
BEGIN:VALARM
TRIGGER:-PT2H
ACTION:DISPLAY
DESCRIPTION:[C1] HRS/OSS Apparel vs. [D3] Lyndsey Roofing/Otc Elite
END:VALARM
END:VEVENT
BEGIN:VEVENT
UID:issa-68916689-20250607T153000@quickscores.com
DTSTAMP:20260422T171700Z
DTSTART;TZID=America/New_York:20250607T153000
DURATION:PT1H30M0S
SUMMARY:[D3] Lyndsey Roofing/Otc Elite vs. [A2] Allied Tool/LSR/KB Contract/Calvin's Aut
DESCRIPTION:Men 50 Major - International Senior Softball Association<br>ISSA
LOCATION:CP-K 3
CATEGORIES:QuickScores, Softball Game
TRANSP:OPAQUE
BEGIN:VALARM
TRIGGER:-PT2H
ACTION:DISPLAY
DESCRIPTION:[D3] Lyndsey Roofing/Otc Elite vs. [A2] Allied Tool/LSR/KB Contract/Calvin's Aut
END:VALARM
END:VEVENT
BEGIN:VEVENT
UID:issa-68916699-20250607T170000@quickscores.com
DTSTAMP:20260422T171700Z
DTSTART;TZID=America/New_York:20250607T170000
DURATION:PT1H30M0S
SUMMARY:[A3] 22ADAY/DL/Hudson/Ghost vs. [D3] Lyndsey Roofing/Otc Elite
DESCRIPTION:Men 50 Major - International Senior Softball Association<br>ISSA
LOCATION:CP-K 2
CATEGORIES:QuickScores, Softball Game
TRANSP:OPAQUE
BEGIN:VALARM
TRIGGER:-PT2H
ACTION:DISPLAY
DESCRIPTION:[A3] 22ADAY/DL/Hudson/Ghost vs. [D3] Lyndsey Roofing/Otc Elite
END:VALARM
END:VEVENT
BEGIN:VEVENT
UID:issa-68916704-20250607T183000@quickscores.com
DTSTAMP:20260422T171700Z
DTSTART;TZID=America/New_York:20250607T183000
DURATION:PT1H30M0S
SUMMARY:[D1] Lost Boys vs. [D3] Lyndsey Roofing/Otc Elite
DESCRIPTION:Men 50 Major - International Senior Softball Association<br>ISSA
LOCATION:CP-K 2
CATEGORIES:QuickScores, Softball Game
TRANSP:OPAQUE
BEGIN:VALARM
TRIGGER:-PT2H
ACTION:DISPLAY
DESCRIPTION:[D1] Lost Boys vs. [D3] Lyndsey Roofing/Otc Elite
END:VALARM
END:VEVENT
BEGIN:VEVENT
UID:issa-68916706-20250608T103000@quickscores.com
DTSTAMP:20260422T171700Z
DTSTART;TZID=America/New_York:20250608T103000
DURATION:PT1H30M0S
SUMMARY:[D3] Lyndsey Roofing/Otc Elite vs. [A3] 22ADAY/DL/Hudson/Ghost
DESCRIPTION:Men 50 Major - International Senior Softball Association<br>ISSA
LOCATION:CP-K 1
CATEGORIES:QuickScores, Softball Game
TRANSP:OPAQUE
BEGIN:VALARM
TRIGGER:-PT2H
ACTION:DISPLAY
DESCRIPTION:[D3] Lyndsey Roofing/Otc Elite vs. [A3] 22ADAY/DL/Hudson/Ghost
END:VALARM
END:VEVENT
END:VCALENDAR
