BEGIN:VCALENDAR
VERSION:2.0
PRODID:-//QuickScores.com//BQ Dynamic iCal Creator//EN
METHOD:PUBLISH
X-WR-CALNAME:615 Honored/Sumner Roofing/Shooter&#039;s Sports Bar - Men 50 Major - 2025 ISSA Great Smoky Mountain Senior Classic - Session 3
X-WR-CALDESC:QuickScores game calendar
X-PUBLISHED-TTL:PT24H
REFRESH-INTERVAL;VALUE=DURATION:PT24H
CALSCALE:GREGORIAN
BEGIN:VTIMEZONE
TZID:America/New_York
X-LIC-LOCATION:America/New_York
BEGIN:DAYLIGHT
TZNAME:EDT
TZOFFSETFROM:-0500
TZOFFSETTO:-0400
DTSTART:19700308T020000
RRULE:FREQ=YEARLY;BYMONTH=3;BYDAY=2SU
END:DAYLIGHT
BEGIN:STANDARD
TZNAME:EST
TZOFFSETFROM:-0400
TZOFFSETTO:-0500
DTSTART:19701101T020000
RRULE:FREQ=YEARLY;BYMONTH=11;BYDAY=1SU
END:STANDARD
END:VTIMEZONE
BEGIN:VEVENT
UID:issa-68916664-20250606T103000@quickscores.com
DTSTAMP:20260422T171400Z
DTSTART;TZID=America/New_York:20250606T103000
DURATION:PT1H30M0S
SUMMARY:615 Honored/Sumner Roofing/Shooter's Sports B vs. Allied Tool/LSR/KB Contract/Calvin's Auto Gla
DESCRIPTION:Men 50 Major - International Senior Softball Association<br>ISSA
LOCATION:CP-K 4
CATEGORIES:QuickScores, Softball Game
TRANSP:OPAQUE
BEGIN:VALARM
TRIGGER:-PT2H
ACTION:DISPLAY
DESCRIPTION:615 Honored/Sumner Roofing/Shooter's Sports B vs. Allied Tool/LSR/KB Contract/Calvin's Auto Gla
END:VALARM
END:VEVENT
BEGIN:VEVENT
UID:issa-68916672-20250606T133000@quickscores.com
DTSTAMP:20260422T171400Z
DTSTART;TZID=America/New_York:20250606T133000
DURATION:PT1H30M0S
SUMMARY:22ADAY/DL/Hudson/Ghost vs. 615 Honored/Sumner Roofing/Shooter's Sports B
DESCRIPTION:Men 50 Major - International Senior Softball Association<br>ISSA
LOCATION:CP-K 4
CATEGORIES:QuickScores, Softball Game
TRANSP:OPAQUE
BEGIN:VALARM
TRIGGER:-PT2H
ACTION:DISPLAY
DESCRIPTION:22ADAY/DL/Hudson/Ghost vs. 615 Honored/Sumner Roofing/Shooter's Sports B
END:VALARM
END:VEVENT
BEGIN:VEVENT
UID:issa-68916681-20250607T100000@quickscores.com
DTSTAMP:20260422T171400Z
DTSTART;TZID=America/New_York:20250607T100000
DURATION:PT1H0M0S
SUMMARY:[A1] 615 Honored/Sumner Roofing/Shooter's Spo vs. [B3] Cole Insurance/Dugout
DESCRIPTION:Men 50 Major - International Senior Softball Association<br>ISSA
LOCATION:CP-K 4
CATEGORIES:QuickScores, Softball Game
TRANSP:OPAQUE
BEGIN:VALARM
TRIGGER:-PT2H
ACTION:DISPLAY
DESCRIPTION:[A1] 615 Honored/Sumner Roofing/Shooter's Spo vs. [B3] Cole Insurance/Dugout
END:VALARM
END:VEVENT
BEGIN:VEVENT
UID:issa-68916687-20250607T140000@quickscores.com
DTSTAMP:20260422T171400Z
DTSTART;TZID=America/New_York:20250607T140000
DURATION:PT1H30M0S
SUMMARY:[D1] Lost Boys vs. [A1] 615 Honored/Sumner Roofing/Shooter's Spo
DESCRIPTION:Men 50 Major - International Senior Softball Association<br>ISSA
LOCATION:CP-K 4
CATEGORIES:QuickScores, Softball Game
TRANSP:OPAQUE
BEGIN:VALARM
TRIGGER:-PT2H
ACTION:DISPLAY
DESCRIPTION:[D1] Lost Boys vs. [A1] 615 Honored/Sumner Roofing/Shooter's Spo
END:VALARM
END:VEVENT
BEGIN:VEVENT
UID:issa-68916696-20250607T153000@quickscores.com
DTSTAMP:20260422T171400Z
DTSTART;TZID=America/New_York:20250607T153000
DURATION:PT1H30M0S
SUMMARY:[A1] 615 Honored/Sumner Roofing/Shooter's Spo vs. [B2] Demolition Illinois
DESCRIPTION:Men 50 Major - International Senior Softball Association<br>ISSA
LOCATION:CP-K 4
CATEGORIES:QuickScores, Softball Game
TRANSP:OPAQUE
BEGIN:VALARM
TRIGGER:-PT2H
ACTION:DISPLAY
DESCRIPTION:[A1] 615 Honored/Sumner Roofing/Shooter's Spo vs. [B2] Demolition Illinois
END:VALARM
END:VEVENT
END:VCALENDAR
