BEGIN:VCALENDAR
VERSION:2.0
PRODID:-//QuickScores.com//BQ Dynamic iCal Creator//EN
METHOD:PUBLISH
X-WR-CALNAME:Vecter Scorpions - Men 65 Aaa - 2025 ISSA Great Smoky Mountain Senior Classic - Session 2
X-WR-CALDESC:QuickScores game calendar
X-PUBLISHED-TTL:PT24H
REFRESH-INTERVAL;VALUE=DURATION:PT24H
CALSCALE:GREGORIAN
BEGIN:VTIMEZONE
TZID:America/New_York
X-LIC-LOCATION:America/New_York
BEGIN:DAYLIGHT
TZNAME:EDT
TZOFFSETFROM:-0500
TZOFFSETTO:-0400
DTSTART:19700308T020000
RRULE:FREQ=YEARLY;BYMONTH=3;BYDAY=2SU
END:DAYLIGHT
BEGIN:STANDARD
TZNAME:EST
TZOFFSETFROM:-0400
TZOFFSETTO:-0500
DTSTART:19701101T020000
RRULE:FREQ=YEARLY;BYMONTH=11;BYDAY=1SU
END:STANDARD
END:VTIMEZONE
BEGIN:VEVENT
UID:issa-68909821-20250603T120000@quickscores.com
DTSTAMP:20260423T015200Z
DTSTART;TZID=America/New_York:20250603T120000
DURATION:PT1H30M0S
SUMMARY:Claremont Property Co. vs. Vecter Scorpions
DESCRIPTION:Men 65 Aaa - International Senior Softball Association<br>ISSA
LOCATION:ARP 2
CATEGORIES:QuickScores, Softball Game
TRANSP:OPAQUE
BEGIN:VALARM
TRIGGER:-PT2H
ACTION:DISPLAY
DESCRIPTION:Claremont Property Co. vs. Vecter Scorpions
END:VALARM
END:VEVENT
BEGIN:VEVENT
UID:issa-68909825-20250603T133000@quickscores.com
DTSTAMP:20260423T015200Z
DTSTART;TZID=America/New_York:20250603T133000
DURATION:PT1H30M0S
SUMMARY:Vecter Scorpions vs. Bama Boys
DESCRIPTION:Men 65 Aaa - International Senior Softball Association<br>ISSA
LOCATION:ARP 3
CATEGORIES:QuickScores, Softball Game
TRANSP:OPAQUE
BEGIN:VALARM
TRIGGER:-PT2H
ACTION:DISPLAY
DESCRIPTION:Vecter Scorpions vs. Bama Boys
END:VALARM
END:VEVENT
BEGIN:VEVENT
UID:issa-68910018-20250604T103000@quickscores.com
DTSTAMP:20260423T015200Z
DTSTART;TZID=America/New_York:20250604T103000
DURATION:PT1H30M0S
SUMMARY:[B1] Vecter Scorpions vs. [A3] Vector Security
DESCRIPTION:Men 65 Aaa - International Senior Softball Association<br>ISSA
LOCATION:ARP 3
CATEGORIES:QuickScores, Softball Game
TRANSP:OPAQUE
BEGIN:VALARM
TRIGGER:-PT2H
ACTION:DISPLAY
DESCRIPTION:[B1] Vecter Scorpions vs. [A3] Vector Security
END:VALARM
END:VEVENT
BEGIN:VEVENT
UID:issa-68910030-20250604T133000@quickscores.com
DTSTAMP:20260423T015200Z
DTSTART;TZID=America/New_York:20250604T133000
DURATION:PT1H30M0S
SUMMARY:[B1] Vecter Scorpions vs. [B2] Holy City Hitmen 65
DESCRIPTION:Men 65 Aaa - International Senior Softball Association<br>ISSA
LOCATION:ARP 3
CATEGORIES:QuickScores, Softball Game
TRANSP:OPAQUE
BEGIN:VALARM
TRIGGER:-PT2H
ACTION:DISPLAY
DESCRIPTION:[B1] Vecter Scorpions vs. [B2] Holy City Hitmen 65
END:VALARM
END:VEVENT
BEGIN:VEVENT
UID:issa-68910036-20250604T163000@quickscores.com
DTSTAMP:20260423T015200Z
DTSTART;TZID=America/New_York:20250604T163000
DURATION:PT1H30M0S
SUMMARY:[B1] Vecter Scorpions vs. [A1] Brann's Steakhouse
DESCRIPTION:Men 65 Aaa - International Senior Softball Association<br>ISSA
LOCATION:ARP 5
CATEGORIES:QuickScores, Softball Game
TRANSP:OPAQUE
BEGIN:VALARM
TRIGGER:-PT2H
ACTION:DISPLAY
DESCRIPTION:[B1] Vecter Scorpions vs. [A1] Brann's Steakhouse
END:VALARM
END:VEVENT
BEGIN:VEVENT
UID:issa-68910038-20250605T103000@quickscores.com
DTSTAMP:20260423T015200Z
DTSTART;TZID=America/New_York:20250605T103000
DURATION:PT1H30M0S
SUMMARY:[B1] Vecter Scorpions vs. [B2] Holy City Hitmen 65
DESCRIPTION:Men 65 Aaa - International Senior Softball Association<br>ISSA
LOCATION:ARP 2
CATEGORIES:QuickScores, Softball Game
TRANSP:OPAQUE
BEGIN:VALARM
TRIGGER:-PT2H
ACTION:DISPLAY
DESCRIPTION:[B1] Vecter Scorpions vs. [B2] Holy City Hitmen 65
END:VALARM
END:VEVENT
END:VCALENDAR
