BEGIN:VCALENDAR
VERSION:2.0
PRODID:-//QuickScores.com//BQ Dynamic iCal Creator//EN
METHOD:PUBLISH
X-WR-CALNAME:Pittsburgh Crawfords - Men 50 Aa - 2025 ISSA Eastern Spring Nationals
X-WR-CALDESC:QuickScores game calendar
X-PUBLISHED-TTL:PT24H
REFRESH-INTERVAL;VALUE=DURATION:PT24H
CALSCALE:GREGORIAN
BEGIN:VTIMEZONE
TZID:America/New_York
X-LIC-LOCATION:America/New_York
BEGIN:DAYLIGHT
TZNAME:EDT
TZOFFSETFROM:-0500
TZOFFSETTO:-0400
DTSTART:19700308T020000
RRULE:FREQ=YEARLY;BYMONTH=3;BYDAY=2SU
END:DAYLIGHT
BEGIN:STANDARD
TZNAME:EST
TZOFFSETFROM:-0400
TZOFFSETTO:-0500
DTSTART:19701101T020000
RRULE:FREQ=YEARLY;BYMONTH=11;BYDAY=1SU
END:STANDARD
END:VTIMEZONE
BEGIN:VEVENT
UID:issa-68488984-20250502T103000@quickscores.com
DTSTAMP:20260422T171300Z
DTSTART;TZID=America/New_York:20250502T103000
DURATION:PT1H30M0S
SUMMARY:City Chevrolet Stingrays vs. Pittsburgh Crawfords
DESCRIPTION:Men 50 Aa - International Senior Softball Association<br>ISSA
LOCATION:NP 2
CATEGORIES:QuickScores, Softball Game
TRANSP:OPAQUE
BEGIN:VALARM
TRIGGER:-PT2H
ACTION:DISPLAY
DESCRIPTION:City Chevrolet Stingrays vs. Pittsburgh Crawfords
END:VALARM
END:VEVENT
BEGIN:VEVENT
UID:issa-68488980-20250502T133000@quickscores.com
DTSTAMP:20260422T171300Z
DTSTART;TZID=America/New_York:20250502T133000
DURATION:PT1H30M0S
SUMMARY:Pittsburgh Crawfords vs. Chucktown 50
DESCRIPTION:Men 50 Aa - International Senior Softball Association<br>ISSA
LOCATION:NP 3
CATEGORIES:QuickScores, Softball Game
TRANSP:OPAQUE
BEGIN:VALARM
TRIGGER:-PT2H
ACTION:DISPLAY
DESCRIPTION:Pittsburgh Crawfords vs. Chucktown 50
END:VALARM
END:VEVENT
BEGIN:VEVENT
UID:issa-68488989-20250503T083000@quickscores.com
DTSTAMP:20260422T171300Z
DTSTART;TZID=America/New_York:20250503T083000
DURATION:PT1H30M0S
SUMMARY:[A2] Pittsburgh Crawfords vs. [B3] Gill's OG's
DESCRIPTION:Men 50 Aa - International Senior Softball Association<br>ISSA
LOCATION:NP 2
CATEGORIES:QuickScores, Softball Game
TRANSP:OPAQUE
BEGIN:VALARM
TRIGGER:-PT2H
ACTION:DISPLAY
DESCRIPTION:[A2] Pittsburgh Crawfords vs. [B3] Gill's OG's
END:VALARM
END:VEVENT
BEGIN:VEVENT
UID:issa-68488991-20250503T100000@quickscores.com
DTSTAMP:20260422T171300Z
DTSTART;TZID=America/New_York:20250503T100000
DURATION:PT1H30M0S
SUMMARY:[B1] UnLeashed vs. [A2] Pittsburgh Crawfords
DESCRIPTION:Men 50 Aa - International Senior Softball Association<br>ISSA
LOCATION:NP 2
CATEGORIES:QuickScores, Softball Game
TRANSP:OPAQUE
BEGIN:VALARM
TRIGGER:-PT2H
ACTION:DISPLAY
DESCRIPTION:[B1] UnLeashed vs. [A2] Pittsburgh Crawfords
END:VALARM
END:VEVENT
BEGIN:VEVENT
UID:issa-68488996-20250504T103000@quickscores.com
DTSTAMP:20260422T171300Z
DTSTART;TZID=America/New_York:20250504T103000
DURATION:PT1H30M0S
SUMMARY:[B2] Central Florida Vipers vs. [A2] Pittsburgh Crawfords
DESCRIPTION:Men 50 Aa - International Senior Softball Association<br>ISSA
LOCATION:NP 2
CATEGORIES:QuickScores, Softball Game
TRANSP:OPAQUE
BEGIN:VALARM
TRIGGER:-PT2H
ACTION:DISPLAY
DESCRIPTION:[B2] Central Florida Vipers vs. [A2] Pittsburgh Crawfords
END:VALARM
END:VEVENT
BEGIN:VEVENT
UID:issa-68488999-20250504T133000@quickscores.com
DTSTAMP:20260422T171300Z
DTSTART;TZID=America/New_York:20250504T133000
DURATION:PT1H30M0S
SUMMARY:[A2] Pittsburgh Crawfords vs. [B2] Central Florida Vipers
DESCRIPTION:Men 50 Aa - International Senior Softball Association<br>ISSA
LOCATION:NP 2
CATEGORIES:QuickScores, Softball Game
TRANSP:OPAQUE
BEGIN:VALARM
TRIGGER:-PT2H
ACTION:DISPLAY
DESCRIPTION:[A2] Pittsburgh Crawfords vs. [B2] Central Florida Vipers
END:VALARM
END:VEVENT
END:VCALENDAR
