BEGIN:VCALENDAR
VERSION:2.0
PRODID:-//QuickScores.com//BQ Dynamic iCal Creator//EN
METHOD:PUBLISH
X-WR-CALNAME:Mobley Brothers Roofing - Men 60 Aaa - 2025 ISSA Eastern Spring Nationals
X-WR-CALDESC:QuickScores game calendar
X-PUBLISHED-TTL:PT24H
REFRESH-INTERVAL;VALUE=DURATION:PT24H
CALSCALE:GREGORIAN
BEGIN:VTIMEZONE
TZID:America/New_York
X-LIC-LOCATION:America/New_York
BEGIN:DAYLIGHT
TZNAME:EDT
TZOFFSETFROM:-0500
TZOFFSETTO:-0400
DTSTART:19700308T020000
RRULE:FREQ=YEARLY;BYMONTH=3;BYDAY=2SU
END:DAYLIGHT
BEGIN:STANDARD
TZNAME:EST
TZOFFSETFROM:-0400
TZOFFSETTO:-0500
DTSTART:19701101T020000
RRULE:FREQ=YEARLY;BYMONTH=11;BYDAY=1SU
END:STANDARD
END:VTIMEZONE
BEGIN:VEVENT
UID:issa-68489182-20250502T150000@quickscores.com
DTSTAMP:20260423T070800Z
DTSTART;TZID=America/New_York:20250502T150000
DURATION:PT1H30M0S
SUMMARY:Mobley Brothers Roofing vs. Va Journeymen
DESCRIPTION:Men 60 Aaa - International Senior Softball Association<br>ISSA
LOCATION:BP 1
CATEGORIES:QuickScores, Softball Game
TRANSP:OPAQUE
BEGIN:VALARM
TRIGGER:-PT2H
ACTION:DISPLAY
DESCRIPTION:Mobley Brothers Roofing vs. Va Journeymen
END:VALARM
END:VEVENT
BEGIN:VEVENT
UID:issa-68489180-20250502T163000@quickscores.com
DTSTAMP:20260423T070800Z
DTSTART;TZID=America/New_York:20250502T163000
DURATION:PT1H30M0S
SUMMARY:Patriots vs. Mobley Brothers Roofing
DESCRIPTION:Men 60 Aaa - International Senior Softball Association<br>ISSA
LOCATION:BP 2
CATEGORIES:QuickScores, Softball Game
TRANSP:OPAQUE
BEGIN:VALARM
TRIGGER:-PT2H
ACTION:DISPLAY
DESCRIPTION:Patriots vs. Mobley Brothers Roofing
END:VALARM
END:VEVENT
BEGIN:VEVENT
UID:issa-68489185-20250503T083000@quickscores.com
DTSTAMP:20260423T070800Z
DTSTART;TZID=America/New_York:20250503T083000
DURATION:PT1H30M0S
SUMMARY:[B2] Turn 2. Electric vs. [A3] Mobley Brothers Roofing
DESCRIPTION:Men 60 Aaa - International Senior Softball Association<br>ISSA
LOCATION:BP 1
CATEGORIES:QuickScores, Softball Game
TRANSP:OPAQUE
BEGIN:VALARM
TRIGGER:-PT2H
ACTION:DISPLAY
DESCRIPTION:[B2] Turn 2. Electric vs. [A3] Mobley Brothers Roofing
END:VALARM
END:VEVENT
BEGIN:VEVENT
UID:issa-68489192-20250503T130000@quickscores.com
DTSTAMP:20260423T070800Z
DTSTART;TZID=America/New_York:20250503T130000
DURATION:PT1H30M0S
SUMMARY:[A2] Va Journeymen vs. [A3] Mobley Brothers Roofing
DESCRIPTION:Men 60 Aaa - International Senior Softball Association<br>ISSA
LOCATION:BP 1
CATEGORIES:QuickScores, Softball Game
TRANSP:OPAQUE
BEGIN:VALARM
TRIGGER:-PT2H
ACTION:DISPLAY
DESCRIPTION:[A2] Va Journeymen vs. [A3] Mobley Brothers Roofing
END:VALARM
END:VEVENT
BEGIN:VEVENT
UID:issa-68489195-20250503T160000@quickscores.com
DTSTAMP:20260423T070800Z
DTSTART;TZID=America/New_York:20250503T160000
DURATION:PT1H30M0S
SUMMARY:[A3] Mobley Brothers Roofing vs. [B2] Turn 2. Electric
DESCRIPTION:Men 60 Aaa - International Senior Softball Association<br>ISSA
LOCATION:BP 1
CATEGORIES:QuickScores, Softball Game
TRANSP:OPAQUE
BEGIN:VALARM
TRIGGER:-PT2H
ACTION:DISPLAY
DESCRIPTION:[A3] Mobley Brothers Roofing vs. [B2] Turn 2. Electric
END:VALARM
END:VEVENT
END:VCALENDAR
