BEGIN:VCALENDAR
VERSION:2.0
PRODID:-//QuickScores.com//BQ Dynamic iCal Creator//EN
METHOD:PUBLISH
X-WR-CALNAME:Austin Wizards - Men 65/70 Aaa - 2025 ISSA Western USA Championships
X-WR-CALDESC:QuickScores game calendar
X-PUBLISHED-TTL:PT24H
REFRESH-INTERVAL;VALUE=DURATION:PT24H
CALSCALE:GREGORIAN
BEGIN:VTIMEZONE
TZID:America/New_York
X-LIC-LOCATION:America/New_York
BEGIN:DAYLIGHT
TZNAME:EDT
TZOFFSETFROM:-0500
TZOFFSETTO:-0400
DTSTART:19700308T020000
RRULE:FREQ=YEARLY;BYMONTH=3;BYDAY=2SU
END:DAYLIGHT
BEGIN:STANDARD
TZNAME:EST
TZOFFSETFROM:-0400
TZOFFSETTO:-0500
DTSTART:19701101T020000
RRULE:FREQ=YEARLY;BYMONTH=11;BYDAY=1SU
END:STANDARD
END:VTIMEZONE
BEGIN:VEVENT
UID:issa-67279940-20250308T083000@quickscores.com
DTSTAMP:20260419T185500Z
DTSTART;TZID=America/New_York:20250308T083000
DURATION:PT1H30M0S
SUMMARY:Team Texas vs. Austin Wizards
DESCRIPTION:Men 65/70 Aaa - International Senior Softball Association<br>ISSA
LOCATION:CRC 1
CATEGORIES:QuickScores, Softball Game
TRANSP:OPAQUE
BEGIN:VALARM
TRIGGER:-PT2H
ACTION:DISPLAY
DESCRIPTION:Team Texas vs. Austin Wizards
END:VALARM
END:VEVENT
BEGIN:VEVENT
UID:issa-67279943-20250308T100000@quickscores.com
DTSTAMP:20260419T185500Z
DTSTART;TZID=America/New_York:20250308T100000
DURATION:PT1H30M0S
SUMMARY:Austin Wizards vs. Texas Rattlers
DESCRIPTION:Men 65/70 Aaa - International Senior Softball Association<br>ISSA
LOCATION:CRC 2
CATEGORIES:QuickScores, Softball Game
TRANSP:OPAQUE
BEGIN:VALARM
TRIGGER:-PT2H
ACTION:DISPLAY
DESCRIPTION:Austin Wizards vs. Texas Rattlers
END:VALARM
END:VEVENT
END:VCALENDAR
