BEGIN:VCALENDAR
VERSION:2.0
PRODID:-//QuickScores.com//BQ Dynamic iCal Creator//EN
METHOD:PUBLISH
X-WR-CALNAME:The Starboard - Men 65 Aaa - 2025 ISSA/WBSC World Tournament of Champions
X-WR-CALDESC:QuickScores game calendar
X-PUBLISHED-TTL:PT24H
REFRESH-INTERVAL;VALUE=DURATION:PT24H
CALSCALE:GREGORIAN
BEGIN:VTIMEZONE
TZID:America/New_York
X-LIC-LOCATION:America/New_York
BEGIN:DAYLIGHT
TZNAME:EDT
TZOFFSETFROM:-0500
TZOFFSETTO:-0400
DTSTART:19700308T020000
RRULE:FREQ=YEARLY;BYMONTH=3;BYDAY=2SU
END:DAYLIGHT
BEGIN:STANDARD
TZNAME:EST
TZOFFSETFROM:-0400
TZOFFSETTO:-0500
DTSTART:19701101T020000
RRULE:FREQ=YEARLY;BYMONTH=11;BYDAY=1SU
END:STANDARD
END:VTIMEZONE
BEGIN:VEVENT
UID:issa-66610946-20250128T090000@quickscores.com
DTSTAMP:20260423T150200Z
DTSTART;TZID=America/New_York:20250128T090000
DURATION:PT1H30M0S
SUMMARY:Steve Levin 65 vs. The Starboard
DESCRIPTION:Men 65 Aaa - International Senior Softball Association<br>ISSA
LOCATION:OPSC 1
CATEGORIES:QuickScores, Softball Game
TRANSP:OPAQUE
BEGIN:VALARM
TRIGGER:-PT2H
ACTION:DISPLAY
DESCRIPTION:Steve Levin 65 vs. The Starboard
END:VALARM
END:VEVENT
BEGIN:VEVENT
UID:issa-66610952-20250128T103000@quickscores.com
DTSTAMP:20260423T150200Z
DTSTART;TZID=America/New_York:20250128T103000
DURATION:PT1H30M0S
SUMMARY:The Starboard vs. Vecter Scorpions 65
DESCRIPTION:Men 65 Aaa - International Senior Softball Association<br>ISSA
LOCATION:OPSC 1
CATEGORIES:QuickScores, Softball Game
TRANSP:OPAQUE
BEGIN:VALARM
TRIGGER:-PT2H
ACTION:DISPLAY
DESCRIPTION:The Starboard vs. Vecter Scorpions 65
END:VALARM
END:VEVENT
BEGIN:VEVENT
UID:issa-66611089-20250129T083000@quickscores.com
DTSTAMP:20260423T150200Z
DTSTART;TZID=America/New_York:20250129T083000
DURATION:PT1H30M0S
SUMMARY:[A3] The Starboard vs. [C4] Great Lakes Tornadoes
DESCRIPTION:Men 65 Aaa - International Senior Softball Association<br>ISSA
LOCATION:OPSC 2
CATEGORIES:QuickScores, Softball Game
TRANSP:OPAQUE
BEGIN:VALARM
TRIGGER:-PT2H
ACTION:DISPLAY
DESCRIPTION:[A3] The Starboard vs. [C4] Great Lakes Tornadoes
END:VALARM
END:VEVENT
END:VCALENDAR
