BEGIN:VCALENDAR
VERSION:2.0
PRODID:-//QuickScores.com//BQ Dynamic iCal Creator//EN
METHOD:PUBLISH
X-WR-CALNAME:Racehorse Tavern/ Girard Club/Old Skool - Men 50/55 Aaa - 2024 ISSA 30th Annual World Championships
X-WR-CALDESC:QuickScores game calendar
X-PUBLISHED-TTL:PT24H
REFRESH-INTERVAL;VALUE=DURATION:PT24H
CALSCALE:GREGORIAN
BEGIN:VTIMEZONE
TZID:America/New_York
X-LIC-LOCATION:America/New_York
BEGIN:DAYLIGHT
TZNAME:EDT
TZOFFSETFROM:-0500
TZOFFSETTO:-0400
DTSTART:19700308T020000
RRULE:FREQ=YEARLY;BYMONTH=3;BYDAY=2SU
END:DAYLIGHT
BEGIN:STANDARD
TZNAME:EST
TZOFFSETFROM:-0400
TZOFFSETTO:-0500
DTSTART:19701101T020000
RRULE:FREQ=YEARLY;BYMONTH=11;BYDAY=1SU
END:STANDARD
END:VTIMEZONE
BEGIN:VEVENT
UID:issa-64189355-20240810T113000@quickscores.com
DTSTAMP:20260422T193800Z
DTSTART;TZID=America/New_York:20240810T113000
DURATION:PT1H30M0S
SUMMARY:Expert Industrial Supply/Fradkin Law vs. Racehorse Tavern/ Girard Club/Old Skool
DESCRIPTION:Men 50/55 Aaa - International Senior Softball Association<br>ISSA
LOCATION:DP 1
CATEGORIES:QuickScores, Softball Game
TRANSP:OPAQUE
BEGIN:VALARM
TRIGGER:-PT2H
ACTION:DISPLAY
DESCRIPTION:Expert Industrial Supply/Fradkin Law vs. Racehorse Tavern/ Girard Club/Old Skool
END:VALARM
END:VEVENT
BEGIN:VEVENT
UID:issa-64189359-20240810T143000@quickscores.com
DTSTAMP:20260422T193800Z
DTSTART;TZID=America/New_York:20240810T143000
DURATION:PT1H30M0S
SUMMARY:Racehorse Tavern/ Girard Club/Old Skool vs. Backside
DESCRIPTION:Men 50/55 Aaa - International Senior Softball Association<br>ISSA
LOCATION:DP 2
CATEGORIES:QuickScores, Softball Game
TRANSP:OPAQUE
BEGIN:VALARM
TRIGGER:-PT2H
ACTION:DISPLAY
DESCRIPTION:Racehorse Tavern/ Girard Club/Old Skool vs. Backside
END:VALARM
END:VEVENT
BEGIN:VEVENT
UID:issa-64189364-20240810T173000@quickscores.com
DTSTAMP:20260422T193800Z
DTSTART;TZID=America/New_York:20240810T173000
DURATION:PT1H30M0S
SUMMARY:Racehorse Tavern/ Girard Club/Old Skool vs. FFE 50'S
DESCRIPTION:Men 50/55 Aaa - International Senior Softball Association<br>ISSA
LOCATION:DP 1
CATEGORIES:QuickScores, Softball Game
TRANSP:OPAQUE
BEGIN:VALARM
TRIGGER:-PT2H
ACTION:DISPLAY
DESCRIPTION:Racehorse Tavern/ Girard Club/Old Skool vs. FFE 50'S
END:VALARM
END:VEVENT
END:VCALENDAR
