BEGIN:VCALENDAR
VERSION:2.0
PRODID:-//QuickScores.com//BQ Dynamic iCal Creator//EN
METHOD:PUBLISH
X-WR-CALNAME:Flatline / Van Metre Homes - Men 50 Aa - 2024 WBSC Senior World Cup
X-WR-CALDESC:QuickScores game calendar
X-PUBLISHED-TTL:PT24H
REFRESH-INTERVAL;VALUE=DURATION:PT24H
CALSCALE:GREGORIAN
BEGIN:VTIMEZONE
TZID:America/New_York
X-LIC-LOCATION:America/New_York
BEGIN:DAYLIGHT
TZNAME:EDT
TZOFFSETFROM:-0500
TZOFFSETTO:-0400
DTSTART:19700308T020000
RRULE:FREQ=YEARLY;BYMONTH=3;BYDAY=2SU
END:DAYLIGHT
BEGIN:STANDARD
TZNAME:EST
TZOFFSETFROM:-0400
TZOFFSETTO:-0500
DTSTART:19701101T020000
RRULE:FREQ=YEARLY;BYMONTH=11;BYDAY=1SU
END:STANDARD
END:VTIMEZONE
BEGIN:VEVENT
UID:issa-63779759-20240621T133000@quickscores.com
DTSTAMP:20260424T183500Z
DTSTART;TZID=America/New_York:20240621T133000
DURATION:PT1H30M0S
SUMMARY:ShineOn vs. Flatline / Van Metre Homes
DESCRIPTION:Men 50 Aa - International Senior Softball Association<br>ISSA
LOCATION:ABS 2 - North
CATEGORIES:QuickScores, Softball Game
TRANSP:OPAQUE
BEGIN:VALARM
TRIGGER:-PT2H
ACTION:DISPLAY
DESCRIPTION:ShineOn vs. Flatline / Van Metre Homes
END:VALARM
END:VEVENT
BEGIN:VEVENT
UID:issa-63779761-20240621T150000@quickscores.com
DTSTAMP:20260424T183500Z
DTSTART;TZID=America/New_York:20240621T150000
DURATION:PT1H30M0S
SUMMARY:Flatline / Van Metre Homes vs. Carolina Elite
DESCRIPTION:Men 50 Aa - International Senior Softball Association<br>ISSA
LOCATION:ABS 2 - North
CATEGORIES:QuickScores, Softball Game
TRANSP:OPAQUE
BEGIN:VALARM
TRIGGER:-PT2H
ACTION:DISPLAY
DESCRIPTION:Flatline / Van Metre Homes vs. Carolina Elite
END:VALARM
END:VEVENT
BEGIN:VEVENT
UID:issa-63779764-20240622T113000@quickscores.com
DTSTAMP:20260424T183500Z
DTSTART;TZID=America/New_York:20240622T113000
DURATION:PT1H30M0S
SUMMARY:[2] Flatline / Van Metre Homes vs. [3] Carolina Elite
DESCRIPTION:Men 50 Aa - International Senior Softball Association<br>ISSA
LOCATION:WP 2
CATEGORIES:QuickScores, Softball Game
TRANSP:OPAQUE
BEGIN:VALARM
TRIGGER:-PT2H
ACTION:DISPLAY
DESCRIPTION:[2] Flatline / Van Metre Homes vs. [3] Carolina Elite
END:VALARM
END:VEVENT
BEGIN:VEVENT
UID:issa-63779765-20240622T160000@quickscores.com
DTSTAMP:20260424T183500Z
DTSTART;TZID=America/New_York:20240622T160000
DURATION:PT1H30M0S
SUMMARY:[1] ShineOn vs. [2] Flatline / Van Metre Homes
DESCRIPTION:Men 50 Aa - International Senior Softball Association<br>ISSA
LOCATION:WP 1
CATEGORIES:QuickScores, Softball Game
TRANSP:OPAQUE
BEGIN:VALARM
TRIGGER:-PT2H
ACTION:DISPLAY
DESCRIPTION:[1] ShineOn vs. [2] Flatline / Van Metre Homes
END:VALARM
END:VEVENT
BEGIN:VEVENT
UID:issa-63779767-20240623T083000@quickscores.com
DTSTAMP:20260424T183500Z
DTSTART;TZID=America/New_York:20240623T083000
DURATION:PT1H30M0S
SUMMARY:[2] Flatline / Van Metre Homes vs. [4] JDL EXPRESS
DESCRIPTION:Men 50 Aa - International Senior Softball Association<br>ISSA
LOCATION:ABS 1 - East
CATEGORIES:QuickScores, Softball Game
TRANSP:OPAQUE
BEGIN:VALARM
TRIGGER:-PT2H
ACTION:DISPLAY
DESCRIPTION:[2] Flatline / Van Metre Homes vs. [4] JDL EXPRESS
END:VALARM
END:VEVENT
BEGIN:VEVENT
UID:issa-63779768-20240623T100000@quickscores.com
DTSTAMP:20260424T183500Z
DTSTART;TZID=America/New_York:20240623T100000
DURATION:PT1H30M0S
SUMMARY:[1] ShineOn vs. [2] Flatline / Van Metre Homes
DESCRIPTION:Men 50 Aa - International Senior Softball Association<br>ISSA
LOCATION:ABS 1 - East
CATEGORIES:QuickScores, Softball Game
TRANSP:OPAQUE
BEGIN:VALARM
TRIGGER:-PT2H
ACTION:DISPLAY
DESCRIPTION:[1] ShineOn vs. [2] Flatline / Van Metre Homes
END:VALARM
END:VEVENT
END:VCALENDAR
