BEGIN:VCALENDAR
VERSION:2.0
PRODID:-//QuickScores.com//BQ Dynamic iCal Creator//EN
METHOD:PUBLISH
X-WR-CALNAME:Tennessee Select 55&#039;s/LP Sports - Men 55 Aaa - 2024 ISSA Rocket City Spring Nationals
X-WR-CALDESC:QuickScores game calendar
X-PUBLISHED-TTL:PT24H
REFRESH-INTERVAL;VALUE=DURATION:PT24H
CALSCALE:GREGORIAN
BEGIN:VTIMEZONE
TZID:America/New_York
X-LIC-LOCATION:America/New_York
BEGIN:DAYLIGHT
TZNAME:EDT
TZOFFSETFROM:-0500
TZOFFSETTO:-0400
DTSTART:19700308T020000
RRULE:FREQ=YEARLY;BYMONTH=3;BYDAY=2SU
END:DAYLIGHT
BEGIN:STANDARD
TZNAME:EST
TZOFFSETFROM:-0400
TZOFFSETTO:-0500
DTSTART:19701101T020000
RRULE:FREQ=YEARLY;BYMONTH=11;BYDAY=1SU
END:STANDARD
END:VTIMEZONE
BEGIN:VEVENT
UID:issa-61783970-20240310T080000@quickscores.com
DTSTAMP:20260420T205200Z
DTSTART;TZID=America/New_York:20240310T080000
DURATION:PT1H30M0S
SUMMARY:Tennessee Select 55's/LP Sports vs. We Coming Softball
DESCRIPTION:Men 55 Aaa - International Senior Softball Association<br>ISSA
LOCATION:MKS 3
CATEGORIES:QuickScores, Softball Game
TRANSP:OPAQUE
BEGIN:VALARM
TRIGGER:-PT2H
ACTION:DISPLAY
DESCRIPTION:Tennessee Select 55's/LP Sports vs. We Coming Softball
END:VALARM
END:VEVENT
BEGIN:VEVENT
UID:issa-62128543-20240310T110000@quickscores.com
DTSTAMP:20260420T205200Z
DTSTART;TZID=America/New_York:20240310T110000
DURATION:PT1H30M0S
SUMMARY:Peacemakers vs. Tennessee Select 55's/LP Sports
DESCRIPTION:Men 55 Aaa - International Senior Softball Association<br>ISSA
LOCATION:MKS 3
CATEGORIES:QuickScores, Softball Game
TRANSP:OPAQUE
BEGIN:VALARM
TRIGGER:-PT2H
ACTION:DISPLAY
DESCRIPTION:Peacemakers vs. Tennessee Select 55's/LP Sports
END:VALARM
END:VEVENT
BEGIN:VEVENT
UID:issa-61783974-20240310T140000@quickscores.com
DTSTAMP:20260420T205200Z
DTSTART;TZID=America/New_York:20240310T140000
DURATION:PT1H30M0S
SUMMARY:[1] Tennessee Select 55's/LP Sports vs. [2] We Coming Softball
DESCRIPTION:Men 55 Aaa - International Senior Softball Association<br>ISSA
LOCATION:MKS 3
CATEGORIES:QuickScores, Softball Game
TRANSP:OPAQUE
BEGIN:VALARM
TRIGGER:-PT2H
ACTION:DISPLAY
DESCRIPTION:[1] Tennessee Select 55's/LP Sports vs. [2] We Coming Softball
END:VALARM
END:VEVENT
END:VCALENDAR
