BEGIN:VCALENDAR
VERSION:2.0
PRODID:-//QuickScores.com//BQ Dynamic iCal Creator//EN
METHOD:PUBLISH
X-WR-CALNAME:Palmetto Mutiny - Men 50 Aaa - 2023 ISSA Winter Worlds & USA Championships
X-WR-CALDESC:QuickScores game calendar
X-PUBLISHED-TTL:PT24H
REFRESH-INTERVAL;VALUE=DURATION:PT24H
CALSCALE:GREGORIAN
BEGIN:VTIMEZONE
TZID:America/New_York
X-LIC-LOCATION:America/New_York
BEGIN:DAYLIGHT
TZNAME:EDT
TZOFFSETFROM:-0500
TZOFFSETTO:-0400
DTSTART:19700308T020000
RRULE:FREQ=YEARLY;BYMONTH=3;BYDAY=2SU
END:DAYLIGHT
BEGIN:STANDARD
TZNAME:EST
TZOFFSETFROM:-0400
TZOFFSETTO:-0500
DTSTART:19701101T020000
RRULE:FREQ=YEARLY;BYMONTH=11;BYDAY=1SU
END:STANDARD
END:VTIMEZONE
BEGIN:VEVENT
UID:issa-60295981-20231103T130000@quickscores.com
DTSTAMP:20260425T165800Z
DTSTART;TZID=America/New_York:20231103T130000
DURATION:PT1H30M0S
SUMMARY:Palmetto Mutiny vs. Tennessee Select/LP Sports 50's
DESCRIPTION:USA Championship Game --- Men 50 Aaa - International Senior Softball Association<br>ISSA
LOCATION:BSC-B3
CATEGORIES:QuickScores, Softball Game
TRANSP:OPAQUE
BEGIN:VALARM
TRIGGER:-PT2H
ACTION:DISPLAY
DESCRIPTION:Palmetto Mutiny vs. Tennessee Select/LP Sports 50's
END:VALARM
END:VEVENT
BEGIN:VEVENT
UID:issa-60295985-20231103T143000@quickscores.com
DTSTAMP:20260425T165800Z
DTSTART;TZID=America/New_York:20231103T143000
DURATION:PT1H30M0S
SUMMARY:MC Improvements vs. Palmetto Mutiny
DESCRIPTION:USA Championship Game --- Men 50 Aaa - International Senior Softball Association<br>ISSA
LOCATION:BSC-B3
CATEGORIES:QuickScores, Softball Game
TRANSP:OPAQUE
BEGIN:VALARM
TRIGGER:-PT2H
ACTION:DISPLAY
DESCRIPTION:MC Improvements vs. Palmetto Mutiny
END:VALARM
END:VEVENT
BEGIN:VEVENT
UID:issa-60296032-20231104T113000@quickscores.com
DTSTAMP:20260425T165800Z
DTSTART;TZID=America/New_York:20231104T113000
DURATION:PT1H30M0S
SUMMARY:[A1] Palmetto Mutiny vs. [C3] Dirty Sports Seniors
DESCRIPTION:Men 50 Aaa - International Senior Softball Association<br>ISSA
LOCATION:BSC-B3
CATEGORIES:QuickScores, Softball Game
TRANSP:OPAQUE
BEGIN:VALARM
TRIGGER:-PT2H
ACTION:DISPLAY
DESCRIPTION:[A1] Palmetto Mutiny vs. [C3] Dirty Sports Seniors
END:VALARM
END:VEVENT
BEGIN:VEVENT
UID:issa-60296047-20231104T160000@quickscores.com
DTSTAMP:20260425T165800Z
DTSTART;TZID=America/New_York:20231104T160000
DURATION:PT1H30M0S
SUMMARY:[C1] HEX.COM/Misfits vs. [A1] Palmetto Mutiny
DESCRIPTION:Men 50 Aaa - International Senior Softball Association<br>ISSA
LOCATION:BSC-B3
CATEGORIES:QuickScores, Softball Game
TRANSP:OPAQUE
BEGIN:VALARM
TRIGGER:-PT2H
ACTION:DISPLAY
DESCRIPTION:[C1] HEX.COM/Misfits vs. [A1] Palmetto Mutiny
END:VALARM
END:VEVENT
BEGIN:VEVENT
UID:issa-60296049-20231104T173000@quickscores.com
DTSTAMP:20260425T165800Z
DTSTART;TZID=America/New_York:20231104T173000
DURATION:PT1H30M0S
SUMMARY:[A3] Tennessee Select/LP Sports 50's vs. [A1] Palmetto Mutiny
DESCRIPTION:Men 50 Aaa - International Senior Softball Association<br>ISSA
LOCATION:BSC-B3
CATEGORIES:QuickScores, Softball Game
TRANSP:OPAQUE
BEGIN:VALARM
TRIGGER:-PT2H
ACTION:DISPLAY
DESCRIPTION:[A3] Tennessee Select/LP Sports 50's vs. [A1] Palmetto Mutiny
END:VALARM
END:VEVENT
BEGIN:VEVENT
UID:issa-60296051-20231105T083000@quickscores.com
DTSTAMP:20260425T165800Z
DTSTART;TZID=America/New_York:20231105T083000
DURATION:PT1H30M0S
SUMMARY:[C2] Bangers vs. [A1] Palmetto Mutiny
DESCRIPTION:Men 50 Aaa - International Senior Softball Association<br>ISSA
LOCATION:BSC-B5
CATEGORIES:QuickScores, Softball Game
TRANSP:OPAQUE
BEGIN:VALARM
TRIGGER:-PT2H
ACTION:DISPLAY
DESCRIPTION:[C2] Bangers vs. [A1] Palmetto Mutiny
END:VALARM
END:VEVENT
BEGIN:VEVENT
UID:issa-60296052-20231105T100000@quickscores.com
DTSTAMP:20260425T165800Z
DTSTART;TZID=America/New_York:20231105T100000
DURATION:PT1H30M0S
SUMMARY:[B1] Backside vs. [A1] Palmetto Mutiny
DESCRIPTION:Men 50 Aaa - International Senior Softball Association<br>ISSA
LOCATION:BSC-B5
CATEGORIES:QuickScores, Softball Game
TRANSP:OPAQUE
BEGIN:VALARM
TRIGGER:-PT2H
ACTION:DISPLAY
DESCRIPTION:[B1] Backside vs. [A1] Palmetto Mutiny
END:VALARM
END:VEVENT
BEGIN:VEVENT
UID:issa-60296053-20231105T113000@quickscores.com
DTSTAMP:20260425T165800Z
DTSTART;TZID=America/New_York:20231105T113000
DURATION:PT1H30M0S
SUMMARY:[A2] MC Improvements vs. [A1] Palmetto Mutiny
DESCRIPTION:Men 50 Aaa - International Senior Softball Association<br>ISSA
LOCATION:BSC-B5
CATEGORIES:QuickScores, Softball Game
TRANSP:OPAQUE
BEGIN:VALARM
TRIGGER:-PT2H
ACTION:DISPLAY
DESCRIPTION:[A2] MC Improvements vs. [A1] Palmetto Mutiny
END:VALARM
END:VEVENT
END:VCALENDAR
