BEGIN:VCALENDAR
VERSION:2.0
PRODID:-//QuickScores.com//BQ Dynamic iCal Creator//EN
METHOD:PUBLISH
X-WR-CALNAME:Our Dirt Softball - Men 50 Aaa - 2023 Southside Indy USA Championships
X-WR-CALDESC:QuickScores game calendar
X-PUBLISHED-TTL:PT24H
REFRESH-INTERVAL;VALUE=DURATION:PT24H
CALSCALE:GREGORIAN
BEGIN:VTIMEZONE
TZID:America/New_York
X-LIC-LOCATION:America/New_York
BEGIN:DAYLIGHT
TZNAME:EDT
TZOFFSETFROM:-0500
TZOFFSETTO:-0400
DTSTART:19700308T020000
RRULE:FREQ=YEARLY;BYMONTH=3;BYDAY=2SU
END:DAYLIGHT
BEGIN:STANDARD
TZNAME:EST
TZOFFSETFROM:-0400
TZOFFSETTO:-0500
DTSTART:19701101T020000
RRULE:FREQ=YEARLY;BYMONTH=11;BYDAY=1SU
END:STANDARD
END:VTIMEZONE
BEGIN:VEVENT
UID:issa-59613996-20230908T160000@quickscores.com
DTSTAMP:20260425T135000Z
DTSTART;TZID=America/New_York:20230908T160000
DURATION:PT1H30M0S
SUMMARY:Our Dirt Softball vs. Pro V / csn
DESCRIPTION:Men 50 Aaa - International Senior Softball Association<br>ISSA
LOCATION:ISP 8
CATEGORIES:QuickScores, Softball Game
TRANSP:OPAQUE
BEGIN:VALARM
TRIGGER:-PT2H
ACTION:DISPLAY
DESCRIPTION:Our Dirt Softball vs. Pro V / csn
END:VALARM
END:VEVENT
BEGIN:VEVENT
UID:issa-59613997-20230908T173000@quickscores.com
DTSTAMP:20260425T135000Z
DTSTART;TZID=America/New_York:20230908T173000
DURATION:PT1H30M0S
SUMMARY:River City Thunder vs. Our Dirt Softball
DESCRIPTION:Men 50 Aaa - International Senior Softball Association<br>ISSA
LOCATION:ISP 6
CATEGORIES:QuickScores, Softball Game
TRANSP:OPAQUE
BEGIN:VALARM
TRIGGER:-PT2H
ACTION:DISPLAY
DESCRIPTION:River City Thunder vs. Our Dirt Softball
END:VALARM
END:VEVENT
BEGIN:VEVENT
UID:issa-59614663-20230909T083000@quickscores.com
DTSTAMP:20260425T135000Z
DTSTART;TZID=America/New_York:20230909T083000
DURATION:PT1H30M0S
SUMMARY:[B2] Our Dirt Softball vs. [A4] Area 51 50s
DESCRIPTION:Men 50 Aaa - International Senior Softball Association<br>ISSA
LOCATION:ISP 4
CATEGORIES:QuickScores, Softball Game
TRANSP:OPAQUE
BEGIN:VALARM
TRIGGER:-PT2H
ACTION:DISPLAY
DESCRIPTION:[B2] Our Dirt Softball vs. [A4] Area 51 50s
END:VALARM
END:VEVENT
BEGIN:VEVENT
UID:issa-59614667-20230909T100000@quickscores.com
DTSTAMP:20260425T135000Z
DTSTART;TZID=America/New_York:20230909T100000
DURATION:PT1H30M0S
SUMMARY:[C1] Tennessee Select/LP Sports 50's vs. [B2] Our Dirt Softball
DESCRIPTION:Men 50 Aaa - International Senior Softball Association<br>ISSA
LOCATION:ISP 4
CATEGORIES:QuickScores, Softball Game
TRANSP:OPAQUE
BEGIN:VALARM
TRIGGER:-PT2H
ACTION:DISPLAY
DESCRIPTION:[C1] Tennessee Select/LP Sports 50's vs. [B2] Our Dirt Softball
END:VALARM
END:VEVENT
BEGIN:VEVENT
UID:issa-59614672-20230909T130000@quickscores.com
DTSTAMP:20260425T135000Z
DTSTART;TZID=America/New_York:20230909T130000
DURATION:PT1H30M0S
SUMMARY:[B2] Our Dirt Softball vs. [B3] River City Thunder
DESCRIPTION:Men 50 Aaa - International Senior Softball Association<br>ISSA
LOCATION:ISP 8
CATEGORIES:QuickScores, Softball Game
TRANSP:OPAQUE
BEGIN:VALARM
TRIGGER:-PT2H
ACTION:DISPLAY
DESCRIPTION:[B2] Our Dirt Softball vs. [B3] River City Thunder
END:VALARM
END:VEVENT
END:VCALENDAR
