BEGIN:VCALENDAR
VERSION:2.0
PRODID:-//QuickScores.com//BQ Dynamic iCal Creator//EN
METHOD:PUBLISH
X-WR-CALNAME:22 sofftball/DL/hudson/jeffschmitt - Men 50 Aaa - 2023 Southside Indy USA Championships
X-WR-CALDESC:QuickScores game calendar
X-PUBLISHED-TTL:PT24H
REFRESH-INTERVAL;VALUE=DURATION:PT24H
CALSCALE:GREGORIAN
BEGIN:VTIMEZONE
TZID:America/New_York
X-LIC-LOCATION:America/New_York
BEGIN:DAYLIGHT
TZNAME:EDT
TZOFFSETFROM:-0500
TZOFFSETTO:-0400
DTSTART:19700308T020000
RRULE:FREQ=YEARLY;BYMONTH=3;BYDAY=2SU
END:DAYLIGHT
BEGIN:STANDARD
TZNAME:EST
TZOFFSETFROM:-0400
TZOFFSETTO:-0500
DTSTART:19701101T020000
RRULE:FREQ=YEARLY;BYMONTH=11;BYDAY=1SU
END:STANDARD
END:VTIMEZONE
BEGIN:VEVENT
UID:issa-59613994-20230908T173000@quickscores.com
DTSTAMP:20260425T112000Z
DTSTART;TZID=America/New_York:20230908T173000
DURATION:PT1H30M0S
SUMMARY:22 sofftball/DL/hudson/jeffschmitt vs. Chitown Assault
DESCRIPTION:Men 50 Aaa - International Senior Softball Association<br>ISSA
LOCATION:ISP 4
CATEGORIES:QuickScores, Softball Game
TRANSP:OPAQUE
BEGIN:VALARM
TRIGGER:-PT2H
ACTION:DISPLAY
DESCRIPTION:22 sofftball/DL/hudson/jeffschmitt vs. Chitown Assault
END:VALARM
END:VEVENT
BEGIN:VEVENT
UID:issa-59614000-20230908T190000@quickscores.com
DTSTAMP:20260425T112000Z
DTSTART;TZID=America/New_York:20230908T190000
DURATION:PT1H30M0S
SUMMARY:Area 51 50s vs. 22 sofftball/DL/hudson/jeffschmitt
DESCRIPTION:Men 50 Aaa - International Senior Softball Association<br>ISSA
LOCATION:ISP 4
CATEGORIES:QuickScores, Softball Game
TRANSP:OPAQUE
BEGIN:VALARM
TRIGGER:-PT2H
ACTION:DISPLAY
DESCRIPTION:Area 51 50s vs. 22 sofftball/DL/hudson/jeffschmitt
END:VALARM
END:VEVENT
BEGIN:VEVENT
UID:issa-59614664-20230909T100000@quickscores.com
DTSTAMP:20260425T112000Z
DTSTART;TZID=America/New_York:20230909T100000
DURATION:PT1H30M0S
SUMMARY:[A1] 22 sofftball/DL/hudson/jeffschmitt vs. [C3] Southern ILLINOIS
DESCRIPTION:Men 50 Aaa - International Senior Softball Association<br>ISSA
LOCATION:ISP 5
CATEGORIES:QuickScores, Softball Game
TRANSP:OPAQUE
BEGIN:VALARM
TRIGGER:-PT2H
ACTION:DISPLAY
DESCRIPTION:[A1] 22 sofftball/DL/hudson/jeffschmitt vs. [C3] Southern ILLINOIS
END:VALARM
END:VEVENT
BEGIN:VEVENT
UID:issa-59614676-20230909T143000@quickscores.com
DTSTAMP:20260425T112000Z
DTSTART;TZID=America/New_York:20230909T143000
DURATION:PT1H30M0S
SUMMARY:[A1] 22 sofftball/DL/hudson/jeffschmitt vs. [C2] Team OG 50
DESCRIPTION:Men 50 Aaa - International Senior Softball Association<br>ISSA
LOCATION:ISP 7
CATEGORIES:QuickScores, Softball Game
TRANSP:OPAQUE
BEGIN:VALARM
TRIGGER:-PT2H
ACTION:DISPLAY
DESCRIPTION:[A1] 22 sofftball/DL/hudson/jeffschmitt vs. [C2] Team OG 50
END:VALARM
END:VEVENT
BEGIN:VEVENT
UID:issa-59614682-20230909T173000@quickscores.com
DTSTAMP:20260425T112000Z
DTSTART;TZID=America/New_York:20230909T173000
DURATION:PT1H30M0S
SUMMARY:[A1] 22 sofftball/DL/hudson/jeffschmitt vs. [B1] MC Improvements
DESCRIPTION:Men 50 Aaa - International Senior Softball Association<br>ISSA
LOCATION:ISP 6
CATEGORIES:QuickScores, Softball Game
TRANSP:OPAQUE
BEGIN:VALARM
TRIGGER:-PT2H
ACTION:DISPLAY
DESCRIPTION:[A1] 22 sofftball/DL/hudson/jeffschmitt vs. [B1] MC Improvements
END:VALARM
END:VEVENT
BEGIN:VEVENT
UID:issa-59614684-20230910T100000@quickscores.com
DTSTAMP:20260425T112000Z
DTSTART;TZID=America/New_York:20230910T100000
DURATION:PT1H30M0S
SUMMARY:[A1] 22 sofftball/DL/hudson/jeffschmitt vs. [C1] Tennessee Select/LP Sports 50's
DESCRIPTION:Men 50 Aaa - International Senior Softball Association<br>ISSA
LOCATION:ISP 1
CATEGORIES:QuickScores, Softball Game
TRANSP:OPAQUE
BEGIN:VALARM
TRIGGER:-PT2H
ACTION:DISPLAY
DESCRIPTION:[A1] 22 sofftball/DL/hudson/jeffschmitt vs. [C1] Tennessee Select/LP Sports 50's
END:VALARM
END:VEVENT
END:VCALENDAR
