BEGIN:VCALENDAR
VERSION:2.0
PRODID:-//QuickScores.com//BQ Dynamic iCal Creator//EN
METHOD:PUBLISH
X-WR-CALNAME:Carolina Legends - Men 55 Major/major Gold/60 Major Gold - 2023 USA Softball Senior Nationals
X-WR-CALDESC:QuickScores game calendar
X-PUBLISHED-TTL:PT24H
REFRESH-INTERVAL;VALUE=DURATION:PT24H
CALSCALE:GREGORIAN
BEGIN:VTIMEZONE
TZID:America/New_York
X-LIC-LOCATION:America/New_York
BEGIN:DAYLIGHT
TZNAME:EDT
TZOFFSETFROM:-0500
TZOFFSETTO:-0400
DTSTART:19700308T020000
RRULE:FREQ=YEARLY;BYMONTH=3;BYDAY=2SU
END:DAYLIGHT
BEGIN:STANDARD
TZNAME:EST
TZOFFSETFROM:-0400
TZOFFSETTO:-0500
DTSTART:19701101T020000
RRULE:FREQ=YEARLY;BYMONTH=11;BYDAY=1SU
END:STANDARD
END:VTIMEZONE
BEGIN:VEVENT
UID:issa-58820346-20230714T143000@quickscores.com
DTSTAMP:20260420T223400Z
DTSTART;TZID=America/New_York:20230714T143000
DURATION:PT1H30M0S
SUMMARY:Carolina Legends vs. estes/rheem classics
DESCRIPTION:Men 55 Major/major Gold/60 Major Gold - International Senior Softball Association<br>ISSA
LOCATION:SW 2
CATEGORIES:QuickScores, Softball Game
TRANSP:OPAQUE
BEGIN:VALARM
TRIGGER:-PT2H
ACTION:DISPLAY
DESCRIPTION:Carolina Legends vs. estes/rheem classics
END:VALARM
END:VEVENT
BEGIN:VEVENT
UID:issa-58820344-20230714T190000@quickscores.com
DTSTAMP:20260420T223400Z
DTSTART;TZID=America/New_York:20230714T190000
DURATION:PT1H30M0S
SUMMARY:High Street 55's vs. Carolina Legends
DESCRIPTION:Men 55 Major/major Gold/60 Major Gold - International Senior Softball Association<br>ISSA
LOCATION:SW 1
CATEGORIES:QuickScores, Softball Game
TRANSP:OPAQUE
BEGIN:VALARM
TRIGGER:-PT2H
ACTION:DISPLAY
DESCRIPTION:High Street 55's vs. Carolina Legends
END:VALARM
END:VEVENT
END:VCALENDAR
