BEGIN:VCALENDAR
VERSION:2.0
PRODID:-//QuickScores.com//BQ Dynamic iCal Creator//EN
METHOD:PUBLISH
X-WR-CALNAME:Legends of Dayton 75 - Men 75 Aaa - 2023 ISSA Great Smoky Senior Session 2
X-WR-CALDESC:QuickScores game calendar
X-PUBLISHED-TTL:PT24H
REFRESH-INTERVAL;VALUE=DURATION:PT24H
CALSCALE:GREGORIAN
BEGIN:VTIMEZONE
TZID:America/New_York
X-LIC-LOCATION:America/New_York
BEGIN:DAYLIGHT
TZNAME:EDT
TZOFFSETFROM:-0500
TZOFFSETTO:-0400
DTSTART:19700308T020000
RRULE:FREQ=YEARLY;BYMONTH=3;BYDAY=2SU
END:DAYLIGHT
BEGIN:STANDARD
TZNAME:EST
TZOFFSETFROM:-0400
TZOFFSETTO:-0500
DTSTART:19701101T020000
RRULE:FREQ=YEARLY;BYMONTH=11;BYDAY=1SU
END:STANDARD
END:VTIMEZONE
BEGIN:VEVENT
UID:issa-58298896-20230606T113000@quickscores.com
DTSTAMP:20260423T191600Z
DTSTART;TZID=America/New_York:20230606T113000
DURATION:PT1H30M0S
SUMMARY:HTR vs. Legends of Dayton 75
DESCRIPTION:Men 75 Aaa - International Senior Softball Association<br>ISSA
LOCATION:CP-K 2
CATEGORIES:QuickScores, Softball Game
TRANSP:OPAQUE
BEGIN:VALARM
TRIGGER:-PT2H
ACTION:DISPLAY
DESCRIPTION:HTR vs. Legends of Dayton 75
END:VALARM
END:VEVENT
BEGIN:VEVENT
UID:issa-58298894-20230606T130000@quickscores.com
DTSTAMP:20260423T191600Z
DTSTART;TZID=America/New_York:20230606T130000
DURATION:PT1H30M0S
SUMMARY:Legends of Dayton 75 vs. Southern Thunder
DESCRIPTION:Men 75 Aaa - International Senior Softball Association<br>ISSA
LOCATION:CP-K 3
CATEGORIES:QuickScores, Softball Game
TRANSP:OPAQUE
BEGIN:VALARM
TRIGGER:-PT2H
ACTION:DISPLAY
DESCRIPTION:Legends of Dayton 75 vs. Southern Thunder
END:VALARM
END:VEVENT
BEGIN:VEVENT
UID:issa-58298900-20230607T080000@quickscores.com
DTSTAMP:20260423T191600Z
DTSTART;TZID=America/New_York:20230607T080000
DURATION:PT1H30M0S
SUMMARY:Legends of Dayton 75 vs. Southern Thunder
DESCRIPTION:Men 75 Aaa - International Senior Softball Association<br>ISSA
LOCATION:CP-K 2
CATEGORIES:QuickScores, Softball Game
TRANSP:OPAQUE
BEGIN:VALARM
TRIGGER:-PT2H
ACTION:DISPLAY
DESCRIPTION:Legends of Dayton 75 vs. Southern Thunder
END:VALARM
END:VEVENT
BEGIN:VEVENT
UID:issa-58298903-20230607T123000@quickscores.com
DTSTAMP:20260423T191600Z
DTSTART;TZID=America/New_York:20230607T123000
DURATION:PT1H30M0S
SUMMARY:Kentuckiana 75's vs. Legends of Dayton 75
DESCRIPTION:Men 75 Aaa - International Senior Softball Association<br>ISSA
LOCATION:CP-K 2
CATEGORIES:QuickScores, Softball Game
TRANSP:OPAQUE
BEGIN:VALARM
TRIGGER:-PT2H
ACTION:DISPLAY
DESCRIPTION:Kentuckiana 75's vs. Legends of Dayton 75
END:VALARM
END:VEVENT
END:VCALENDAR
