BEGIN:VCALENDAR
VERSION:2.0
PRODID:-//QuickScores.com//BQ Dynamic iCal Creator//EN
METHOD:PUBLISH
X-WR-CALNAME:Finest Athletics - Men 70 Major Gold - 2023 ISSA Great Smoky Senior Session 2
X-WR-CALDESC:QuickScores game calendar
X-PUBLISHED-TTL:PT24H
REFRESH-INTERVAL;VALUE=DURATION:PT24H
CALSCALE:GREGORIAN
BEGIN:VTIMEZONE
TZID:America/New_York
X-LIC-LOCATION:America/New_York
BEGIN:DAYLIGHT
TZNAME:EDT
TZOFFSETFROM:-0500
TZOFFSETTO:-0400
DTSTART:19700308T020000
RRULE:FREQ=YEARLY;BYMONTH=3;BYDAY=2SU
END:DAYLIGHT
BEGIN:STANDARD
TZNAME:EST
TZOFFSETFROM:-0400
TZOFFSETTO:-0500
DTSTART:19701101T020000
RRULE:FREQ=YEARLY;BYMONTH=11;BYDAY=1SU
END:STANDARD
END:VTIMEZONE
BEGIN:VEVENT
UID:issa-58299633-20230606T083000@quickscores.com
DTSTAMP:20260423T153700Z
DTSTART;TZID=America/New_York:20230606T083000
DURATION:PT1H30M0S
SUMMARY:Hollis Appraisals 70 vs. Finest Athletics
DESCRIPTION:Men 70 Major Gold - International Senior Softball Association<br>ISSA
LOCATION:EP 1
CATEGORIES:QuickScores, Softball Game
TRANSP:OPAQUE
BEGIN:VALARM
TRIGGER:-PT2H
ACTION:DISPLAY
DESCRIPTION:Hollis Appraisals 70 vs. Finest Athletics
END:VALARM
END:VEVENT
BEGIN:VEVENT
UID:issa-58299637-20230606T113000@quickscores.com
DTSTAMP:20260423T153700Z
DTSTART;TZID=America/New_York:20230606T113000
DURATION:PT1H30M0S
SUMMARY:Finest Athletics vs. Dayton Legends
DESCRIPTION:Men 70 Major Gold - International Senior Softball Association<br>ISSA
LOCATION:EP 1
CATEGORIES:QuickScores, Softball Game
TRANSP:OPAQUE
BEGIN:VALARM
TRIGGER:-PT2H
ACTION:DISPLAY
DESCRIPTION:Finest Athletics vs. Dayton Legends
END:VALARM
END:VEVENT
BEGIN:VEVENT
UID:issa-58300324-20230607T110000@quickscores.com
DTSTAMP:20260423T153700Z
DTSTART;TZID=America/New_York:20230607T110000
DURATION:PT1H30M0S
SUMMARY:[A1] Finest Athletics vs. [B2] Superior Softball
DESCRIPTION:Men 70 Major Gold - International Senior Softball Association<br>ISSA
LOCATION:EP 1
CATEGORIES:QuickScores, Softball Game
TRANSP:OPAQUE
BEGIN:VALARM
TRIGGER:-PT2H
ACTION:DISPLAY
DESCRIPTION:[A1] Finest Athletics vs. [B2] Superior Softball
END:VALARM
END:VEVENT
BEGIN:VEVENT
UID:issa-58300330-20230607T153000@quickscores.com
DTSTAMP:20260423T153700Z
DTSTART;TZID=America/New_York:20230607T153000
DURATION:PT1H30M0S
SUMMARY:[A1] Finest Athletics vs. [B1] Via Citrus 70
DESCRIPTION:Men 70 Major Gold - International Senior Softball Association<br>ISSA
LOCATION:EP 1
CATEGORIES:QuickScores, Softball Game
TRANSP:OPAQUE
BEGIN:VALARM
TRIGGER:-PT2H
ACTION:DISPLAY
DESCRIPTION:[A1] Finest Athletics vs. [B1] Via Citrus 70
END:VALARM
END:VEVENT
BEGIN:VEVENT
UID:issa-58300332-20230608T100000@quickscores.com
DTSTAMP:20260423T153700Z
DTSTART;TZID=America/New_York:20230608T100000
DURATION:PT1H30M0S
SUMMARY:[A1] Finest Athletics vs. [B2] Superior Softball
DESCRIPTION:Men 70 Major Gold - International Senior Softball Association<br>ISSA
LOCATION:EP 1
CATEGORIES:QuickScores, Softball Game
TRANSP:OPAQUE
BEGIN:VALARM
TRIGGER:-PT2H
ACTION:DISPLAY
DESCRIPTION:[A1] Finest Athletics vs. [B2] Superior Softball
END:VALARM
END:VEVENT
BEGIN:VEVENT
UID:issa-58300333-20230608T113000@quickscores.com
DTSTAMP:20260423T153700Z
DTSTART;TZID=America/New_York:20230608T113000
DURATION:PT1H30M0S
SUMMARY:[B1] Via Citrus 70 vs. [A1] Finest Athletics
DESCRIPTION:Men 70 Major Gold - International Senior Softball Association<br>ISSA
LOCATION:EP 1
CATEGORIES:QuickScores, Softball Game
TRANSP:OPAQUE
BEGIN:VALARM
TRIGGER:-PT2H
ACTION:DISPLAY
DESCRIPTION:[B1] Via Citrus 70 vs. [A1] Finest Athletics
END:VALARM
END:VEVENT
END:VCALENDAR
