BEGIN:VCALENDAR
VERSION:2.0
PRODID:-//QuickScores.com//BQ Dynamic iCal Creator//EN
METHOD:PUBLISH
X-WR-CALNAME:Freedom 75 - Men 75 Aa/aaa/80 Aaa/major/major Gold - 2023 ISSA Southern USA Championships
X-WR-CALDESC:QuickScores game calendar
X-PUBLISHED-TTL:PT24H
REFRESH-INTERVAL;VALUE=DURATION:PT24H
CALSCALE:GREGORIAN
BEGIN:VTIMEZONE
TZID:America/New_York
X-LIC-LOCATION:America/New_York
BEGIN:DAYLIGHT
TZNAME:EDT
TZOFFSETFROM:-0500
TZOFFSETTO:-0400
DTSTART:19700308T020000
RRULE:FREQ=YEARLY;BYMONTH=3;BYDAY=2SU
END:DAYLIGHT
BEGIN:STANDARD
TZNAME:EST
TZOFFSETFROM:-0400
TZOFFSETTO:-0500
DTSTART:19701101T020000
RRULE:FREQ=YEARLY;BYMONTH=11;BYDAY=1SU
END:STANDARD
END:VTIMEZONE
BEGIN:VEVENT
UID:issa-58062815-20230519T090000@quickscores.com
DTSTAMP:20260425T160800Z
DTSTART;TZID=America/New_York:20230519T090000
DURATION:PT1H30M0S
SUMMARY:Leiden's Legends vs. Freedom 75
DESCRIPTION:Men 75 Aa/aaa/80 Aaa/major/major Gold - International Senior Softball Association<br>ISSA
LOCATION:ASC 2
CATEGORIES:QuickScores, Softball Game
TRANSP:OPAQUE
BEGIN:VALARM
TRIGGER:-PT2H
ACTION:DISPLAY
DESCRIPTION:Leiden's Legends vs. Freedom 75
END:VALARM
END:VEVENT
BEGIN:VEVENT
UID:issa-58062817-20230519T120000@quickscores.com
DTSTAMP:20260425T160800Z
DTSTART;TZID=America/New_York:20230519T120000
DURATION:PT1H30M0S
SUMMARY:Freedom 75 vs. SOUTHERN THUNDER
DESCRIPTION:Men 75 Aa/aaa/80 Aaa/major/major Gold - International Senior Softball Association<br>ISSA
LOCATION:ASC 1
CATEGORIES:QuickScores, Softball Game
TRANSP:OPAQUE
BEGIN:VALARM
TRIGGER:-PT2H
ACTION:DISPLAY
DESCRIPTION:Freedom 75 vs. SOUTHERN THUNDER
END:VALARM
END:VEVENT
BEGIN:VEVENT
UID:issa-58062920-20230520T120000@quickscores.com
DTSTAMP:20260425T160800Z
DTSTART;TZID=America/New_York:20230520T120000
DURATION:PT1H30M0S
SUMMARY:[1] Freedom 75 vs. [4] SOUTHERN THUNDER
DESCRIPTION:Men 75 Aa/aaa/80 Aaa/major/major Gold - International Senior Softball Association<br>ISSA
LOCATION:ASC 5
CATEGORIES:QuickScores, Softball Game
TRANSP:OPAQUE
BEGIN:VALARM
TRIGGER:-PT2H
ACTION:DISPLAY
DESCRIPTION:[1] Freedom 75 vs. [4] SOUTHERN THUNDER
END:VALARM
END:VEVENT
BEGIN:VEVENT
UID:issa-58062926-20230520T150000@quickscores.com
DTSTAMP:20260425T160800Z
DTSTART;TZID=America/New_York:20230520T150000
DURATION:PT1H30M0S
SUMMARY:[1] Freedom 75 vs. [2] Florida Investment Properties
DESCRIPTION:Men 75 Aa/aaa/80 Aaa/major/major Gold - International Senior Softball Association<br>ISSA
LOCATION:ASC 4
CATEGORIES:QuickScores, Softball Game
TRANSP:OPAQUE
BEGIN:VALARM
TRIGGER:-PT2H
ACTION:DISPLAY
DESCRIPTION:[1] Freedom 75 vs. [2] Florida Investment Properties
END:VALARM
END:VEVENT
BEGIN:VEVENT
UID:issa-58062929-20230521T103000@quickscores.com
DTSTAMP:20260425T160800Z
DTSTART;TZID=America/New_York:20230521T103000
DURATION:PT1H30M0S
SUMMARY:[1] Freedom 75 vs. [2] Florida Investment Properties
DESCRIPTION:Men 75 Aa/aaa/80 Aaa/major/major Gold - International Senior Softball Association<br>ISSA
CATEGORIES:QuickScores, Softball Game
TRANSP:OPAQUE
BEGIN:VALARM
TRIGGER:-PT2H
ACTION:DISPLAY
DESCRIPTION:[1] Freedom 75 vs. [2] Florida Investment Properties
END:VALARM
END:VEVENT
END:VCALENDAR
