BEGIN:VCALENDAR
VERSION:2.0
PRODID:-//QuickScores.com//BQ Dynamic iCal Creator//EN
METHOD:PUBLISH
X-WR-CALNAME:Team Creed 50s - Men 50 Aaa - 2023 ISSA Western USA Championships
X-WR-CALDESC:QuickScores game calendar
X-PUBLISHED-TTL:PT24H
REFRESH-INTERVAL;VALUE=DURATION:PT24H
CALSCALE:GREGORIAN
BEGIN:VTIMEZONE
TZID:America/New_York
X-LIC-LOCATION:America/New_York
BEGIN:DAYLIGHT
TZNAME:EDT
TZOFFSETFROM:-0500
TZOFFSETTO:-0400
DTSTART:19700308T020000
RRULE:FREQ=YEARLY;BYMONTH=3;BYDAY=2SU
END:DAYLIGHT
BEGIN:STANDARD
TZNAME:EST
TZOFFSETFROM:-0400
TZOFFSETTO:-0500
DTSTART:19701101T020000
RRULE:FREQ=YEARLY;BYMONTH=11;BYDAY=1SU
END:STANDARD
END:VTIMEZONE
BEGIN:VEVENT
UID:issa-56634389-20230303T173000@quickscores.com
DTSTAMP:20260423T054600Z
DTSTART;TZID=America/New_York:20230303T173000
DURATION:PT1H30M0S
SUMMARY:Team Creed 50s vs. CTX Hammer 50's
DESCRIPTION:Men 50 Aaa - International Senior Softball Association<br>ISSA
LOCATION:CRC 1
CATEGORIES:QuickScores, Softball Game
TRANSP:OPAQUE
BEGIN:VALARM
TRIGGER:-PT2H
ACTION:DISPLAY
DESCRIPTION:Team Creed 50s vs. CTX Hammer 50's
END:VALARM
END:VEVENT
BEGIN:VEVENT
UID:issa-56634391-20230303T190000@quickscores.com
DTSTAMP:20260423T054600Z
DTSTART;TZID=America/New_York:20230303T190000
DURATION:PT1H30M0S
SUMMARY:Old-FAITH-Full vs. Team Creed 50s
DESCRIPTION:Men 50 Aaa - International Senior Softball Association<br>ISSA
LOCATION:CRC 2
CATEGORIES:QuickScores, Softball Game
TRANSP:OPAQUE
BEGIN:VALARM
TRIGGER:-PT2H
ACTION:DISPLAY
DESCRIPTION:Old-FAITH-Full vs. Team Creed 50s
END:VALARM
END:VEVENT
BEGIN:VEVENT
UID:issa-56634804-20230304T130000@quickscores.com
DTSTAMP:20260423T054600Z
DTSTART;TZID=America/New_York:20230304T130000
DURATION:PT1H30M0S
SUMMARY:[1] Team Creed 50s vs. [5] Old-FAITH-Full
DESCRIPTION:Men 50 Aaa - International Senior Softball Association<br>ISSA
LOCATION:CRC 4
CATEGORIES:QuickScores, Softball Game
TRANSP:OPAQUE
BEGIN:VALARM
TRIGGER:-PT2H
ACTION:DISPLAY
DESCRIPTION:[1] Team Creed 50s vs. [5] Old-FAITH-Full
END:VALARM
END:VEVENT
BEGIN:VEVENT
UID:issa-56634810-20230304T160000@quickscores.com
DTSTAMP:20260423T054600Z
DTSTART;TZID=America/New_York:20230304T160000
DURATION:PT1H30M0S
SUMMARY:[1] Team Creed 50s vs. [3] Crossfire 50's
DESCRIPTION:Men 50 Aaa - International Senior Softball Association<br>ISSA
LOCATION:CRC 1
CATEGORIES:QuickScores, Softball Game
TRANSP:OPAQUE
BEGIN:VALARM
TRIGGER:-PT2H
ACTION:DISPLAY
DESCRIPTION:[1] Team Creed 50s vs. [3] Crossfire 50's
END:VALARM
END:VEVENT
BEGIN:VEVENT
UID:issa-56634812-20230305T090000@quickscores.com
DTSTAMP:20260423T054600Z
DTSTART;TZID=America/New_York:20230305T090000
DURATION:PT1H30M0S
SUMMARY:[1] Team Creed 50s vs. [5] Old-FAITH-Full
DESCRIPTION:Men 50 Aaa - International Senior Softball Association<br>ISSA
LOCATION:CRC 3
CATEGORIES:QuickScores, Softball Game
TRANSP:OPAQUE
BEGIN:VALARM
TRIGGER:-PT2H
ACTION:DISPLAY
DESCRIPTION:[1] Team Creed 50s vs. [5] Old-FAITH-Full
END:VALARM
END:VEVENT
BEGIN:VEVENT
UID:issa-56634813-20230305T103000@quickscores.com
DTSTAMP:20260423T054600Z
DTSTART;TZID=America/New_York:20230305T103000
DURATION:PT1H30M0S
SUMMARY:[3] Crossfire 50's vs. [1] Team Creed 50s
DESCRIPTION:Men 50 Aaa - International Senior Softball Association<br>ISSA
LOCATION:CRC 3
CATEGORIES:QuickScores, Softball Game
TRANSP:OPAQUE
BEGIN:VALARM
TRIGGER:-PT2H
ACTION:DISPLAY
DESCRIPTION:[3] Crossfire 50's vs. [1] Team Creed 50s
END:VALARM
END:VEVENT
END:VCALENDAR
