BEGIN:VCALENDAR
VERSION:2.0
PRODID:-//QuickScores.com//BQ Dynamic iCal Creator//EN
METHOD:PUBLISH
X-WR-CALNAME:United Softball - 50 Aaa - National - 2022 ISSA Smoky Senior Classic (Men&#039;s 40-50) - Session 3
X-WR-CALDESC:QuickScores game calendar
X-PUBLISHED-TTL:PT24H
REFRESH-INTERVAL;VALUE=DURATION:PT24H
CALSCALE:GREGORIAN
BEGIN:VTIMEZONE
TZID:America/New_York
X-LIC-LOCATION:America/New_York
BEGIN:DAYLIGHT
TZNAME:EDT
TZOFFSETFROM:-0500
TZOFFSETTO:-0400
DTSTART:19700308T020000
RRULE:FREQ=YEARLY;BYMONTH=3;BYDAY=2SU
END:DAYLIGHT
BEGIN:STANDARD
TZNAME:EST
TZOFFSETFROM:-0400
TZOFFSETTO:-0500
DTSTART:19701101T020000
RRULE:FREQ=YEARLY;BYMONTH=11;BYDAY=1SU
END:STANDARD
END:VTIMEZONE
BEGIN:VEVENT
UID:issa-53639580-20220610T090000@quickscores.com
DTSTAMP:20260422T125100Z
DTSTART;TZID=America/New_York:20220610T090000
DURATION:PT1H30M0S
SUMMARY:United Softball vs. Volusia Top Gun
DESCRIPTION:50 Aaa - National - International Senior Softball Association<br>ISSA
LOCATION:RBC 2
CATEGORIES:QuickScores, Softball Game
TRANSP:OPAQUE
BEGIN:VALARM
TRIGGER:-PT2H
ACTION:DISPLAY
DESCRIPTION:United Softball vs. Volusia Top Gun
END:VALARM
END:VEVENT
BEGIN:VEVENT
UID:issa-53639589-20220610T120000@quickscores.com
DTSTAMP:20260422T125100Z
DTSTART;TZID=America/New_York:20220610T120000
DURATION:PT1H30M0S
SUMMARY:Old Skool/GTS Sports vs. United Softball
DESCRIPTION:50 Aaa - National - International Senior Softball Association<br>ISSA
LOCATION:RBC 2
CATEGORIES:QuickScores, Softball Game
TRANSP:OPAQUE
BEGIN:VALARM
TRIGGER:-PT2H
ACTION:DISPLAY
DESCRIPTION:Old Skool/GTS Sports vs. United Softball
END:VALARM
END:VEVENT
BEGIN:VEVENT
UID:issa-53639821-20220610T170000@quickscores.com
DTSTAMP:20260422T125100Z
DTSTART;TZID=America/New_York:20220610T170000
DURATION:PT1H30M0S
SUMMARY:[C2] Rampage Softball vs. [B3] United Softball
DESCRIPTION:50 Aaa - National - International Senior Softball Association<br>ISSA
LOCATION:RBC 4
CATEGORIES:QuickScores, Softball Game
TRANSP:OPAQUE
BEGIN:VALARM
TRIGGER:-PT2H
ACTION:DISPLAY
DESCRIPTION:[C2] Rampage Softball vs. [B3] United Softball
END:VALARM
END:VEVENT
BEGIN:VEVENT
UID:issa-53639832-20220611T093000@quickscores.com
DTSTAMP:20260422T125100Z
DTSTART;TZID=America/New_York:20220611T093000
DURATION:PT1H30M0S
SUMMARY:[D4] Silver Rays 50's vs. [B3] United Softball
DESCRIPTION:50 Aaa - National - International Senior Softball Association<br>ISSA
LOCATION:RBC 2
CATEGORIES:QuickScores, Softball Game
TRANSP:OPAQUE
BEGIN:VALARM
TRIGGER:-PT2H
ACTION:DISPLAY
DESCRIPTION:[D4] Silver Rays 50's vs. [B3] United Softball
END:VALARM
END:VEVENT
BEGIN:VEVENT
UID:issa-53639836-20220611T110000@quickscores.com
DTSTAMP:20260422T125100Z
DTSTART;TZID=America/New_York:20220611T110000
DURATION:PT1H30M0S
SUMMARY:[C1] Lightning Softball/BAF Sports/J&S Design vs. [B3] United Softball
DESCRIPTION:50 Aaa - National - International Senior Softball Association<br>ISSA
LOCATION:RBC 3
CATEGORIES:QuickScores, Softball Game
TRANSP:OPAQUE
BEGIN:VALARM
TRIGGER:-PT2H
ACTION:DISPLAY
DESCRIPTION:[C1] Lightning Softball/BAF Sports/J&S Design vs. [B3] United Softball
END:VALARM
END:VEVENT
BEGIN:VEVENT
UID:issa-53639842-20220611T140000@quickscores.com
DTSTAMP:20260422T125100Z
DTSTART;TZID=America/New_York:20220611T140000
DURATION:PT1H30M0S
SUMMARY:[B3] United Softball vs. [B2] Volusia Top Gun
DESCRIPTION:50 Aaa - National - International Senior Softball Association<br>ISSA
LOCATION:RBC 3
CATEGORIES:QuickScores, Softball Game
TRANSP:OPAQUE
BEGIN:VALARM
TRIGGER:-PT2H
ACTION:DISPLAY
DESCRIPTION:[B3] United Softball vs. [B2] Volusia Top Gun
END:VALARM
END:VEVENT
BEGIN:VEVENT
UID:issa-53639844-20220611T153000@quickscores.com
DTSTAMP:20260422T125100Z
DTSTART;TZID=America/New_York:20220611T153000
DURATION:PT1H30M0S
SUMMARY:[A1] PULSECHAIN.com vs. [B3] United Softball
DESCRIPTION:50 Aaa - National - International Senior Softball Association<br>ISSA
LOCATION:RBC 2
CATEGORIES:QuickScores, Softball Game
TRANSP:OPAQUE
BEGIN:VALARM
TRIGGER:-PT2H
ACTION:DISPLAY
DESCRIPTION:[A1] PULSECHAIN.com vs. [B3] United Softball
END:VALARM
END:VEVENT
BEGIN:VEVENT
UID:issa-53639847-20220611T183000@quickscores.com
DTSTAMP:20260422T125100Z
DTSTART;TZID=America/New_York:20220611T183000
DURATION:PT1H30M0S
SUMMARY:[B3] United Softball vs. [D2] Paradise Painting/Allstate Carburetor/Roebell
DESCRIPTION:50 Aaa - National - International Senior Softball Association<br>ISSA
LOCATION:RBC 1
CATEGORIES:QuickScores, Softball Game
TRANSP:OPAQUE
BEGIN:VALARM
TRIGGER:-PT2H
ACTION:DISPLAY
DESCRIPTION:[B3] United Softball vs. [D2] Paradise Painting/Allstate Carburetor/Roebell
END:VALARM
END:VEVENT
END:VCALENDAR
