BEGIN:VCALENDAR
VERSION:2.0
PRODID:-//QuickScores.com//BQ Dynamic iCal Creator//EN
METHOD:PUBLISH
X-WR-CALNAME:Palmetto Mutiny - 50 Aaa - National - 2022 ISSA Smoky Senior Classic (Men&#039;s 40-50) - Session 3
X-WR-CALDESC:QuickScores game calendar
X-PUBLISHED-TTL:PT24H
REFRESH-INTERVAL;VALUE=DURATION:PT24H
CALSCALE:GREGORIAN
BEGIN:VTIMEZONE
TZID:America/New_York
X-LIC-LOCATION:America/New_York
BEGIN:DAYLIGHT
TZNAME:EDT
TZOFFSETFROM:-0500
TZOFFSETTO:-0400
DTSTART:19700308T020000
RRULE:FREQ=YEARLY;BYMONTH=3;BYDAY=2SU
END:DAYLIGHT
BEGIN:STANDARD
TZNAME:EST
TZOFFSETFROM:-0400
TZOFFSETTO:-0500
DTSTART:19701101T020000
RRULE:FREQ=YEARLY;BYMONTH=11;BYDAY=1SU
END:STANDARD
END:VTIMEZONE
BEGIN:VEVENT
UID:issa-53639579-20220610T090000@quickscores.com
DTSTAMP:20260424T021200Z
DTSTART;TZID=America/New_York:20220610T090000
DURATION:PT1H30M0S
SUMMARY:PULSECHAIN.com vs. Palmetto Mutiny
DESCRIPTION:50 Aaa - National - International Senior Softball Association<br>ISSA
LOCATION:RBC 3
CATEGORIES:QuickScores, Softball Game
TRANSP:OPAQUE
BEGIN:VALARM
TRIGGER:-PT2H
ACTION:DISPLAY
DESCRIPTION:PULSECHAIN.com vs. Palmetto Mutiny
END:VALARM
END:VEVENT
BEGIN:VEVENT
UID:issa-53639587-20220610T120000@quickscores.com
DTSTAMP:20260424T021200Z
DTSTART;TZID=America/New_York:20220610T120000
DURATION:PT1H30M0S
SUMMARY:Palmetto Mutiny vs. Our Dirt Softball
DESCRIPTION:50 Aaa - National - International Senior Softball Association<br>ISSA
LOCATION:RBC 3
CATEGORIES:QuickScores, Softball Game
TRANSP:OPAQUE
BEGIN:VALARM
TRIGGER:-PT2H
ACTION:DISPLAY
DESCRIPTION:Palmetto Mutiny vs. Our Dirt Softball
END:VALARM
END:VEVENT
BEGIN:VEVENT
UID:issa-53639827-20220610T170000@quickscores.com
DTSTAMP:20260424T021200Z
DTSTART;TZID=America/New_York:20220610T170000
DURATION:PT1H30M0S
SUMMARY:[A2] Palmetto Mutiny vs. [D2] Paradise Painting/Allstate Carburetor/Roebell
DESCRIPTION:50 Aaa - National - International Senior Softball Association<br>ISSA
LOCATION:RBC 3
CATEGORIES:QuickScores, Softball Game
TRANSP:OPAQUE
BEGIN:VALARM
TRIGGER:-PT2H
ACTION:DISPLAY
DESCRIPTION:[A2] Palmetto Mutiny vs. [D2] Paradise Painting/Allstate Carburetor/Roebell
END:VALARM
END:VEVENT
BEGIN:VEVENT
UID:issa-53639835-20220611T110000@quickscores.com
DTSTAMP:20260424T021200Z
DTSTART;TZID=America/New_York:20220611T110000
DURATION:PT1H30M0S
SUMMARY:[B4] Georgia Renegades vs. [A2] Palmetto Mutiny
DESCRIPTION:50 Aaa - National - International Senior Softball Association<br>ISSA
LOCATION:RBC 2
CATEGORIES:QuickScores, Softball Game
TRANSP:OPAQUE
BEGIN:VALARM
TRIGGER:-PT2H
ACTION:DISPLAY
DESCRIPTION:[B4] Georgia Renegades vs. [A2] Palmetto Mutiny
END:VALARM
END:VEVENT
BEGIN:VEVENT
UID:issa-53639839-20220611T123000@quickscores.com
DTSTAMP:20260424T021200Z
DTSTART;TZID=America/New_York:20220611T123000
DURATION:PT1H30M0S
SUMMARY:[C2] Rampage Softball vs. [A2] Palmetto Mutiny
DESCRIPTION:50 Aaa - National - International Senior Softball Association<br>ISSA
LOCATION:RBC 3
CATEGORIES:QuickScores, Softball Game
TRANSP:OPAQUE
BEGIN:VALARM
TRIGGER:-PT2H
ACTION:DISPLAY
DESCRIPTION:[C2] Rampage Softball vs. [A2] Palmetto Mutiny
END:VALARM
END:VEVENT
END:VCALENDAR
