BEGIN:VCALENDAR
VERSION:2.0
PRODID:-//QuickScores.com//BQ Dynamic iCal Creator//EN
METHOD:PUBLISH
X-WR-CALNAME:Our Dirt Softball - 50 Aaa - National - 2022 ISSA Smoky Senior Classic (Men&#039;s 40-50) - Session 3
X-WR-CALDESC:QuickScores game calendar
X-PUBLISHED-TTL:PT24H
REFRESH-INTERVAL;VALUE=DURATION:PT24H
CALSCALE:GREGORIAN
BEGIN:VTIMEZONE
TZID:America/New_York
X-LIC-LOCATION:America/New_York
BEGIN:DAYLIGHT
TZNAME:EDT
TZOFFSETFROM:-0500
TZOFFSETTO:-0400
DTSTART:19700308T020000
RRULE:FREQ=YEARLY;BYMONTH=3;BYDAY=2SU
END:DAYLIGHT
BEGIN:STANDARD
TZNAME:EST
TZOFFSETFROM:-0400
TZOFFSETTO:-0500
DTSTART:19701101T020000
RRULE:FREQ=YEARLY;BYMONTH=11;BYDAY=1SU
END:STANDARD
END:VTIMEZONE
BEGIN:VEVENT
UID:issa-53639578-20220610T090000@quickscores.com
DTSTAMP:20260424T020900Z
DTSTART;TZID=America/New_York:20220610T090000
DURATION:PT1H30M0S
SUMMARY:Our Dirt Softball vs. OESSCO/Abacus Accounting
DESCRIPTION:50 Aaa - National - International Senior Softball Association<br>ISSA
LOCATION:RBC 4
CATEGORIES:QuickScores, Softball Game
TRANSP:OPAQUE
BEGIN:VALARM
TRIGGER:-PT2H
ACTION:DISPLAY
DESCRIPTION:Our Dirt Softball vs. OESSCO/Abacus Accounting
END:VALARM
END:VEVENT
BEGIN:VEVENT
UID:issa-53639587-20220610T120000@quickscores.com
DTSTAMP:20260424T020900Z
DTSTART;TZID=America/New_York:20220610T120000
DURATION:PT1H30M0S
SUMMARY:Palmetto Mutiny vs. Our Dirt Softball
DESCRIPTION:50 Aaa - National - International Senior Softball Association<br>ISSA
LOCATION:RBC 3
CATEGORIES:QuickScores, Softball Game
TRANSP:OPAQUE
BEGIN:VALARM
TRIGGER:-PT2H
ACTION:DISPLAY
DESCRIPTION:Palmetto Mutiny vs. Our Dirt Softball
END:VALARM
END:VEVENT
BEGIN:VEVENT
UID:issa-53639822-20220610T170000@quickscores.com
DTSTAMP:20260424T020900Z
DTSTART;TZID=America/New_York:20220610T170000
DURATION:PT1H30M0S
SUMMARY:[D1] GO sports 50+ vs. [A4] Our Dirt Softball
DESCRIPTION:50 Aaa - National - International Senior Softball Association<br>ISSA
LOCATION:RBC 2
CATEGORIES:QuickScores, Softball Game
TRANSP:OPAQUE
BEGIN:VALARM
TRIGGER:-PT2H
ACTION:DISPLAY
DESCRIPTION:[D1] GO sports 50+ vs. [A4] Our Dirt Softball
END:VALARM
END:VEVENT
BEGIN:VEVENT
UID:issa-53639833-20220611T093000@quickscores.com
DTSTAMP:20260424T020900Z
DTSTART;TZID=America/New_York:20220611T093000
DURATION:PT1H30M0S
SUMMARY:[A4] Our Dirt Softball vs. [B2] Volusia Top Gun
DESCRIPTION:50 Aaa - National - International Senior Softball Association<br>ISSA
LOCATION:RBC 3
CATEGORIES:QuickScores, Softball Game
TRANSP:OPAQUE
BEGIN:VALARM
TRIGGER:-PT2H
ACTION:DISPLAY
DESCRIPTION:[A4] Our Dirt Softball vs. [B2] Volusia Top Gun
END:VALARM
END:VEVENT
END:VCALENDAR
