BEGIN:VCALENDAR
VERSION:2.0
PRODID:-//QuickScores.com//BQ Dynamic iCal Creator//EN
METHOD:PUBLISH
X-WR-CALNAME:Old Skool/GTS Sports - 50 Aaa - National - 2022 ISSA Smoky Senior Classic (Men&#039;s 40-50) - Session 3
X-WR-CALDESC:QuickScores game calendar
X-PUBLISHED-TTL:PT24H
REFRESH-INTERVAL;VALUE=DURATION:PT24H
CALSCALE:GREGORIAN
BEGIN:VTIMEZONE
TZID:America/New_York
X-LIC-LOCATION:America/New_York
BEGIN:DAYLIGHT
TZNAME:EDT
TZOFFSETFROM:-0500
TZOFFSETTO:-0400
DTSTART:19700308T020000
RRULE:FREQ=YEARLY;BYMONTH=3;BYDAY=2SU
END:DAYLIGHT
BEGIN:STANDARD
TZNAME:EST
TZOFFSETFROM:-0400
TZOFFSETTO:-0500
DTSTART:19701101T020000
RRULE:FREQ=YEARLY;BYMONTH=11;BYDAY=1SU
END:STANDARD
END:VTIMEZONE
BEGIN:VEVENT
UID:issa-53639581-20220610T090000@quickscores.com
DTSTAMP:20260422T200900Z
DTSTART;TZID=America/New_York:20220610T090000
DURATION:PT1H30M0S
SUMMARY:Georgia Renegades vs. Old Skool/GTS Sports
DESCRIPTION:50 Aaa - National - International Senior Softball Association<br>ISSA
LOCATION:RBC 1
CATEGORIES:QuickScores, Softball Game
TRANSP:OPAQUE
BEGIN:VALARM
TRIGGER:-PT2H
ACTION:DISPLAY
DESCRIPTION:Georgia Renegades vs. Old Skool/GTS Sports
END:VALARM
END:VEVENT
BEGIN:VEVENT
UID:issa-53639589-20220610T120000@quickscores.com
DTSTAMP:20260422T200900Z
DTSTART;TZID=America/New_York:20220610T120000
DURATION:PT1H30M0S
SUMMARY:Old Skool/GTS Sports vs. United Softball
DESCRIPTION:50 Aaa - National - International Senior Softball Association<br>ISSA
LOCATION:RBC 2
CATEGORIES:QuickScores, Softball Game
TRANSP:OPAQUE
BEGIN:VALARM
TRIGGER:-PT2H
ACTION:DISPLAY
DESCRIPTION:Old Skool/GTS Sports vs. United Softball
END:VALARM
END:VEVENT
BEGIN:VEVENT
UID:issa-53639824-20220610T153000@quickscores.com
DTSTAMP:20260422T200900Z
DTSTART;TZID=America/New_York:20220610T153000
DURATION:PT1H30M0S
SUMMARY:[B1] Old Skool/GTS Sports vs. [C4] Lowe Legends
DESCRIPTION:50 Aaa - National - International Senior Softball Association<br>ISSA
LOCATION:RBC 3
CATEGORIES:QuickScores, Softball Game
TRANSP:OPAQUE
BEGIN:VALARM
TRIGGER:-PT2H
ACTION:DISPLAY
DESCRIPTION:[B1] Old Skool/GTS Sports vs. [C4] Lowe Legends
END:VALARM
END:VEVENT
BEGIN:VEVENT
UID:issa-53639830-20220611T080000@quickscores.com
DTSTAMP:20260422T200900Z
DTSTART;TZID=America/New_York:20220611T080000
DURATION:PT1H30M0S
SUMMARY:[B1] Old Skool/GTS Sports vs. [D3] Roofmasters
DESCRIPTION:50 Aaa - National - International Senior Softball Association<br>ISSA
LOCATION:RBC 3
CATEGORIES:QuickScores, Softball Game
TRANSP:OPAQUE
BEGIN:VALARM
TRIGGER:-PT2H
ACTION:DISPLAY
DESCRIPTION:[B1] Old Skool/GTS Sports vs. [D3] Roofmasters
END:VALARM
END:VEVENT
BEGIN:VEVENT
UID:issa-53639837-20220611T123000@quickscores.com
DTSTAMP:20260422T200900Z
DTSTART;TZID=America/New_York:20220611T123000
DURATION:PT1H30M0S
SUMMARY:[B1] Old Skool/GTS Sports vs. [B2] Volusia Top Gun
DESCRIPTION:50 Aaa - National - International Senior Softball Association<br>ISSA
LOCATION:RBC 1
CATEGORIES:QuickScores, Softball Game
TRANSP:OPAQUE
BEGIN:VALARM
TRIGGER:-PT2H
ACTION:DISPLAY
DESCRIPTION:[B1] Old Skool/GTS Sports vs. [B2] Volusia Top Gun
END:VALARM
END:VEVENT
END:VCALENDAR
