BEGIN:VCALENDAR
VERSION:2.0
PRODID:-//QuickScores.com//BQ Dynamic iCal Creator//EN
METHOD:PUBLISH
X-WR-CALNAME:Crawford Contracting - 50 Aaa - American - 2022 ISSA Smoky Senior Classic (Men&#039;s 40-50) - Session 3
X-WR-CALDESC:QuickScores game calendar
X-PUBLISHED-TTL:PT24H
REFRESH-INTERVAL;VALUE=DURATION:PT24H
CALSCALE:GREGORIAN
BEGIN:VTIMEZONE
TZID:America/New_York
X-LIC-LOCATION:America/New_York
BEGIN:DAYLIGHT
TZNAME:EDT
TZOFFSETFROM:-0500
TZOFFSETTO:-0400
DTSTART:19700308T020000
RRULE:FREQ=YEARLY;BYMONTH=3;BYDAY=2SU
END:DAYLIGHT
BEGIN:STANDARD
TZNAME:EST
TZOFFSETFROM:-0400
TZOFFSETTO:-0500
DTSTART:19701101T020000
RRULE:FREQ=YEARLY;BYMONTH=11;BYDAY=1SU
END:STANDARD
END:VTIMEZONE
BEGIN:VEVENT
UID:issa-53639330-20220610T133000@quickscores.com
DTSTAMP:20260424T022200Z
DTSTART;TZID=America/New_York:20220610T133000
DURATION:PT1H30M0S
SUMMARY:DRT Transportation vs. Crawford Contracting
DESCRIPTION:50 Aaa - American - International Senior Softball Association<br>ISSA
LOCATION:LMP 4
CATEGORIES:QuickScores, Softball Game
TRANSP:OPAQUE
BEGIN:VALARM
TRIGGER:-PT2H
ACTION:DISPLAY
DESCRIPTION:DRT Transportation vs. Crawford Contracting
END:VALARM
END:VEVENT
BEGIN:VEVENT
UID:issa-53639338-20220610T150000@quickscores.com
DTSTAMP:20260424T022200Z
DTSTART;TZID=America/New_York:20220610T150000
DURATION:PT1H30M0S
SUMMARY:Crawford Contracting vs. FLORIDA TITANS
DESCRIPTION:50 Aaa - American - International Senior Softball Association<br>ISSA
LOCATION:LMP 4
CATEGORIES:QuickScores, Softball Game
TRANSP:OPAQUE
BEGIN:VALARM
TRIGGER:-PT2H
ACTION:DISPLAY
DESCRIPTION:Crawford Contracting vs. FLORIDA TITANS
END:VALARM
END:VEVENT
BEGIN:VEVENT
UID:issa-53639347-20220610T183000@quickscores.com
DTSTAMP:20260424T022200Z
DTSTART;TZID=America/New_York:20220610T183000
DURATION:PT1H30M0S
SUMMARY:[D2] Crawford Contracting vs. [A3]  ChiTown
DESCRIPTION:50 Aaa - American - International Senior Softball Association<br>ISSA
LOCATION:LMP 3
CATEGORIES:QuickScores, Softball Game
TRANSP:OPAQUE
BEGIN:VALARM
TRIGGER:-PT2H
ACTION:DISPLAY
DESCRIPTION:[D2] Crawford Contracting vs. [A3]  ChiTown
END:VALARM
END:VEVENT
BEGIN:VEVENT
UID:issa-53639352-20220611T080000@quickscores.com
DTSTAMP:20260424T022200Z
DTSTART;TZID=America/New_York:20220611T080000
DURATION:PT1H30M0S
SUMMARY:[B1] Daytona Beach Boyz vs. [D2] Crawford Contracting
DESCRIPTION:50 Aaa - American - International Senior Softball Association<br>ISSA
LOCATION:LMP 4
CATEGORIES:QuickScores, Softball Game
TRANSP:OPAQUE
BEGIN:VALARM
TRIGGER:-PT2H
ACTION:DISPLAY
DESCRIPTION:[B1] Daytona Beach Boyz vs. [D2] Crawford Contracting
END:VALARM
END:VEVENT
BEGIN:VEVENT
UID:issa-53639363-20220611T123000@quickscores.com
DTSTAMP:20260424T022200Z
DTSTART;TZID=America/New_York:20220611T123000
DURATION:PT1H30M0S
SUMMARY:[D2] Crawford Contracting vs. [B4] Dayton Legends/High Octane
DESCRIPTION:50 Aaa - American - International Senior Softball Association<br>ISSA
LOCATION:LMP 3
CATEGORIES:QuickScores, Softball Game
TRANSP:OPAQUE
BEGIN:VALARM
TRIGGER:-PT2H
ACTION:DISPLAY
DESCRIPTION:[D2] Crawford Contracting vs. [B4] Dayton Legends/High Octane
END:VALARM
END:VEVENT
BEGIN:VEVENT
UID:issa-53639367-20220611T170000@quickscores.com
DTSTAMP:20260424T022200Z
DTSTART;TZID=America/New_York:20220611T170000
DURATION:PT1H30M0S
SUMMARY:[D2] Crawford Contracting vs. [D1] DRT Transportation
DESCRIPTION:50 Aaa - American - International Senior Softball Association<br>ISSA
LOCATION:LMP 3
CATEGORIES:QuickScores, Softball Game
TRANSP:OPAQUE
BEGIN:VALARM
TRIGGER:-PT2H
ACTION:DISPLAY
DESCRIPTION:[D2] Crawford Contracting vs. [D1] DRT Transportation
END:VALARM
END:VEVENT
BEGIN:VEVENT
UID:issa-53639369-20220611T183000@quickscores.com
DTSTAMP:20260424T022200Z
DTSTART;TZID=America/New_York:20220611T183000
DURATION:PT1H30M0S
SUMMARY:[A2] Aroogas vs. [D2] Crawford Contracting
DESCRIPTION:50 Aaa - American - International Senior Softball Association<br>ISSA
LOCATION:LMP 2
CATEGORIES:QuickScores, Softball Game
TRANSP:OPAQUE
BEGIN:VALARM
TRIGGER:-PT2H
ACTION:DISPLAY
DESCRIPTION:[A2] Aroogas vs. [D2] Crawford Contracting
END:VALARM
END:VEVENT
END:VCALENDAR
