BEGIN:VCALENDAR
VERSION:2.0
PRODID:-//QuickScores.com//BQ Dynamic iCal Creator//EN
METHOD:PUBLISH
X-WR-CALNAME:Big Hurt Softball/Maximum Precast 50 - 50 Aaa - American - 2022 ISSA Smoky Senior Classic (Men&#039;s 40-50) - Session 3
X-WR-CALDESC:QuickScores game calendar
X-PUBLISHED-TTL:PT24H
REFRESH-INTERVAL;VALUE=DURATION:PT24H
CALSCALE:GREGORIAN
BEGIN:VTIMEZONE
TZID:America/New_York
X-LIC-LOCATION:America/New_York
BEGIN:DAYLIGHT
TZNAME:EDT
TZOFFSETFROM:-0500
TZOFFSETTO:-0400
DTSTART:19700308T020000
RRULE:FREQ=YEARLY;BYMONTH=3;BYDAY=2SU
END:DAYLIGHT
BEGIN:STANDARD
TZNAME:EST
TZOFFSETFROM:-0400
TZOFFSETTO:-0500
DTSTART:19701101T020000
RRULE:FREQ=YEARLY;BYMONTH=11;BYDAY=1SU
END:STANDARD
END:VTIMEZONE
BEGIN:VEVENT
UID:issa-53639324-20220610T090000@quickscores.com
DTSTAMP:20260423T053600Z
DTSTART;TZID=America/New_York:20220610T090000
DURATION:PT1H30M0S
SUMMARY:Central Florida Vipers vs. Big Hurt Softball/Maximum Precast 50
DESCRIPTION:50 Aaa - American - International Senior Softball Association<br>ISSA
LOCATION:LMP 2
CATEGORIES:QuickScores, Softball Game
TRANSP:OPAQUE
BEGIN:VALARM
TRIGGER:-PT2H
ACTION:DISPLAY
DESCRIPTION:Central Florida Vipers vs. Big Hurt Softball/Maximum Precast 50
END:VALARM
END:VEVENT
BEGIN:VEVENT
UID:issa-53639331-20220610T120000@quickscores.com
DTSTAMP:20260423T053600Z
DTSTART;TZID=America/New_York:20220610T120000
DURATION:PT1H30M0S
SUMMARY:Big Hurt Softball/Maximum Precast 50 vs. Arooga's  MVP/Savory Senior Softball
DESCRIPTION:50 Aaa - American - International Senior Softball Association<br>ISSA
LOCATION:LMP 2
CATEGORIES:QuickScores, Softball Game
TRANSP:OPAQUE
BEGIN:VALARM
TRIGGER:-PT2H
ACTION:DISPLAY
DESCRIPTION:Big Hurt Softball/Maximum Precast 50 vs. Arooga's  MVP/Savory Senior Softball
END:VALARM
END:VEVENT
BEGIN:VEVENT
UID:issa-53639350-20220611T080000@quickscores.com
DTSTAMP:20260423T053600Z
DTSTART;TZID=America/New_York:20220611T080000
DURATION:PT1H30M0S
SUMMARY:[A1] Big Hurt Softball/Maximum Precast 50 vs. [C2] 22 Softball/DL/Hudson/Jeff Schmitt
DESCRIPTION:50 Aaa - American - International Senior Softball Association<br>ISSA
LOCATION:LMP 3
CATEGORIES:QuickScores, Softball Game
TRANSP:OPAQUE
BEGIN:VALARM
TRIGGER:-PT2H
ACTION:DISPLAY
DESCRIPTION:[A1] Big Hurt Softball/Maximum Precast 50 vs. [C2] 22 Softball/DL/Hudson/Jeff Schmitt
END:VALARM
END:VEVENT
BEGIN:VEVENT
UID:issa-53639362-20220611T123000@quickscores.com
DTSTAMP:20260423T053600Z
DTSTART;TZID=America/New_York:20220611T123000
DURATION:PT1H30M0S
SUMMARY:[A1] Big Hurt Softball/Maximum Precast 50 vs. [B2] 615/D1 Sports
DESCRIPTION:50 Aaa - American - International Senior Softball Association<br>ISSA
LOCATION:LMP 2
CATEGORIES:QuickScores, Softball Game
TRANSP:OPAQUE
BEGIN:VALARM
TRIGGER:-PT2H
ACTION:DISPLAY
DESCRIPTION:[A1] Big Hurt Softball/Maximum Precast 50 vs. [B2] 615/D1 Sports
END:VALARM
END:VEVENT
BEGIN:VEVENT
UID:issa-53639368-20220611T140000@quickscores.com
DTSTAMP:20260423T053600Z
DTSTART;TZID=America/New_York:20220611T140000
DURATION:PT1H30M0S
SUMMARY:[A1] Big Hurt Softball/Maximum Precast 50 vs. [B4] Dayton Legends/High Octane
DESCRIPTION:50 Aaa - American - International Senior Softball Association<br>ISSA
LOCATION:LMP 3
CATEGORIES:QuickScores, Softball Game
TRANSP:OPAQUE
BEGIN:VALARM
TRIGGER:-PT2H
ACTION:DISPLAY
DESCRIPTION:[A1] Big Hurt Softball/Maximum Precast 50 vs. [B4] Dayton Legends/High Octane
END:VALARM
END:VEVENT
END:VCALENDAR
