BEGIN:VCALENDAR
VERSION:2.0
PRODID:-//QuickScores.com//BQ Dynamic iCal Creator//EN
METHOD:PUBLISH
X-WR-CALNAME:Holy City Hitmen 55 - Men 55 Aaa - 2022 ISSA Smoky Senior Classic (Men&#039;s 55-60) - Session 1
X-WR-CALDESC:QuickScores game calendar
X-PUBLISHED-TTL:PT24H
REFRESH-INTERVAL;VALUE=DURATION:PT24H
CALSCALE:GREGORIAN
BEGIN:VTIMEZONE
TZID:America/New_York
X-LIC-LOCATION:America/New_York
BEGIN:DAYLIGHT
TZNAME:EDT
TZOFFSETFROM:-0500
TZOFFSETTO:-0400
DTSTART:19700308T020000
RRULE:FREQ=YEARLY;BYMONTH=3;BYDAY=2SU
END:DAYLIGHT
BEGIN:STANDARD
TZNAME:EST
TZOFFSETFROM:-0400
TZOFFSETTO:-0500
DTSTART:19701101T020000
RRULE:FREQ=YEARLY;BYMONTH=11;BYDAY=1SU
END:STANDARD
END:VTIMEZONE
BEGIN:VEVENT
UID:issa-53612641-20220603T120000@quickscores.com
DTSTAMP:20260422T034800Z
DTSTART;TZID=America/New_York:20220603T120000
DURATION:PT1H30M0S
SUMMARY:Lowe Legends vs. Holy City Hitmen 55
DESCRIPTION:Men 55 Aaa - International Senior Softball Association<br>ISSA
LOCATION:LMP 3
CATEGORIES:QuickScores, Softball Game
TRANSP:OPAQUE
BEGIN:VALARM
TRIGGER:-PT2H
ACTION:DISPLAY
DESCRIPTION:Lowe Legends vs. Holy City Hitmen 55
END:VALARM
END:VEVENT
BEGIN:VEVENT
UID:issa-53612646-20220603T133000@quickscores.com
DTSTAMP:20260422T034800Z
DTSTART;TZID=America/New_York:20220603T133000
DURATION:PT1H30M0S
SUMMARY:Holy City Hitmen 55 vs. Detroit Pony Express
DESCRIPTION:Men 55 Aaa - International Senior Softball Association<br>ISSA
LOCATION:LMP 3
CATEGORIES:QuickScores, Softball Game
TRANSP:OPAQUE
BEGIN:VALARM
TRIGGER:-PT2H
ACTION:DISPLAY
DESCRIPTION:Holy City Hitmen 55 vs. Detroit Pony Express
END:VALARM
END:VEVENT
BEGIN:VEVENT
UID:issa-53612671-20220604T110000@quickscores.com
DTSTAMP:20260422T034800Z
DTSTART;TZID=America/New_York:20220604T110000
DURATION:PT1H30M0S
SUMMARY:[B1] Holy City Hitmen 55 vs. [A2] Extra Innings Softball
DESCRIPTION:Men 55 Aaa - International Senior Softball Association<br>ISSA
LOCATION:LMP 2
CATEGORIES:QuickScores, Softball Game
TRANSP:OPAQUE
BEGIN:VALARM
TRIGGER:-PT2H
ACTION:DISPLAY
DESCRIPTION:[B1] Holy City Hitmen 55 vs. [A2] Extra Innings Softball
END:VALARM
END:VEVENT
BEGIN:VEVENT
UID:issa-53612682-20220604T140000@quickscores.com
DTSTAMP:20260422T034800Z
DTSTART;TZID=America/New_York:20220604T140000
DURATION:PT1H30M0S
SUMMARY:[B1] Holy City Hitmen 55 vs. [C1] Mcphails Auto Sales
DESCRIPTION:Men 55 Aaa - International Senior Softball Association<br>ISSA
LOCATION:LMP 2
CATEGORIES:QuickScores, Softball Game
TRANSP:OPAQUE
BEGIN:VALARM
TRIGGER:-PT2H
ACTION:DISPLAY
DESCRIPTION:[B1] Holy City Hitmen 55 vs. [C1] Mcphails Auto Sales
END:VALARM
END:VEVENT
BEGIN:VEVENT
UID:issa-53612687-20220604T153000@quickscores.com
DTSTAMP:20260422T034800Z
DTSTART;TZID=America/New_York:20220604T153000
DURATION:PT1H30M0S
SUMMARY:[A1] High Street 55's vs. [B1] Holy City Hitmen 55
DESCRIPTION:Men 55 Aaa - International Senior Softball Association<br>ISSA
LOCATION:LMP 2
CATEGORIES:QuickScores, Softball Game
TRANSP:OPAQUE
BEGIN:VALARM
TRIGGER:-PT2H
ACTION:DISPLAY
DESCRIPTION:[A1] High Street 55's vs. [B1] Holy City Hitmen 55
END:VALARM
END:VEVENT
BEGIN:VEVENT
UID:issa-53612690-20220605T123000@quickscores.com
DTSTAMP:20260422T034800Z
DTSTART;TZID=America/New_York:20220605T123000
DURATION:PT1H30M0S
SUMMARY:[B1] Holy City Hitmen 55 vs. [A1] High Street 55's
DESCRIPTION:Men 55 Aaa - International Senior Softball Association<br>ISSA
LOCATION:LMP 2
CATEGORIES:QuickScores, Softball Game
TRANSP:OPAQUE
BEGIN:VALARM
TRIGGER:-PT2H
ACTION:DISPLAY
DESCRIPTION:[B1] Holy City Hitmen 55 vs. [A1] High Street 55's
END:VALARM
END:VEVENT
END:VCALENDAR
