BEGIN:VCALENDAR
VERSION:2.0
PRODID:-//QuickScores.com//BQ Dynamic iCal Creator//EN
METHOD:PUBLISH
X-WR-CALNAME:Crawfords 55 - Men 55 Aaa - 2022 ISSA Smoky Senior Classic (Men&#039;s 55-60) - Session 1
X-WR-CALDESC:QuickScores game calendar
X-PUBLISHED-TTL:PT24H
REFRESH-INTERVAL;VALUE=DURATION:PT24H
CALSCALE:GREGORIAN
BEGIN:VTIMEZONE
TZID:America/New_York
X-LIC-LOCATION:America/New_York
BEGIN:DAYLIGHT
TZNAME:EDT
TZOFFSETFROM:-0500
TZOFFSETTO:-0400
DTSTART:19700308T020000
RRULE:FREQ=YEARLY;BYMONTH=3;BYDAY=2SU
END:DAYLIGHT
BEGIN:STANDARD
TZNAME:EST
TZOFFSETFROM:-0400
TZOFFSETTO:-0500
DTSTART:19701101T020000
RRULE:FREQ=YEARLY;BYMONTH=11;BYDAY=1SU
END:STANDARD
END:VTIMEZONE
BEGIN:VEVENT
UID:issa-53612650-20220603T133000@quickscores.com
DTSTAMP:20260423T104500Z
DTSTART;TZID=America/New_York:20220603T133000
DURATION:PT1H30M0S
SUMMARY:High Street 55's vs. Crawfords 55
DESCRIPTION:Men 55 Aaa - International Senior Softball Association<br>ISSA
LOCATION:LMP 2
CATEGORIES:QuickScores, Softball Game
TRANSP:OPAQUE
BEGIN:VALARM
TRIGGER:-PT2H
ACTION:DISPLAY
DESCRIPTION:High Street 55's vs. Crawfords 55
END:VALARM
END:VEVENT
BEGIN:VEVENT
UID:issa-53612644-20220603T150000@quickscores.com
DTSTAMP:20260423T104500Z
DTSTART;TZID=America/New_York:20220603T150000
DURATION:PT1H30M0S
SUMMARY:Crawfords 55 vs. Extra Innings Softball
DESCRIPTION:Men 55 Aaa - International Senior Softball Association<br>ISSA
LOCATION:LMP 2
CATEGORIES:QuickScores, Softball Game
TRANSP:OPAQUE
BEGIN:VALARM
TRIGGER:-PT2H
ACTION:DISPLAY
DESCRIPTION:Crawfords 55 vs. Extra Innings Softball
END:VALARM
END:VEVENT
BEGIN:VEVENT
UID:issa-53612668-20220604T093000@quickscores.com
DTSTAMP:20260423T104500Z
DTSTART;TZID=America/New_York:20220604T093000
DURATION:PT1H30M0S
SUMMARY:[A3] Crawfords 55 vs. [D3] Motor City Push
DESCRIPTION:Men 55 Aaa - International Senior Softball Association<br>ISSA
LOCATION:LMP 4
CATEGORIES:QuickScores, Softball Game
TRANSP:OPAQUE
BEGIN:VALARM
TRIGGER:-PT2H
ACTION:DISPLAY
DESCRIPTION:[A3] Crawfords 55 vs. [D3] Motor City Push
END:VALARM
END:VEVENT
BEGIN:VEVENT
UID:issa-53612672-20220604T110000@quickscores.com
DTSTAMP:20260423T104500Z
DTSTART;TZID=America/New_York:20220604T110000
DURATION:PT1H30M0S
SUMMARY:[C1] Mcphails Auto Sales vs. [A3] Crawfords 55
DESCRIPTION:Men 55 Aaa - International Senior Softball Association<br>ISSA
LOCATION:LMP 4
CATEGORIES:QuickScores, Softball Game
TRANSP:OPAQUE
BEGIN:VALARM
TRIGGER:-PT2H
ACTION:DISPLAY
DESCRIPTION:[C1] Mcphails Auto Sales vs. [A3] Crawfords 55
END:VALARM
END:VEVENT
BEGIN:VEVENT
UID:issa-53612677-20220604T140000@quickscores.com
DTSTAMP:20260423T104500Z
DTSTART;TZID=America/New_York:20220604T140000
DURATION:PT1H30M0S
SUMMARY:[A3] Crawfords 55 vs. [B3] Lowe Legends
DESCRIPTION:Men 55 Aaa - International Senior Softball Association<br>ISSA
LOCATION:LMP 4
CATEGORIES:QuickScores, Softball Game
TRANSP:OPAQUE
BEGIN:VALARM
TRIGGER:-PT2H
ACTION:DISPLAY
DESCRIPTION:[A3] Crawfords 55 vs. [B3] Lowe Legends
END:VALARM
END:VEVENT
END:VCALENDAR
