BEGIN:VCALENDAR
VERSION:2.0
PRODID:-//QuickScores.com//BQ Dynamic iCal Creator//EN
METHOD:PUBLISH
X-WR-CALNAME:Northern Virginia Force 75s - Men 75 Aaa - 2022 ISSA/WBSC World Tournament of Champions
X-WR-CALDESC:QuickScores game calendar
X-PUBLISHED-TTL:PT24H
REFRESH-INTERVAL;VALUE=DURATION:PT24H
CALSCALE:GREGORIAN
BEGIN:VTIMEZONE
TZID:America/New_York
X-LIC-LOCATION:America/New_York
BEGIN:DAYLIGHT
TZNAME:EDT
TZOFFSETFROM:-0500
TZOFFSETTO:-0400
DTSTART:19700308T020000
RRULE:FREQ=YEARLY;BYMONTH=3;BYDAY=2SU
END:DAYLIGHT
BEGIN:STANDARD
TZNAME:EST
TZOFFSETFROM:-0400
TZOFFSETTO:-0500
DTSTART:19701101T020000
RRULE:FREQ=YEARLY;BYMONTH=11;BYDAY=1SU
END:STANDARD
END:VTIMEZONE
BEGIN:VEVENT
UID:issa-51803048-20220201T090000@quickscores.com
DTSTAMP:20260421T040100Z
DTSTART;TZID=America/New_York:20220201T090000
DURATION:PT1H45M0S
SUMMARY:Northern Virginia Force 75s vs. SENIOR MOMENTS
DESCRIPTION:Men 75 Aaa - International Senior Softball Association<br>ISSA
LOCATION:RSC 4
CATEGORIES:QuickScores, Softball Game
TRANSP:OPAQUE
BEGIN:VALARM
TRIGGER:-PT2H
ACTION:DISPLAY
DESCRIPTION:Northern Virginia Force 75s vs. SENIOR MOMENTS
END:VALARM
END:VEVENT
BEGIN:VEVENT
UID:issa-51803050-20220201T104500@quickscores.com
DTSTAMP:20260421T040100Z
DTSTART;TZID=America/New_York:20220201T104500
DURATION:PT1H45M0S
SUMMARY:Knoxville Smokies vs. Northern Virginia Force 75s
DESCRIPTION:Men 75 Aaa - International Senior Softball Association<br>ISSA
LOCATION:RSC 4
CATEGORIES:QuickScores, Softball Game
TRANSP:OPAQUE
BEGIN:VALARM
TRIGGER:-PT2H
ACTION:DISPLAY
DESCRIPTION:Knoxville Smokies vs. Northern Virginia Force 75s
END:VALARM
END:VEVENT
BEGIN:VEVENT
UID:issa-51803055-20220202T080000@quickscores.com
DTSTAMP:20260421T040100Z
DTSTART;TZID=America/New_York:20220202T080000
DURATION:PT1H45M0S
SUMMARY:[B1] Steel City 75's vs. [A4] Northern Virginia Force 75s
DESCRIPTION:Men 75 Aaa - International Senior Softball Association<br>ISSA
LOCATION:RSC 4
CATEGORIES:QuickScores, Softball Game
TRANSP:OPAQUE
BEGIN:VALARM
TRIGGER:-PT2H
ACTION:DISPLAY
DESCRIPTION:[B1] Steel City 75's vs. [A4] Northern Virginia Force 75s
END:VALARM
END:VEVENT
BEGIN:VEVENT
UID:issa-51803060-20220202T113000@quickscores.com
DTSTAMP:20260421T040100Z
DTSTART;TZID=America/New_York:20220202T113000
DURATION:PT1H45M0S
SUMMARY:[A4] Northern Virginia Force 75s vs. [B3] SMOKIES75S
DESCRIPTION:Men 75 Aaa - International Senior Softball Association<br>ISSA
LOCATION:RSC 3
CATEGORIES:QuickScores, Softball Game
TRANSP:OPAQUE
BEGIN:VALARM
TRIGGER:-PT2H
ACTION:DISPLAY
DESCRIPTION:[A4] Northern Virginia Force 75s vs. [B3] SMOKIES75S
END:VALARM
END:VEVENT
BEGIN:VEVENT
UID:issa-51803062-20220202T150000@quickscores.com
DTSTAMP:20260421T040100Z
DTSTART;TZID=America/New_York:20220202T150000
DURATION:PT1H45M0S
SUMMARY:[A3] Knoxville Smokies vs. [A4] Northern Virginia Force 75s
DESCRIPTION:Men 75 Aaa - International Senior Softball Association<br>ISSA
LOCATION:RSC 4
CATEGORIES:QuickScores, Softball Game
TRANSP:OPAQUE
BEGIN:VALARM
TRIGGER:-PT2H
ACTION:DISPLAY
DESCRIPTION:[A3] Knoxville Smokies vs. [A4] Northern Virginia Force 75s
END:VALARM
END:VEVENT
END:VCALENDAR
