BEGIN:VCALENDAR
VERSION:2.0
PRODID:-//QuickScores.com//BQ Dynamic iCal Creator//EN
METHOD:PUBLISH
X-WR-CALNAME:Roselle 3 (Szymanek) - 3rd/4th Grade Boys - Giannis Division - Winter 2026
X-WR-CALDESC:QuickScores game calendar
X-PUBLISHED-TTL:PT24H
REFRESH-INTERVAL;VALUE=DURATION:PT24H
CALSCALE:GREGORIAN
BEGIN:VTIMEZONE
TZID:America/Chicago
X-LIC-LOCATION:America/Chicago
BEGIN:DAYLIGHT
TZNAME:CDT
TZOFFSETFROM:-0600
TZOFFSETTO:-0500
DTSTART:19700308T020000
RRULE:FREQ=YEARLY;BYMONTH=3;BYDAY=2SU
END:DAYLIGHT
BEGIN:STANDARD
TZNAME:CST
TZOFFSETFROM:-0500
TZOFFSETTO:-0600
DTSTART:19701101T020000
RRULE:FREQ=YEARLY;BYMONTH=11;BYDAY=1SU
END:STANDARD
END:VTIMEZONE
BEGIN:VEVENT
UID:intervillageleagues-72044698-20260110T110000@quickscores.com
DTSTAMP:20260425T094400Z
DTSTART;TZID=America/Chicago:20260110T110000
DURATION:PT1H0M0S
SUMMARY:Bloomingdale 2 (Manning) vs. Roselle 3 (Szymanek)
DESCRIPTION:3rd/4th Grade Boys - Giannis Division - Intervillage Leagues
LOCATION:Bloomingdale - Johnston Recreation Center
CATEGORIES:QuickScores, Basketball - Youth Game
TRANSP:OPAQUE
BEGIN:VALARM
TRIGGER:-PT2H
ACTION:DISPLAY
DESCRIPTION:Bloomingdale 2 (Manning) vs. Roselle 3 (Szymanek)
END:VALARM
END:VEVENT
BEGIN:VEVENT
UID:intervillageleagues-72044703-20260117T090000@quickscores.com
DTSTAMP:20260425T094400Z
DTSTART;TZID=America/Chicago:20260117T090000
DURATION:PT1H0M0S
SUMMARY:Bloomingdale 3 (Vallas) vs. Roselle 3 (Szymanek)
DESCRIPTION:3rd/4th Grade Boys - Giannis Division - Intervillage Leagues
LOCATION:Bloomingdale - Johnston Recreation Center
CATEGORIES:QuickScores, Basketball - Youth Game
TRANSP:OPAQUE
BEGIN:VALARM
TRIGGER:-PT2H
ACTION:DISPLAY
DESCRIPTION:Bloomingdale 3 (Vallas) vs. Roselle 3 (Szymanek)
END:VALARM
END:VEVENT
BEGIN:VEVENT
UID:intervillageleagues-72044711-20260131T180000@quickscores.com
DTSTAMP:20260425T094400Z
DTSTART;TZID=America/Chicago:20260131T180000
DURATION:PT1H0M0S
SUMMARY:Roselle 3 (Szymanek) vs. Bville Hawks
DESCRIPTION:3rd/4th Grade Boys - Giannis Division - Intervillage Leagues
LOCATION:Clauss Recreation Center - Court 1
CATEGORIES:QuickScores, Basketball - Youth Game
TRANSP:OPAQUE
BEGIN:VALARM
TRIGGER:-PT2H
ACTION:DISPLAY
DESCRIPTION:Roselle 3 (Szymanek) vs. Bville Hawks
END:VALARM
END:VEVENT
BEGIN:VEVENT
UID:intervillageleagues-72045325-20260207T170000@quickscores.com
DTSTAMP:20260425T094400Z
DTSTART;TZID=America/Chicago:20260207T170000
DURATION:PT1H0M0S
SUMMARY:Bville 2 (Baker) vs. Roselle 3 (Szymanek)
DESCRIPTION:3rd/4th Grade Boys - Giannis Division - Intervillage Leagues
LOCATION:Bensenville Park District
CATEGORIES:QuickScores, Basketball - Youth Game
TRANSP:OPAQUE
BEGIN:VALARM
TRIGGER:-PT2H
ACTION:DISPLAY
DESCRIPTION:Bville 2 (Baker) vs. Roselle 3 (Szymanek)
END:VALARM
END:VEVENT
BEGIN:VEVENT
UID:intervillageleagues-72044718-20260214T101500@quickscores.com
DTSTAMP:20260425T094400Z
DTSTART;TZID=America/Chicago:20260214T101500
DURATION:PT1H0M0S
SUMMARY:Roselle 3 (Szymanek) vs. Roselle 4 (Callan)
DESCRIPTION:3rd/4th Grade Boys - Giannis Division - Intervillage Leagues
LOCATION:Clauss Recreation Center - Court 1
CATEGORIES:QuickScores, Basketball - Youth Game
TRANSP:OPAQUE
BEGIN:VALARM
TRIGGER:-PT2H
ACTION:DISPLAY
DESCRIPTION:Roselle 3 (Szymanek) vs. Roselle 4 (Callan)
END:VALARM
END:VEVENT
BEGIN:VEVENT
UID:intervillageleagues-72044721-20260221T180000@quickscores.com
DTSTAMP:20260425T094400Z
DTSTART;TZID=America/Chicago:20260221T180000
DURATION:PT1H0M0S
SUMMARY:Roselle 3 (Szymanek) vs. Bloomingdale 1 (Ashfaq)
DESCRIPTION:3rd/4th Grade Boys - Giannis Division - Intervillage Leagues
LOCATION:Clauss Recreation Center - Court 1
CATEGORIES:QuickScores, Basketball - Youth Game
TRANSP:OPAQUE
BEGIN:VALARM
TRIGGER:-PT2H
ACTION:DISPLAY
DESCRIPTION:Roselle 3 (Szymanek) vs. Bloomingdale 1 (Ashfaq)
END:VALARM
END:VEVENT
BEGIN:VEVENT
UID:intervillageleagues-72044705-20260228T091500@quickscores.com
DTSTAMP:20260425T094400Z
DTSTART;TZID=America/Chicago:20260228T091500
DURATION:PT1H0M0S
SUMMARY:Schaumburg vs. Roselle 3 (Szymanek)
DESCRIPTION:Rescheduled --- 3rd/4th Grade Boys - Giannis Division - Intervillage Leagues
LOCATION:Schaumburg - Keller Jr. High
CATEGORIES:QuickScores, Basketball - Youth Game
TRANSP:OPAQUE
BEGIN:VALARM
TRIGGER:-PT2H
ACTION:DISPLAY
DESCRIPTION:Schaumburg vs. Roselle 3 (Szymanek)
END:VALARM
END:VEVENT
BEGIN:VEVENT
UID:intervillageleagues-72044733-20260228T130000@quickscores.com
DTSTAMP:20260425T094400Z
DTSTART;TZID=America/Chicago:20260228T130000
DURATION:PT1H0M0S
SUMMARY:Roselle 3 (Szymanek) vs. Roselle 1 (Slowik)
DESCRIPTION:3rd/4th Grade Boys - Giannis Division - Intervillage Leagues
LOCATION:Clauss Recreation Center - Court 1
CATEGORIES:QuickScores, Basketball - Youth Game
TRANSP:OPAQUE
BEGIN:VALARM
TRIGGER:-PT2H
ACTION:DISPLAY
DESCRIPTION:Roselle 3 (Szymanek) vs. Roselle 1 (Slowik)
END:VALARM
END:VEVENT
END:VCALENDAR
