BEGIN:VCALENDAR
VERSION:2.0
PRODID:-//QuickScores.com//BQ Dynamic iCal Creator//EN
METHOD:PUBLISH
X-WR-CALNAME:Twins - Bmbl Summer 2026 - BMBL Summer 2026
X-WR-CALDESC:QuickScores game calendar
X-PUBLISHED-TTL:PT24H
REFRESH-INTERVAL;VALUE=DURATION:PT24H
CALSCALE:GREGORIAN
BEGIN:VTIMEZONE
TZID:America/Chicago
X-LIC-LOCATION:America/Chicago
BEGIN:DAYLIGHT
TZNAME:CDT
TZOFFSETFROM:-0600
TZOFFSETTO:-0500
DTSTART:19700308T020000
RRULE:FREQ=YEARLY;BYMONTH=3;BYDAY=2SU
END:DAYLIGHT
BEGIN:STANDARD
TZNAME:CST
TZOFFSETFROM:-0500
TZOFFSETTO:-0600
DTSTART:19701101T020000
RRULE:FREQ=YEARLY;BYMONTH=11;BYDAY=1SU
END:STANDARD
END:VTIMEZONE
BEGIN:VEVENT
UID:hoover-74572266-20260518T190000@quickscores.com
DTSTAMP:20260422T233400Z
DTSTART;TZID=America/Chicago:20260518T190000
DURATION:PT2H15M0S
SUMMARY:Twins vs. Juggernauts
DESCRIPTION:Bmbl Summer 2026 - Hoover Parks and Recreation
LOCATION:Spain Park Field # 1
CATEGORIES:QuickScores, Baseball Game
TRANSP:OPAQUE
BEGIN:VALARM
TRIGGER:-PT2H
ACTION:DISPLAY
DESCRIPTION:Twins vs. Juggernauts
END:VALARM
END:VEVENT
BEGIN:VEVENT
UID:hoover-74572267-20260521T190000@quickscores.com
DTSTAMP:20260422T233400Z
DTSTART;TZID=America/Chicago:20260521T190000
DURATION:PT2H15M0S
SUMMARY:Twins vs. Birmingham Billies
DESCRIPTION:Bmbl Summer 2026 - Hoover Parks and Recreation
LOCATION:Spain Park Field # 1
CATEGORIES:QuickScores, Baseball Game
TRANSP:OPAQUE
BEGIN:VALARM
TRIGGER:-PT2H
ACTION:DISPLAY
DESCRIPTION:Twins vs. Birmingham Billies
END:VALARM
END:VEVENT
BEGIN:VEVENT
UID:hoover-74572257-20260528T190000@quickscores.com
DTSTAMP:20260422T233400Z
DTSTART;TZID=America/Chicago:20260528T190000
DURATION:PT2H15M0S
SUMMARY:Shockers vs. Twins
DESCRIPTION:Bmbl Summer 2026 - Hoover Parks and Recreation
LOCATION:Spain Park Field # 2
CATEGORIES:QuickScores, Baseball Game
TRANSP:OPAQUE
BEGIN:VALARM
TRIGGER:-PT2H
ACTION:DISPLAY
DESCRIPTION:Shockers vs. Twins
END:VALARM
END:VEVENT
BEGIN:VEVENT
UID:hoover-74572268-20260531T130000@quickscores.com
DTSTAMP:20260422T233400Z
DTSTART;TZID=America/Chicago:20260531T130000
DURATION:PT2H15M0S
SUMMARY:Twins vs. YOG Select
DESCRIPTION:Bmbl Summer 2026 - Hoover Parks and Recreation
LOCATION:Hoover East Turf Field # 7
CATEGORIES:QuickScores, Baseball Game
TRANSP:OPAQUE
BEGIN:VALARM
TRIGGER:-PT2H
ACTION:DISPLAY
DESCRIPTION:Twins vs. YOG Select
END:VALARM
END:VEVENT
BEGIN:VEVENT
UID:hoover-74572100-20260604T190000@quickscores.com
DTSTAMP:20260422T233400Z
DTSTART;TZID=America/Chicago:20260604T190000
DURATION:PT2H15M0S
SUMMARY:Juggernauts vs. Twins
DESCRIPTION:Bmbl Summer 2026 - Hoover Parks and Recreation
LOCATION:Spain Park Field # 1
CATEGORIES:QuickScores, Baseball Game
TRANSP:OPAQUE
BEGIN:VALARM
TRIGGER:-PT2H
ACTION:DISPLAY
DESCRIPTION:Juggernauts vs. Twins
END:VALARM
END:VEVENT
BEGIN:VEVENT
UID:hoover-74571981-20260607T153000@quickscores.com
DTSTAMP:20260422T233400Z
DTSTART;TZID=America/Chicago:20260607T153000
DURATION:PT2H15M0S
SUMMARY:Birmingham Billies vs. Twins
DESCRIPTION:Bmbl Summer 2026 - Hoover Parks and Recreation
LOCATION:Spain Park Field # 1
CATEGORIES:QuickScores, Baseball Game
TRANSP:OPAQUE
BEGIN:VALARM
TRIGGER:-PT2H
ACTION:DISPLAY
DESCRIPTION:Birmingham Billies vs. Twins
END:VALARM
END:VEVENT
BEGIN:VEVENT
UID:hoover-74572005-20260608T190000@quickscores.com
DTSTAMP:20260422T233400Z
DTSTART;TZID=America/Chicago:20260608T190000
DURATION:PT2H15M0S
SUMMARY:Black Sox vs. Twins
DESCRIPTION:Bmbl Summer 2026 - Hoover Parks and Recreation
LOCATION:Spain Park Field # 1
CATEGORIES:QuickScores, Baseball Game
TRANSP:OPAQUE
BEGIN:VALARM
TRIGGER:-PT2H
ACTION:DISPLAY
DESCRIPTION:Black Sox vs. Twins
END:VALARM
END:VEVENT
BEGIN:VEVENT
UID:hoover-74572269-20260611T190000@quickscores.com
DTSTAMP:20260422T233400Z
DTSTART;TZID=America/Chicago:20260611T190000
DURATION:PT2H15M0S
SUMMARY:Twins vs. Black Sox
DESCRIPTION:Bmbl Summer 2026 - Hoover Parks and Recreation
LOCATION:Spain Park Field # 2
CATEGORIES:QuickScores, Baseball Game
TRANSP:OPAQUE
BEGIN:VALARM
TRIGGER:-PT2H
ACTION:DISPLAY
DESCRIPTION:Twins vs. Black Sox
END:VALARM
END:VEVENT
BEGIN:VEVENT
UID:hoover-74572219-20260614T130000@quickscores.com
DTSTAMP:20260422T233400Z
DTSTART;TZID=America/Chicago:20260614T130000
DURATION:PT2H15M0S
SUMMARY:Red Sox vs. Twins
DESCRIPTION:Bmbl Summer 2026 - Hoover Parks and Recreation
LOCATION:Spain Park Field # 2
CATEGORIES:QuickScores, Baseball Game
TRANSP:OPAQUE
BEGIN:VALARM
TRIGGER:-PT2H
ACTION:DISPLAY
DESCRIPTION:Red Sox vs. Twins
END:VALARM
END:VEVENT
BEGIN:VEVENT
UID:hoover-74572277-20260616T190000@quickscores.com
DTSTAMP:20260422T233400Z
DTSTART;TZID=America/Chicago:20260616T190000
DURATION:PT1H0M0S
SUMMARY:YOG Select vs. Twins
DESCRIPTION:Bmbl Summer 2026 - Hoover Parks and Recreation
LOCATION:Spain Park Field # 2
CATEGORIES:QuickScores, Baseball Game
TRANSP:OPAQUE
BEGIN:VALARM
TRIGGER:-PT2H
ACTION:DISPLAY
DESCRIPTION:YOG Select vs. Twins
END:VALARM
END:VEVENT
BEGIN:VEVENT
UID:hoover-74571940-20260623T190000@quickscores.com
DTSTAMP:20260422T233400Z
DTSTART;TZID=America/Chicago:20260623T190000
DURATION:PT2H15M0S
SUMMARY:Bama Bash vs. Twins
DESCRIPTION:Bmbl Summer 2026 - Hoover Parks and Recreation
LOCATION:Spain Park Field # 1
CATEGORIES:QuickScores, Baseball Game
TRANSP:OPAQUE
BEGIN:VALARM
TRIGGER:-PT2H
ACTION:DISPLAY
DESCRIPTION:Bama Bash vs. Twins
END:VALARM
END:VEVENT
BEGIN:VEVENT
UID:hoover-74572270-20260630T190000@quickscores.com
DTSTAMP:20260422T233400Z
DTSTART;TZID=America/Chicago:20260630T190000
DURATION:PT2H15M0S
SUMMARY:Twins vs. Bama Bash
DESCRIPTION:Bmbl Summer 2026 - Hoover Parks and Recreation
LOCATION:Spain Park Field # 2
CATEGORIES:QuickScores, Baseball Game
TRANSP:OPAQUE
BEGIN:VALARM
TRIGGER:-PT2H
ACTION:DISPLAY
DESCRIPTION:Twins vs. Bama Bash
END:VALARM
END:VEVENT
BEGIN:VEVENT
UID:hoover-74572095-20260709T190000@quickscores.com
DTSTAMP:20260422T233400Z
DTSTART;TZID=America/Chicago:20260709T190000
DURATION:PT2H15M0S
SUMMARY:Cardinals vs. Twins
DESCRIPTION:Bmbl Summer 2026 - Hoover Parks and Recreation
LOCATION:Spain Park Field # 2
CATEGORIES:QuickScores, Baseball Game
TRANSP:OPAQUE
BEGIN:VALARM
TRIGGER:-PT2H
ACTION:DISPLAY
DESCRIPTION:Cardinals vs. Twins
END:VALARM
END:VEVENT
BEGIN:VEVENT
UID:hoover-74572271-20260712T153000@quickscores.com
DTSTAMP:20260422T233400Z
DTSTART;TZID=America/Chicago:20260712T153000
DURATION:PT2H15M0S
SUMMARY:Twins vs. Red Sox
DESCRIPTION:Bmbl Summer 2026 - Hoover Parks and Recreation
LOCATION:Spain Park Field # 2
CATEGORIES:QuickScores, Baseball Game
TRANSP:OPAQUE
BEGIN:VALARM
TRIGGER:-PT2H
ACTION:DISPLAY
DESCRIPTION:Twins vs. Red Sox
END:VALARM
END:VEVENT
BEGIN:VEVENT
UID:hoover-74572272-20260714T190000@quickscores.com
DTSTAMP:20260422T233400Z
DTSTART;TZID=America/Chicago:20260714T190000
DURATION:PT2H15M0S
SUMMARY:Twins vs. Shockers
DESCRIPTION:Bmbl Summer 2026 - Hoover Parks and Recreation
LOCATION:Spain Park Field # 1
CATEGORIES:QuickScores, Baseball Game
TRANSP:OPAQUE
BEGIN:VALARM
TRIGGER:-PT2H
ACTION:DISPLAY
DESCRIPTION:Twins vs. Shockers
END:VALARM
END:VEVENT
BEGIN:VEVENT
UID:hoover-74572273-20260719T153000@quickscores.com
DTSTAMP:20260422T233400Z
DTSTART;TZID=America/Chicago:20260719T153000
DURATION:PT2H15M0S
SUMMARY:Twins vs. Magic City Mavericks
DESCRIPTION:Bmbl Summer 2026 - Hoover Parks and Recreation
LOCATION:Spain Park Field # 2
CATEGORIES:QuickScores, Baseball Game
TRANSP:OPAQUE
BEGIN:VALARM
TRIGGER:-PT2H
ACTION:DISPLAY
DESCRIPTION:Twins vs. Magic City Mavericks
END:VALARM
END:VEVENT
BEGIN:VEVENT
UID:hoover-74572211-20260720T190000@quickscores.com
DTSTAMP:20260422T233400Z
DTSTART;TZID=America/Chicago:20260720T190000
DURATION:PT2H15M0S
SUMMARY:Magic City Mavericks vs. Twins
DESCRIPTION:Bmbl Summer 2026 - Hoover Parks and Recreation
LOCATION:Spain Park Field # 1
CATEGORIES:QuickScores, Baseball Game
TRANSP:OPAQUE
BEGIN:VALARM
TRIGGER:-PT2H
ACTION:DISPLAY
DESCRIPTION:Magic City Mavericks vs. Twins
END:VALARM
END:VEVENT
BEGIN:VEVENT
UID:hoover-74572274-20260726T153000@quickscores.com
DTSTAMP:20260422T233400Z
DTSTART;TZID=America/Chicago:20260726T153000
DURATION:PT2H15M0S
SUMMARY:Twins vs. Cardinals
DESCRIPTION:Bmbl Summer 2026 - Hoover Parks and Recreation
LOCATION:Spain Park Field # 2
CATEGORIES:QuickScores, Baseball Game
TRANSP:OPAQUE
BEGIN:VALARM
TRIGGER:-PT2H
ACTION:DISPLAY
DESCRIPTION:Twins vs. Cardinals
END:VALARM
END:VEVENT
END:VCALENDAR
