BEGIN:VCALENDAR
VERSION:2.0
PRODID:-//QuickScores.com//BQ Dynamic iCal Creator//EN
METHOD:PUBLISH
X-WR-CALNAME:YOG Select - Bmbl Summer 2026 - BMBL Summer 2026
X-WR-CALDESC:QuickScores game calendar
X-PUBLISHED-TTL:PT24H
REFRESH-INTERVAL;VALUE=DURATION:PT24H
CALSCALE:GREGORIAN
BEGIN:VTIMEZONE
TZID:America/Chicago
X-LIC-LOCATION:America/Chicago
BEGIN:DAYLIGHT
TZNAME:CDT
TZOFFSETFROM:-0600
TZOFFSETTO:-0500
DTSTART:19700308T020000
RRULE:FREQ=YEARLY;BYMONTH=3;BYDAY=2SU
END:DAYLIGHT
BEGIN:STANDARD
TZNAME:CST
TZOFFSETFROM:-0500
TZOFFSETTO:-0600
DTSTART:19701101T020000
RRULE:FREQ=YEARLY;BYMONTH=11;BYDAY=1SU
END:STANDARD
END:VTIMEZONE
BEGIN:VEVENT
UID:hoover-74572089-20260515T190000@quickscores.com
DTSTAMP:20260421T175200Z
DTSTART;TZID=America/Chicago:20260515T190000
DURATION:PT2H15M0S
SUMMARY:Cardinals vs. YOG Select
DESCRIPTION:Bmbl Summer 2026 - Hoover Parks and Recreation
LOCATION:Spain Park Field # 2
CATEGORIES:QuickScores, Baseball Game
TRANSP:OPAQUE
BEGIN:VALARM
TRIGGER:-PT2H
ACTION:DISPLAY
DESCRIPTION:Cardinals vs. YOG Select
END:VALARM
END:VEVENT
BEGIN:VEVENT
UID:hoover-74572098-20260521T190000@quickscores.com
DTSTAMP:20260421T175200Z
DTSTART;TZID=America/Chicago:20260521T190000
DURATION:PT2H15M0S
SUMMARY:Juggernauts vs. YOG Select
DESCRIPTION:Bmbl Summer 2026 - Hoover Parks and Recreation
LOCATION:Spain Park Field # 2
CATEGORIES:QuickScores, Baseball Game
TRANSP:OPAQUE
BEGIN:VALARM
TRIGGER:-PT2H
ACTION:DISPLAY
DESCRIPTION:Juggernauts vs. YOG Select
END:VALARM
END:VEVENT
BEGIN:VEVENT
UID:hoover-74572268-20260531T130000@quickscores.com
DTSTAMP:20260421T175200Z
DTSTART;TZID=America/Chicago:20260531T130000
DURATION:PT2H15M0S
SUMMARY:Twins vs. YOG Select
DESCRIPTION:Bmbl Summer 2026 - Hoover Parks and Recreation
LOCATION:Hoover East Turf Field # 7
CATEGORIES:QuickScores, Baseball Game
TRANSP:OPAQUE
BEGIN:VALARM
TRIGGER:-PT2H
ACTION:DISPLAY
DESCRIPTION:Twins vs. YOG Select
END:VALARM
END:VEVENT
BEGIN:VEVENT
UID:hoover-74571937-20260601T190000@quickscores.com
DTSTAMP:20260421T175200Z
DTSTART;TZID=America/Chicago:20260601T190000
DURATION:PT2H15M0S
SUMMARY:Bama Bash vs. YOG Select
DESCRIPTION:Bmbl Summer 2026 - Hoover Parks and Recreation
LOCATION:Spain Park Field # 1
CATEGORIES:QuickScores, Baseball Game
TRANSP:OPAQUE
BEGIN:VALARM
TRIGGER:-PT2H
ACTION:DISPLAY
DESCRIPTION:Bama Bash vs. YOG Select
END:VALARM
END:VEVENT
BEGIN:VEVENT
UID:hoover-74572275-20260607T130000@quickscores.com
DTSTAMP:20260421T175200Z
DTSTART;TZID=America/Chicago:20260607T130000
DURATION:PT1H0M0S
SUMMARY:YOG Select vs. Bama Bash
DESCRIPTION:Bmbl Summer 2026 - Hoover Parks and Recreation
LOCATION:Hoover East Turf Field # 7
CATEGORIES:QuickScores, Baseball Game
TRANSP:OPAQUE
BEGIN:VALARM
TRIGGER:-PT2H
ACTION:DISPLAY
DESCRIPTION:YOG Select vs. Bama Bash
END:VALARM
END:VEVENT
BEGIN:VEVENT
UID:hoover-74572276-20260609T190000@quickscores.com
DTSTAMP:20260421T175200Z
DTSTART;TZID=America/Chicago:20260609T190000
DURATION:PT1H0M0S
SUMMARY:YOG Select vs. Red Sox
DESCRIPTION:Bmbl Summer 2026 - Hoover Parks and Recreation
LOCATION:Spain Park Field # 2
CATEGORIES:QuickScores, Baseball Game
TRANSP:OPAQUE
BEGIN:VALARM
TRIGGER:-PT2H
ACTION:DISPLAY
DESCRIPTION:YOG Select vs. Red Sox
END:VALARM
END:VEVENT
BEGIN:VEVENT
UID:hoover-74572261-20260614T130000@quickscores.com
DTSTAMP:20260421T175200Z
DTSTART;TZID=America/Chicago:20260614T130000
DURATION:PT2H15M0S
SUMMARY:Shockers vs. YOG Select
DESCRIPTION:Bmbl Summer 2026 - Hoover Parks and Recreation
LOCATION:Hoover East Turf Field # 7
CATEGORIES:QuickScores, Baseball Game
TRANSP:OPAQUE
BEGIN:VALARM
TRIGGER:-PT2H
ACTION:DISPLAY
DESCRIPTION:Shockers vs. YOG Select
END:VALARM
END:VEVENT
BEGIN:VEVENT
UID:hoover-74572277-20260616T190000@quickscores.com
DTSTAMP:20260421T175200Z
DTSTART;TZID=America/Chicago:20260616T190000
DURATION:PT1H0M0S
SUMMARY:YOG Select vs. Twins
DESCRIPTION:Bmbl Summer 2026 - Hoover Parks and Recreation
LOCATION:Spain Park Field # 2
CATEGORIES:QuickScores, Baseball Game
TRANSP:OPAQUE
BEGIN:VALARM
TRIGGER:-PT2H
ACTION:DISPLAY
DESCRIPTION:YOG Select vs. Twins
END:VALARM
END:VEVENT
BEGIN:VEVENT
UID:hoover-74572278-20260619T190000@quickscores.com
DTSTAMP:20260421T175200Z
DTSTART;TZID=America/Chicago:20260619T190000
DURATION:PT1H0M0S
SUMMARY:YOG Select vs. Shockers
DESCRIPTION:Bmbl Summer 2026 - Hoover Parks and Recreation
LOCATION:Spain Park Field # 2
CATEGORIES:QuickScores, Baseball Game
TRANSP:OPAQUE
BEGIN:VALARM
TRIGGER:-PT2H
ACTION:DISPLAY
DESCRIPTION:YOG Select vs. Shockers
END:VALARM
END:VEVENT
BEGIN:VEVENT
UID:hoover-74572279-20260625T190000@quickscores.com
DTSTAMP:20260421T175200Z
DTSTART;TZID=America/Chicago:20260625T190000
DURATION:PT1H0M0S
SUMMARY:YOG Select vs. Juggernauts
DESCRIPTION:Bmbl Summer 2026 - Hoover Parks and Recreation
LOCATION:Spain Park Field # 1
CATEGORIES:QuickScores, Baseball Game
TRANSP:OPAQUE
BEGIN:VALARM
TRIGGER:-PT2H
ACTION:DISPLAY
DESCRIPTION:YOG Select vs. Juggernauts
END:VALARM
END:VEVENT
BEGIN:VEVENT
UID:hoover-74572280-20260629T190000@quickscores.com
DTSTAMP:20260421T175200Z
DTSTART;TZID=America/Chicago:20260629T190000
DURATION:PT1H0M0S
SUMMARY:YOG Select vs. Magic City Mavericks
DESCRIPTION:Bmbl Summer 2026 - Hoover Parks and Recreation
LOCATION:Spain Park Field # 2
CATEGORIES:QuickScores, Baseball Game
TRANSP:OPAQUE
BEGIN:VALARM
TRIGGER:-PT2H
ACTION:DISPLAY
DESCRIPTION:YOG Select vs. Magic City Mavericks
END:VALARM
END:VEVENT
BEGIN:VEVENT
UID:hoover-74572221-20260707T190000@quickscores.com
DTSTAMP:20260421T175200Z
DTSTART;TZID=America/Chicago:20260707T190000
DURATION:PT2H15M0S
SUMMARY:Red Sox vs. YOG Select
DESCRIPTION:Bmbl Summer 2026 - Hoover Parks and Recreation
LOCATION:Spain Park Field # 1
CATEGORIES:QuickScores, Baseball Game
TRANSP:OPAQUE
BEGIN:VALARM
TRIGGER:-PT2H
ACTION:DISPLAY
DESCRIPTION:Red Sox vs. YOG Select
END:VALARM
END:VEVENT
BEGIN:VEVENT
UID:hoover-74572281-20260710T190000@quickscores.com
DTSTAMP:20260421T175200Z
DTSTART;TZID=America/Chicago:20260710T190000
DURATION:PT1H0M0S
SUMMARY:YOG Select vs. Black Sox
DESCRIPTION:Bmbl Summer 2026 - Hoover Parks and Recreation
LOCATION:Spain Park Field # 2
CATEGORIES:QuickScores, Baseball Game
TRANSP:OPAQUE
BEGIN:VALARM
TRIGGER:-PT2H
ACTION:DISPLAY
DESCRIPTION:YOG Select vs. Black Sox
END:VALARM
END:VEVENT
BEGIN:VEVENT
UID:hoover-74572282-20260712T130000@quickscores.com
DTSTAMP:20260421T175200Z
DTSTART;TZID=America/Chicago:20260712T130000
DURATION:PT1H0M0S
SUMMARY:YOG Select vs. Cardinals
DESCRIPTION:Bmbl Summer 2026 - Hoover Parks and Recreation
LOCATION:Hoover East Turf Field # 7
CATEGORIES:QuickScores, Baseball Game
TRANSP:OPAQUE
BEGIN:VALARM
TRIGGER:-PT2H
ACTION:DISPLAY
DESCRIPTION:YOG Select vs. Cardinals
END:VALARM
END:VEVENT
BEGIN:VEVENT
UID:hoover-74571986-20260713T190000@quickscores.com
DTSTAMP:20260421T175200Z
DTSTART;TZID=America/Chicago:20260713T190000
DURATION:PT2H15M0S
SUMMARY:Birmingham Billies vs. YOG Select
DESCRIPTION:Bmbl Summer 2026 - Hoover Parks and Recreation
LOCATION:Spain Park Field # 1
CATEGORIES:QuickScores, Baseball Game
TRANSP:OPAQUE
BEGIN:VALARM
TRIGGER:-PT2H
ACTION:DISPLAY
DESCRIPTION:Birmingham Billies vs. YOG Select
END:VALARM
END:VEVENT
BEGIN:VEVENT
UID:hoover-74572283-20260719T130000@quickscores.com
DTSTAMP:20260421T175200Z
DTSTART;TZID=America/Chicago:20260719T130000
DURATION:PT1H0M0S
SUMMARY:YOG Select vs. Birmingham Billies
DESCRIPTION:Bmbl Summer 2026 - Hoover Parks and Recreation
LOCATION:Hoover East Turf Field # 7
CATEGORIES:QuickScores, Baseball Game
TRANSP:OPAQUE
BEGIN:VALARM
TRIGGER:-PT2H
ACTION:DISPLAY
DESCRIPTION:YOG Select vs. Birmingham Billies
END:VALARM
END:VEVENT
BEGIN:VEVENT
UID:hoover-74572212-20260721T190000@quickscores.com
DTSTAMP:20260421T175200Z
DTSTART;TZID=America/Chicago:20260721T190000
DURATION:PT2H15M0S
SUMMARY:Magic City Mavericks vs. YOG Select
DESCRIPTION:Bmbl Summer 2026 - Hoover Parks and Recreation
LOCATION:Spain Park Field # 2
CATEGORIES:QuickScores, Baseball Game
TRANSP:OPAQUE
BEGIN:VALARM
TRIGGER:-PT2H
ACTION:DISPLAY
DESCRIPTION:Magic City Mavericks vs. YOG Select
END:VALARM
END:VEVENT
BEGIN:VEVENT
UID:hoover-74572007-20260726T130000@quickscores.com
DTSTAMP:20260421T175200Z
DTSTART;TZID=America/Chicago:20260726T130000
DURATION:PT2H15M0S
SUMMARY:Black Sox vs. YOG Select
DESCRIPTION:Bmbl Summer 2026 - Hoover Parks and Recreation
LOCATION:Hoover East Turf Field # 7
CATEGORIES:QuickScores, Baseball Game
TRANSP:OPAQUE
BEGIN:VALARM
TRIGGER:-PT2H
ACTION:DISPLAY
DESCRIPTION:Black Sox vs. YOG Select
END:VALARM
END:VEVENT
END:VCALENDAR
