BEGIN:VCALENDAR
VERSION:2.0
PRODID:-//QuickScores.com//BQ Dynamic iCal Creator//EN
METHOD:PUBLISH
X-WR-CALNAME:Bama Bash - Bmbl Summer 2026 - BMBL Summer 2026
X-WR-CALDESC:QuickScores game calendar
X-PUBLISHED-TTL:PT24H
REFRESH-INTERVAL;VALUE=DURATION:PT24H
CALSCALE:GREGORIAN
BEGIN:VTIMEZONE
TZID:America/Chicago
X-LIC-LOCATION:America/Chicago
BEGIN:DAYLIGHT
TZNAME:CDT
TZOFFSETFROM:-0600
TZOFFSETTO:-0500
DTSTART:19700308T020000
RRULE:FREQ=YEARLY;BYMONTH=3;BYDAY=2SU
END:DAYLIGHT
BEGIN:STANDARD
TZNAME:CST
TZOFFSETFROM:-0500
TZOFFSETTO:-0600
DTSTART:19701101T020000
RRULE:FREQ=YEARLY;BYMONTH=11;BYDAY=1SU
END:STANDARD
END:VTIMEZONE
BEGIN:VEVENT
UID:hoover-74571934-20260514T190000@quickscores.com
DTSTAMP:20260421T072500Z
DTSTART;TZID=America/Chicago:20260514T190000
DURATION:PT2H15M0S
SUMMARY:Bama Bash vs. Magic City Mavericks
DESCRIPTION:Bmbl Summer 2026 - Hoover Parks and Recreation
LOCATION:Spain Park Field # 1
CATEGORIES:QuickScores, Baseball Game
TRANSP:OPAQUE
BEGIN:VALARM
TRIGGER:-PT2H
ACTION:DISPLAY
DESCRIPTION:Bama Bash vs. Magic City Mavericks
END:VALARM
END:VEVENT
BEGIN:VEVENT
UID:hoover-74572001-20260518T190000@quickscores.com
DTSTAMP:20260421T072500Z
DTSTART;TZID=America/Chicago:20260518T190000
DURATION:PT2H15M0S
SUMMARY:Black Sox vs. Bama Bash
DESCRIPTION:Bmbl Summer 2026 - Hoover Parks and Recreation
LOCATION:Spain Park Field # 2
CATEGORIES:QuickScores, Baseball Game
TRANSP:OPAQUE
BEGIN:VALARM
TRIGGER:-PT2H
ACTION:DISPLAY
DESCRIPTION:Black Sox vs. Bama Bash
END:VALARM
END:VEVENT
BEGIN:VEVENT
UID:hoover-74571935-20260522T190000@quickscores.com
DTSTAMP:20260421T072500Z
DTSTART;TZID=America/Chicago:20260522T190000
DURATION:PT2H15M0S
SUMMARY:Bama Bash vs. Red Sox
DESCRIPTION:Bmbl Summer 2026 - Hoover Parks and Recreation
LOCATION:Spain Park Field # 1
CATEGORIES:QuickScores, Baseball Game
TRANSP:OPAQUE
BEGIN:VALARM
TRIGGER:-PT2H
ACTION:DISPLAY
DESCRIPTION:Bama Bash vs. Red Sox
END:VALARM
END:VEVENT
BEGIN:VEVENT
UID:hoover-74571936-20260531T130000@quickscores.com
DTSTAMP:20260421T072500Z
DTSTART;TZID=America/Chicago:20260531T130000
DURATION:PT2H15M0S
SUMMARY:Bama Bash vs. Birmingham Billies
DESCRIPTION:Bmbl Summer 2026 - Hoover Parks and Recreation
LOCATION:Spain Park Field # 2
CATEGORIES:QuickScores, Baseball Game
TRANSP:OPAQUE
BEGIN:VALARM
TRIGGER:-PT2H
ACTION:DISPLAY
DESCRIPTION:Bama Bash vs. Birmingham Billies
END:VALARM
END:VEVENT
BEGIN:VEVENT
UID:hoover-74571937-20260601T190000@quickscores.com
DTSTAMP:20260421T072500Z
DTSTART;TZID=America/Chicago:20260601T190000
DURATION:PT2H15M0S
SUMMARY:Bama Bash vs. YOG Select
DESCRIPTION:Bmbl Summer 2026 - Hoover Parks and Recreation
LOCATION:Spain Park Field # 1
CATEGORIES:QuickScores, Baseball Game
TRANSP:OPAQUE
BEGIN:VALARM
TRIGGER:-PT2H
ACTION:DISPLAY
DESCRIPTION:Bama Bash vs. YOG Select
END:VALARM
END:VEVENT
BEGIN:VEVENT
UID:hoover-74572258-20260604T190000@quickscores.com
DTSTAMP:20260421T072500Z
DTSTART;TZID=America/Chicago:20260604T190000
DURATION:PT2H15M0S
SUMMARY:Shockers vs. Bama Bash
DESCRIPTION:Bmbl Summer 2026 - Hoover Parks and Recreation
LOCATION:Spain Park Field # 2
CATEGORIES:QuickScores, Baseball Game
TRANSP:OPAQUE
BEGIN:VALARM
TRIGGER:-PT2H
ACTION:DISPLAY
DESCRIPTION:Shockers vs. Bama Bash
END:VALARM
END:VEVENT
BEGIN:VEVENT
UID:hoover-74572275-20260607T130000@quickscores.com
DTSTAMP:20260421T072500Z
DTSTART;TZID=America/Chicago:20260607T130000
DURATION:PT1H0M0S
SUMMARY:YOG Select vs. Bama Bash
DESCRIPTION:Bmbl Summer 2026 - Hoover Parks and Recreation
LOCATION:Hoover East Turf Field # 7
CATEGORIES:QuickScores, Baseball Game
TRANSP:OPAQUE
BEGIN:VALARM
TRIGGER:-PT2H
ACTION:DISPLAY
DESCRIPTION:YOG Select vs. Bama Bash
END:VALARM
END:VEVENT
BEGIN:VEVENT
UID:hoover-74571938-20260609T190000@quickscores.com
DTSTAMP:20260421T072500Z
DTSTART;TZID=America/Chicago:20260609T190000
DURATION:PT2H15M0S
SUMMARY:Bama Bash vs. Cardinals
DESCRIPTION:Bmbl Summer 2026 - Hoover Parks and Recreation
LOCATION:Spain Park Field # 1
CATEGORIES:QuickScores, Baseball Game
TRANSP:OPAQUE
BEGIN:VALARM
TRIGGER:-PT2H
ACTION:DISPLAY
DESCRIPTION:Bama Bash vs. Cardinals
END:VALARM
END:VEVENT
BEGIN:VEVENT
UID:hoover-74571946-20260614T130000@quickscores.com
DTSTAMP:20260421T072500Z
DTSTART;TZID=America/Chicago:20260614T130000
DURATION:PT2H15M0S
SUMMARY:Bama Bash vs. Black Sox
DESCRIPTION:Bmbl Summer 2026 - Hoover Parks and Recreation
LOCATION:Spain Park Field # 1
CATEGORIES:QuickScores, Baseball Game
TRANSP:OPAQUE
BEGIN:VALARM
TRIGGER:-PT2H
ACTION:DISPLAY
DESCRIPTION:Bama Bash vs. Black Sox
END:VALARM
END:VEVENT
BEGIN:VEVENT
UID:hoover-74571939-20260615T190000@quickscores.com
DTSTAMP:20260421T072500Z
DTSTART;TZID=America/Chicago:20260615T190000
DURATION:PT2H15M0S
SUMMARY:Bama Bash vs. Shockers
DESCRIPTION:Bmbl Summer 2026 - Hoover Parks and Recreation
LOCATION:Spain Park Field # 2
CATEGORIES:QuickScores, Baseball Game
TRANSP:OPAQUE
BEGIN:VALARM
TRIGGER:-PT2H
ACTION:DISPLAY
DESCRIPTION:Bama Bash vs. Shockers
END:VALARM
END:VEVENT
BEGIN:VEVENT
UID:hoover-74572208-20260619T190000@quickscores.com
DTSTAMP:20260421T072500Z
DTSTART;TZID=America/Chicago:20260619T190000
DURATION:PT2H15M0S
SUMMARY:Magic City Mavericks vs. Bama Bash
DESCRIPTION:Bmbl Summer 2026 - Hoover Parks and Recreation
LOCATION:Spain Park Field # 1
CATEGORIES:QuickScores, Baseball Game
TRANSP:OPAQUE
BEGIN:VALARM
TRIGGER:-PT2H
ACTION:DISPLAY
DESCRIPTION:Magic City Mavericks vs. Bama Bash
END:VALARM
END:VEVENT
BEGIN:VEVENT
UID:hoover-74571940-20260623T190000@quickscores.com
DTSTAMP:20260421T072500Z
DTSTART;TZID=America/Chicago:20260623T190000
DURATION:PT2H15M0S
SUMMARY:Bama Bash vs. Twins
DESCRIPTION:Bmbl Summer 2026 - Hoover Parks and Recreation
LOCATION:Spain Park Field # 1
CATEGORIES:QuickScores, Baseball Game
TRANSP:OPAQUE
BEGIN:VALARM
TRIGGER:-PT2H
ACTION:DISPLAY
DESCRIPTION:Bama Bash vs. Twins
END:VALARM
END:VEVENT
BEGIN:VEVENT
UID:hoover-74572270-20260630T190000@quickscores.com
DTSTAMP:20260421T072500Z
DTSTART;TZID=America/Chicago:20260630T190000
DURATION:PT2H15M0S
SUMMARY:Twins vs. Bama Bash
DESCRIPTION:Bmbl Summer 2026 - Hoover Parks and Recreation
LOCATION:Spain Park Field # 2
CATEGORIES:QuickScores, Baseball Game
TRANSP:OPAQUE
BEGIN:VALARM
TRIGGER:-PT2H
ACTION:DISPLAY
DESCRIPTION:Twins vs. Bama Bash
END:VALARM
END:VEVENT
BEGIN:VEVENT
UID:hoover-74572104-20260712T130000@quickscores.com
DTSTAMP:20260421T072500Z
DTSTART;TZID=America/Chicago:20260712T130000
DURATION:PT2H15M0S
SUMMARY:Juggernauts vs. Bama Bash
DESCRIPTION:Bmbl Summer 2026 - Hoover Parks and Recreation
LOCATION:Spain Park Field # 2
CATEGORIES:QuickScores, Baseball Game
TRANSP:OPAQUE
BEGIN:VALARM
TRIGGER:-PT2H
ACTION:DISPLAY
DESCRIPTION:Juggernauts vs. Bama Bash
END:VALARM
END:VEVENT
BEGIN:VEVENT
UID:hoover-74571941-20260716T190000@quickscores.com
DTSTAMP:20260421T072500Z
DTSTART;TZID=America/Chicago:20260716T190000
DURATION:PT2H15M0S
SUMMARY:Bama Bash vs. Juggernauts
DESCRIPTION:Bmbl Summer 2026 - Hoover Parks and Recreation
LOCATION:Spain Park Field # 1
CATEGORIES:QuickScores, Baseball Game
TRANSP:OPAQUE
BEGIN:VALARM
TRIGGER:-PT2H
ACTION:DISPLAY
DESCRIPTION:Bama Bash vs. Juggernauts
END:VALARM
END:VEVENT
BEGIN:VEVENT
UID:hoover-74572096-20260719T130000@quickscores.com
DTSTAMP:20260421T072500Z
DTSTART;TZID=America/Chicago:20260719T130000
DURATION:PT2H15M0S
SUMMARY:Cardinals vs. Bama Bash
DESCRIPTION:Bmbl Summer 2026 - Hoover Parks and Recreation
LOCATION:Spain Park Field # 1
CATEGORIES:QuickScores, Baseball Game
TRANSP:OPAQUE
BEGIN:VALARM
TRIGGER:-PT2H
ACTION:DISPLAY
DESCRIPTION:Cardinals vs. Bama Bash
END:VALARM
END:VEVENT
BEGIN:VEVENT
UID:hoover-74571987-20260721T190000@quickscores.com
DTSTAMP:20260421T072500Z
DTSTART;TZID=America/Chicago:20260721T190000
DURATION:PT2H15M0S
SUMMARY:Birmingham Billies vs. Bama Bash
DESCRIPTION:Bmbl Summer 2026 - Hoover Parks and Recreation
LOCATION:Spain Park Field # 1
CATEGORIES:QuickScores, Baseball Game
TRANSP:OPAQUE
BEGIN:VALARM
TRIGGER:-PT2H
ACTION:DISPLAY
DESCRIPTION:Birmingham Billies vs. Bama Bash
END:VALARM
END:VEVENT
BEGIN:VEVENT
UID:hoover-74572225-20260726T130000@quickscores.com
DTSTAMP:20260421T072500Z
DTSTART;TZID=America/Chicago:20260726T130000
DURATION:PT2H15M0S
SUMMARY:Red Sox vs. Bama Bash
DESCRIPTION:Bmbl Summer 2026 - Hoover Parks and Recreation
LOCATION:Spain Park Field # 2
CATEGORIES:QuickScores, Baseball Game
TRANSP:OPAQUE
BEGIN:VALARM
TRIGGER:-PT2H
ACTION:DISPLAY
DESCRIPTION:Red Sox vs. Bama Bash
END:VALARM
END:VEVENT
END:VCALENDAR
