BEGIN:VCALENDAR
VERSION:2.0
PRODID:-//QuickScores.com//BQ Dynamic iCal Creator//EN
METHOD:PUBLISH
X-WR-CALNAME:Sky - Girls 5th/6th Grade - Youth Basketball 2025 - 2026
X-WR-CALDESC:QuickScores game calendar
X-PUBLISHED-TTL:PT24H
REFRESH-INTERVAL;VALUE=DURATION:PT24H
CALSCALE:GREGORIAN
BEGIN:VTIMEZONE
TZID:America/Chicago
X-LIC-LOCATION:America/Chicago
BEGIN:DAYLIGHT
TZNAME:CDT
TZOFFSETFROM:-0600
TZOFFSETTO:-0500
DTSTART:19700308T020000
RRULE:FREQ=YEARLY;BYMONTH=3;BYDAY=2SU
END:DAYLIGHT
BEGIN:STANDARD
TZNAME:CST
TZOFFSETFROM:-0500
TZOFFSETTO:-0600
DTSTART:19701101T020000
RRULE:FREQ=YEARLY;BYMONTH=11;BYDAY=1SU
END:STANDARD
END:VTIMEZONE
BEGIN:VEVENT
UID:hoover-71954418-20260105T200000@quickscores.com
DTSTAMP:20260423T194400Z
DTSTART;TZID=America/Chicago:20260105T200000
DURATION:PT1H0M0S
SUMMARY:Sky vs. Aces
DESCRIPTION:Girls 5th/6th Grade - Hoover Parks and Recreation
LOCATION:Finley Center Court 2
CATEGORIES:QuickScores, Basketball - Youth Game
TRANSP:OPAQUE
BEGIN:VALARM
TRIGGER:-PT2H
ACTION:DISPLAY
DESCRIPTION:Sky vs. Aces
END:VALARM
END:VEVENT
BEGIN:VEVENT
UID:hoover-71954428-20260112T190000@quickscores.com
DTSTAMP:20260423T194400Z
DTSTART;TZID=America/Chicago:20260112T190000
DURATION:PT1H0M0S
SUMMARY:Liberty vs. Sky
DESCRIPTION:Girls 5th/6th Grade - Hoover Parks and Recreation
LOCATION:Finley Center Court 8
CATEGORIES:QuickScores, Basketball - Youth Game
TRANSP:OPAQUE
BEGIN:VALARM
TRIGGER:-PT2H
ACTION:DISPLAY
DESCRIPTION:Liberty vs. Sky
END:VALARM
END:VEVENT
BEGIN:VEVENT
UID:hoover-71954423-20260112T200000@quickscores.com
DTSTAMP:20260423T194400Z
DTSTART;TZID=America/Chicago:20260112T200000
DURATION:PT1H0M0S
SUMMARY:Sky vs. Fever
DESCRIPTION:Girls 5th/6th Grade - Hoover Parks and Recreation
LOCATION:Finley Center Court 7
CATEGORIES:QuickScores, Basketball - Youth Game
TRANSP:OPAQUE
BEGIN:VALARM
TRIGGER:-PT2H
ACTION:DISPLAY
DESCRIPTION:Sky vs. Fever
END:VALARM
END:VEVENT
BEGIN:VEVENT
UID:hoover-71954447-20260202T190000@quickscores.com
DTSTAMP:20260423T194400Z
DTSTART;TZID=America/Chicago:20260202T190000
DURATION:PT1H0M0S
SUMMARY:Sparks vs. Sky
DESCRIPTION:Girls 5th/6th Grade - Hoover Parks and Recreation
LOCATION:Finley Center Court 8
CATEGORIES:QuickScores, Basketball - Youth Game
TRANSP:OPAQUE
BEGIN:VALARM
TRIGGER:-PT2H
ACTION:DISPLAY
DESCRIPTION:Sparks vs. Sky
END:VALARM
END:VEVENT
BEGIN:VEVENT
UID:hoover-71954445-20260202T200000@quickscores.com
DTSTAMP:20260423T194400Z
DTSTART;TZID=America/Chicago:20260202T200000
DURATION:PT1H0M0S
SUMMARY:Sky vs. Wings
DESCRIPTION:Girls 5th/6th Grade - Hoover Parks and Recreation
LOCATION:Finley Center Court 8
CATEGORIES:QuickScores, Basketball - Youth Game
TRANSP:OPAQUE
BEGIN:VALARM
TRIGGER:-PT2H
ACTION:DISPLAY
DESCRIPTION:Sky vs. Wings
END:VALARM
END:VEVENT
BEGIN:VEVENT
UID:hoover-71954448-20260209T180000@quickscores.com
DTSTAMP:20260423T194400Z
DTSTART;TZID=America/Chicago:20260209T180000
DURATION:PT1H0M0S
SUMMARY:Lynx vs. Sky
DESCRIPTION:Girls 5th/6th Grade - Hoover Parks and Recreation
LOCATION:Berry Middle School Practice Gym
CATEGORIES:QuickScores, Basketball - Youth Game
TRANSP:OPAQUE
BEGIN:VALARM
TRIGGER:-PT2H
ACTION:DISPLAY
DESCRIPTION:Lynx vs. Sky
END:VALARM
END:VEVENT
BEGIN:VEVENT
UID:hoover-71954440-20260216T190000@quickscores.com
DTSTAMP:20260423T194400Z
DTSTART;TZID=America/Chicago:20260216T190000
DURATION:PT1H0M0S
SUMMARY:Sky vs. Dream
DESCRIPTION:Girls 5th/6th Grade - Hoover Parks and Recreation
LOCATION:Finley Center Court 8
CATEGORIES:QuickScores, Basketball - Youth Game
TRANSP:OPAQUE
BEGIN:VALARM
TRIGGER:-PT2H
ACTION:DISPLAY
DESCRIPTION:Sky vs. Dream
END:VALARM
END:VEVENT
BEGIN:VEVENT
UID:hoover-71954441-20260216T200000@quickscores.com
DTSTAMP:20260423T194400Z
DTSTART;TZID=America/Chicago:20260216T200000
DURATION:PT1H0M0S
SUMMARY:Storm vs. Sky
DESCRIPTION:Girls 5th/6th Grade - Hoover Parks and Recreation
LOCATION:Finley Center Court 7
CATEGORIES:QuickScores, Basketball - Youth Game
TRANSP:OPAQUE
BEGIN:VALARM
TRIGGER:-PT2H
ACTION:DISPLAY
DESCRIPTION:Storm vs. Sky
END:VALARM
END:VEVENT
END:VCALENDAR
