BEGIN:VCALENDAR
VERSION:2.0
PRODID:-//QuickScores.com//BQ Dynamic iCal Creator//EN
METHOD:PUBLISH
X-WR-CALNAME:Storm - Girls 5th/6th Grade - Youth Basketball 2025 - 2026
X-WR-CALDESC:QuickScores game calendar
X-PUBLISHED-TTL:PT24H
REFRESH-INTERVAL;VALUE=DURATION:PT24H
CALSCALE:GREGORIAN
BEGIN:VTIMEZONE
TZID:America/Chicago
X-LIC-LOCATION:America/Chicago
BEGIN:DAYLIGHT
TZNAME:CDT
TZOFFSETFROM:-0600
TZOFFSETTO:-0500
DTSTART:19700308T020000
RRULE:FREQ=YEARLY;BYMONTH=3;BYDAY=2SU
END:DAYLIGHT
BEGIN:STANDARD
TZNAME:CST
TZOFFSETFROM:-0500
TZOFFSETTO:-0600
DTSTART:19701101T020000
RRULE:FREQ=YEARLY;BYMONTH=11;BYDAY=1SU
END:STANDARD
END:VTIMEZONE
BEGIN:VEVENT
UID:hoover-71954417-20260105T200000@quickscores.com
DTSTAMP:20260422T212200Z
DTSTART;TZID=America/Chicago:20260105T200000
DURATION:PT1H0M0S
SUMMARY:Storm vs. Sparks
DESCRIPTION:Girls 5th/6th Grade - Hoover Parks and Recreation
LOCATION:Finley Center Court 1
CATEGORIES:QuickScores, Basketball - Youth Game
TRANSP:OPAQUE
BEGIN:VALARM
TRIGGER:-PT2H
ACTION:DISPLAY
DESCRIPTION:Storm vs. Sparks
END:VALARM
END:VEVENT
BEGIN:VEVENT
UID:hoover-71954435-20260123T180000@quickscores.com
DTSTAMP:20260422T212200Z
DTSTART;TZID=America/Chicago:20260123T180000
DURATION:PT1H0M0S
SUMMARY:Storm vs. Liberty
DESCRIPTION:Girls 5th/6th Grade - Hoover Parks and Recreation
LOCATION:Finley Center Court 8
CATEGORIES:QuickScores, Basketball - Youth Game
TRANSP:OPAQUE
BEGIN:VALARM
TRIGGER:-PT2H
ACTION:DISPLAY
DESCRIPTION:Storm vs. Liberty
END:VALARM
END:VEVENT
BEGIN:VEVENT
UID:hoover-71954431-20260123T200000@quickscores.com
DTSTAMP:20260422T212200Z
DTSTART;TZID=America/Chicago:20260123T200000
DURATION:PT1H0M0S
SUMMARY:Fever vs. Storm
DESCRIPTION:Girls 5th/6th Grade - Hoover Parks and Recreation
LOCATION:Finley Center Court 7
CATEGORIES:QuickScores, Basketball - Youth Game
TRANSP:OPAQUE
BEGIN:VALARM
TRIGGER:-PT2H
ACTION:DISPLAY
DESCRIPTION:Fever vs. Storm
END:VALARM
END:VEVENT
BEGIN:VEVENT
UID:hoover-71954446-20260202T190000@quickscores.com
DTSTAMP:20260422T212200Z
DTSTART;TZID=America/Chicago:20260202T190000
DURATION:PT1H0M0S
SUMMARY:Aces vs. Storm
DESCRIPTION:Girls 5th/6th Grade - Hoover Parks and Recreation
LOCATION:Finley Center Court 2
CATEGORIES:QuickScores, Basketball - Youth Game
TRANSP:OPAQUE
BEGIN:VALARM
TRIGGER:-PT2H
ACTION:DISPLAY
DESCRIPTION:Aces vs. Storm
END:VALARM
END:VEVENT
BEGIN:VEVENT
UID:hoover-71954444-20260202T200000@quickscores.com
DTSTAMP:20260422T212200Z
DTSTART;TZID=America/Chicago:20260202T200000
DURATION:PT1H0M0S
SUMMARY:Storm vs. Lynx
DESCRIPTION:Girls 5th/6th Grade - Hoover Parks and Recreation
LOCATION:Finley Center Court 2
CATEGORIES:QuickScores, Basketball - Youth Game
TRANSP:OPAQUE
BEGIN:VALARM
TRIGGER:-PT2H
ACTION:DISPLAY
DESCRIPTION:Storm vs. Lynx
END:VALARM
END:VEVENT
BEGIN:VEVENT
UID:hoover-71954449-20260209T190000@quickscores.com
DTSTAMP:20260422T212200Z
DTSTART;TZID=America/Chicago:20260209T190000
DURATION:PT1H0M0S
SUMMARY:Dream vs. Storm
DESCRIPTION:Girls 5th/6th Grade - Hoover Parks and Recreation
LOCATION:Berry Middle School Competitive Gym
CATEGORIES:QuickScores, Basketball - Youth Game
TRANSP:OPAQUE
BEGIN:VALARM
TRIGGER:-PT2H
ACTION:DISPLAY
DESCRIPTION:Dream vs. Storm
END:VALARM
END:VEVENT
BEGIN:VEVENT
UID:hoover-71954436-20260216T190000@quickscores.com
DTSTAMP:20260422T212200Z
DTSTART;TZID=America/Chicago:20260216T190000
DURATION:PT1H0M0S
SUMMARY:Wings vs. Storm
DESCRIPTION:Girls 5th/6th Grade - Hoover Parks and Recreation
LOCATION:Finley Center Court 7
CATEGORIES:QuickScores, Basketball - Youth Game
TRANSP:OPAQUE
BEGIN:VALARM
TRIGGER:-PT2H
ACTION:DISPLAY
DESCRIPTION:Wings vs. Storm
END:VALARM
END:VEVENT
BEGIN:VEVENT
UID:hoover-71954441-20260216T200000@quickscores.com
DTSTAMP:20260422T212200Z
DTSTART;TZID=America/Chicago:20260216T200000
DURATION:PT1H0M0S
SUMMARY:Storm vs. Sky
DESCRIPTION:Girls 5th/6th Grade - Hoover Parks and Recreation
LOCATION:Finley Center Court 7
CATEGORIES:QuickScores, Basketball - Youth Game
TRANSP:OPAQUE
BEGIN:VALARM
TRIGGER:-PT2H
ACTION:DISPLAY
DESCRIPTION:Storm vs. Sky
END:VALARM
END:VEVENT
BEGIN:VEVENT
UID:hoover-72010097-20260223T190000@quickscores.com
DTSTAMP:20260422T212200Z
DTSTART;TZID=America/Chicago:20260223T190000
DURATION:PT1H0M0S
SUMMARY:[2] Storm vs. [3] Fever
DESCRIPTION:Girls 5th/6th Grade - Hoover Parks and Recreation
LOCATION:Finley Center Court 10
CATEGORIES:QuickScores, Basketball - Youth Game
TRANSP:OPAQUE
BEGIN:VALARM
TRIGGER:-PT2H
ACTION:DISPLAY
DESCRIPTION:[2] Storm vs. [3] Fever
END:VALARM
END:VEVENT
END:VCALENDAR
